| Back to Multiple platform build/check report for BioC 3.18: simplified long |
|
This page was generated on 2024-04-17 11:38:18 -0400 (Wed, 17 Apr 2024).
| Hostname | OS | Arch (*) | R version | Installed pkgs |
|---|---|---|---|---|
| nebbiolo2 | Linux (Ubuntu 22.04.3 LTS) | x86_64 | 4.3.3 (2024-02-29) -- "Angel Food Cake" | 4676 |
| palomino4 | Windows Server 2022 Datacenter | x64 | 4.3.3 (2024-02-29 ucrt) -- "Angel Food Cake" | 4414 |
| merida1 | macOS 12.7.1 Monterey | x86_64 | 4.3.3 (2024-02-29) -- "Angel Food Cake" | 4437 |
| Click on any hostname to see more info about the system (e.g. compilers) (*) as reported by 'uname -p', except on Windows and Mac OS X | ||||
| Package 2079/2266 | Hostname | OS / Arch | INSTALL | BUILD | CHECK | BUILD BIN | ||||||||
| supraHex 1.40.0 (landing page) Hai Fang
| nebbiolo2 | Linux (Ubuntu 22.04.3 LTS) / x86_64 | OK | OK | OK | |||||||||
| palomino4 | Windows Server 2022 Datacenter / x64 | OK | OK | OK | OK | |||||||||
| merida1 | macOS 12.7.1 Monterey / x86_64 | OK | OK | OK | OK | |||||||||
| kjohnson1 | macOS 13.6.1 Ventura / arm64 | see weekly results here | ||||||||||||
|
To the developers/maintainers of the supraHex package: - Allow up to 24 hours (and sometimes 48 hours) for your latest push to git@git.bioconductor.org:packages/supraHex.git to reflect on this report. See Troubleshooting Build Report for more information. - Use the following Renviron settings to reproduce errors and warnings. - If 'R CMD check' started to fail recently on the Linux builder(s) over a missing dependency, add the missing dependency to 'Suggests:' in your DESCRIPTION file. See Renviron.bioc for more information. |
| Package: supraHex |
| Version: 1.40.0 |
| Command: /Library/Frameworks/R.framework/Resources/bin/R CMD check --install=check:supraHex.install-out.txt --library=/Library/Frameworks/R.framework/Resources/library --no-vignettes --timings supraHex_1.40.0.tar.gz |
| StartedAt: 2024-04-16 09:38:47 -0400 (Tue, 16 Apr 2024) |
| EndedAt: 2024-04-16 09:41:23 -0400 (Tue, 16 Apr 2024) |
| EllapsedTime: 156.3 seconds |
| RetCode: 0 |
| Status: OK |
| CheckDir: supraHex.Rcheck |
| Warnings: 0 |
##############################################################################
##############################################################################
###
### Running command:
###
### /Library/Frameworks/R.framework/Resources/bin/R CMD check --install=check:supraHex.install-out.txt --library=/Library/Frameworks/R.framework/Resources/library --no-vignettes --timings supraHex_1.40.0.tar.gz
###
##############################################################################
##############################################################################
* using log directory ‘/Users/biocbuild/bbs-3.18-bioc/meat/supraHex.Rcheck’
* using R version 4.3.3 (2024-02-29)
* using platform: x86_64-apple-darwin20 (64-bit)
* R was compiled by
Apple clang version 14.0.0 (clang-1400.0.29.202)
GNU Fortran (GCC) 12.2.0
* running under: macOS Monterey 12.7.1
* using session charset: UTF-8
* using option ‘--no-vignettes’
* checking for file ‘supraHex/DESCRIPTION’ ... OK
* checking extension type ... Package
* this is package ‘supraHex’ version ‘1.40.0’
* checking package namespace information ... OK
* checking package dependencies ... OK
* checking if this is a source package ... OK
* checking if there is a namespace ... OK
* checking for hidden files and directories ... OK
* checking for portable file names ... OK
* checking for sufficient/correct file permissions ... OK
* checking whether package ‘supraHex’ can be installed ... OK
* checking installed package size ... OK
* checking package directory ... OK
* checking ‘build’ directory ... OK
* checking DESCRIPTION meta-information ... OK
* checking top-level files ... OK
* checking for left-over files ... OK
* checking index information ... OK
* checking package subdirectories ... OK
* checking R files for non-ASCII characters ... OK
* checking R files for syntax errors ... OK
* checking whether the package can be loaded ... OK
* checking whether the package can be loaded with stated dependencies ... OK
* checking whether the package can be unloaded cleanly ... OK
* checking whether the namespace can be loaded with stated dependencies ... OK
* checking whether the namespace can be unloaded cleanly ... OK
* checking dependencies in R code ... OK
* checking S3 generic/method consistency ... OK
* checking replacement functions ... OK
* checking foreign function calls ... OK
* checking R code for possible problems ... OK
* checking Rd files ... OK
* checking Rd metadata ... OK
* checking Rd cross-references ... OK
* checking for missing documentation entries ... OK
* checking for code/documentation mismatches ... OK
* checking Rd \usage sections ... OK
* checking Rd contents ... OK
* checking for unstated dependencies in examples ... OK
* checking contents of ‘data’ directory ... OK
* checking data for non-ASCII characters ... OK
* checking data for ASCII and uncompressed saves ... OK
* checking sizes of PDF files under ‘inst/doc’ ... OK
* checking files in ‘vignettes’ ... OK
* checking examples ... OK
Examples with CPU (user + system) or elapsed time > 5s
user system elapsed
visCompReorder 6.684 0.231 7.268
sCompReorder 5.497 0.182 6.195
* checking for unstated dependencies in vignettes ... OK
* checking package vignettes in ‘inst/doc’ ... OK
* checking running R code from vignettes ... SKIPPED
* checking re-building of vignette outputs ... SKIPPED
* checking PDF version of manual ... OK
* DONE
Status: OK
supraHex.Rcheck/00install.out
############################################################################## ############################################################################## ### ### Running command: ### ### /Library/Frameworks/R.framework/Resources/bin/R CMD INSTALL supraHex ### ############################################################################## ############################################################################## * installing to library ‘/Library/Frameworks/R.framework/Versions/4.3-x86_64/Resources/library’ * installing *source* package ‘supraHex’ ... ** using staged installation ** R ** data ** inst ** byte-compile and prepare package for lazy loading ** help *** installing help indices ** building package indices ** installing vignettes ** testing if installed package can be loaded from temporary location ** testing if installed package can be loaded from final location ** testing if installed package keeps a record of temporary installation path * DONE (supraHex)
supraHex.Rcheck/supraHex-Ex.timings
| name | user | system | elapsed | |
| sBMH | 0.124 | 0.014 | 0.146 | |
| sCompReorder | 5.497 | 0.182 | 6.195 | |
| sDistance | 0.608 | 0.009 | 0.728 | |
| sDmat | 0.657 | 0.010 | 0.796 | |
| sDmatCluster | 0.885 | 0.012 | 1.043 | |
| sDmatMinima | 0.683 | 0.008 | 0.802 | |
| sHexDist | 0.015 | 0.001 | 0.020 | |
| sHexGrid | 0.003 | 0.000 | 0.004 | |
| sHexGridVariant | 0.003 | 0.004 | 0.008 | |
| sHexPolygon | 0.167 | 0.001 | 0.189 | |
| sInitial | 0.013 | 0.001 | 0.017 | |
| sMapOverlay | 0.727 | 0.026 | 0.868 | |
| sNeighAny | 0.020 | 0.001 | 0.025 | |
| sNeighDirect | 0.017 | 0.001 | 0.018 | |
| sPipeline | 0.001 | 0.001 | 0.002 | |
| sTopology | 0.087 | 0.020 | 0.123 | |
| sTrainBatch | 0.091 | 0.004 | 0.105 | |
| sTrainSeq | 0.797 | 0.006 | 0.908 | |
| sTrainology | 0.013 | 0.001 | 0.016 | |
| sWriteData | 1.491 | 0.052 | 1.710 | |
| visColoralpha | 0.007 | 0.001 | 0.007 | |
| visColorbar | 0.050 | 0.001 | 0.055 | |
| visColormap | 0.007 | 0.001 | 0.008 | |
| visCompReorder | 6.684 | 0.231 | 7.268 | |
| visDmatCluster | 0.001 | 0.001 | 0.001 | |
| visDmatHeatmap | 0.000 | 0.001 | 0.002 | |
| visHeatmap | 0.214 | 0.005 | 0.260 | |
| visHeatmapAdv | 0.872 | 0.018 | 1.045 | |
| visHexAnimate | 0.002 | 0.001 | 0.003 | |
| visHexBarplot | 1.627 | 0.077 | 1.983 | |
| visHexComp | 0.633 | 0.017 | 0.765 | |
| visHexGrid | 0.600 | 0.009 | 0.712 | |
| visHexMapping | 2.955 | 0.121 | 3.618 | |
| visHexMulComp | 2.066 | 0.094 | 2.581 | |
| visHexPattern | 2.925 | 0.249 | 3.734 | |
| visKernels | 0.019 | 0.017 | 0.040 | |
| visTreeBSclust | 0.001 | 0.001 | 0.002 | |
| visTreeBootstrap | 0.001 | 0.001 | 0.002 | |
| visVp | 0.033 | 0.017 | 0.059 | |