| Back to Multiple platform build/check report for BioC 3.18: simplified long |
|
This page was generated on 2024-04-17 11:38:16 -0400 (Wed, 17 Apr 2024).
| Hostname | OS | Arch (*) | R version | Installed pkgs |
|---|---|---|---|---|
| nebbiolo2 | Linux (Ubuntu 22.04.3 LTS) | x86_64 | 4.3.3 (2024-02-29) -- "Angel Food Cake" | 4676 |
| palomino4 | Windows Server 2022 Datacenter | x64 | 4.3.3 (2024-02-29 ucrt) -- "Angel Food Cake" | 4414 |
| merida1 | macOS 12.7.1 Monterey | x86_64 | 4.3.3 (2024-02-29) -- "Angel Food Cake" | 4437 |
| Click on any hostname to see more info about the system (e.g. compilers) (*) as reported by 'uname -p', except on Windows and Mac OS X | ||||
| Package 2001/2266 | Hostname | OS / Arch | INSTALL | BUILD | CHECK | BUILD BIN | ||||||||
| sparrow 1.8.0 (landing page) Steve Lianoglou
| nebbiolo2 | Linux (Ubuntu 22.04.3 LTS) / x86_64 | OK | OK | OK | |||||||||
| palomino4 | Windows Server 2022 Datacenter / x64 | OK | OK | OK | OK | |||||||||
| merida1 | macOS 12.7.1 Monterey / x86_64 | OK | OK | OK | OK | |||||||||
| kjohnson1 | macOS 13.6.1 Ventura / arm64 | see weekly results here | ||||||||||||
|
To the developers/maintainers of the sparrow package: - Allow up to 24 hours (and sometimes 48 hours) for your latest push to git@git.bioconductor.org:packages/sparrow.git to reflect on this report. See Troubleshooting Build Report for more information. - Use the following Renviron settings to reproduce errors and warnings. - If 'R CMD check' started to fail recently on the Linux builder(s) over a missing dependency, add the missing dependency to 'Suggests:' in your DESCRIPTION file. See Renviron.bioc for more information. |
| Package: sparrow |
| Version: 1.8.0 |
| Command: /Library/Frameworks/R.framework/Resources/bin/R CMD check --install=check:sparrow.install-out.txt --library=/Library/Frameworks/R.framework/Resources/library --no-vignettes --timings sparrow_1.8.0.tar.gz |
| StartedAt: 2024-04-16 09:12:46 -0400 (Tue, 16 Apr 2024) |
| EndedAt: 2024-04-16 09:32:15 -0400 (Tue, 16 Apr 2024) |
| EllapsedTime: 1168.7 seconds |
| RetCode: 0 |
| Status: OK |
| CheckDir: sparrow.Rcheck |
| Warnings: 0 |
##############################################################################
##############################################################################
###
### Running command:
###
### /Library/Frameworks/R.framework/Resources/bin/R CMD check --install=check:sparrow.install-out.txt --library=/Library/Frameworks/R.framework/Resources/library --no-vignettes --timings sparrow_1.8.0.tar.gz
###
##############################################################################
##############################################################################
* using log directory ‘/Users/biocbuild/bbs-3.18-bioc/meat/sparrow.Rcheck’
* using R version 4.3.3 (2024-02-29)
* using platform: x86_64-apple-darwin20 (64-bit)
* R was compiled by
Apple clang version 14.0.0 (clang-1400.0.29.202)
GNU Fortran (GCC) 12.2.0
* running under: macOS Monterey 12.7.1
* using session charset: UTF-8
* using option ‘--no-vignettes’
* checking for file ‘sparrow/DESCRIPTION’ ... OK
* checking extension type ... Package
* this is package ‘sparrow’ version ‘1.8.0’
* package encoding: UTF-8
* checking package namespace information ... OK
* checking package dependencies ... OK
* checking if this is a source package ... OK
* checking if there is a namespace ... OK
* checking for hidden files and directories ... OK
* checking for portable file names ... OK
* checking for sufficient/correct file permissions ... OK
* checking whether package ‘sparrow’ can be installed ... OK
* checking installed package size ... OK
* checking package directory ... OK
* checking ‘build’ directory ... OK
* checking DESCRIPTION meta-information ... OK
* checking top-level files ... OK
* checking for left-over files ... OK
* checking index information ... OK
* checking package subdirectories ... OK
* checking R files for non-ASCII characters ... OK
* checking R files for syntax errors ... OK
* checking whether the package can be loaded ... OK
* checking whether the package can be loaded with stated dependencies ... OK
* checking whether the package can be unloaded cleanly ... OK
* checking whether the namespace can be loaded with stated dependencies ... OK
* checking whether the namespace can be unloaded cleanly ... OK
* checking startup messages can be suppressed ... OK
* checking dependencies in R code ... OK
* checking S3 generic/method consistency ... OK
* checking replacement functions ... OK
* checking foreign function calls ... OK
* checking R code for possible problems ... NOTE
geneSetsStats: no visible binding for global variable ‘direction’
Undefined global functions or variables:
direction
* checking Rd files ... OK
* checking Rd metadata ... OK
* checking Rd cross-references ... OK
* checking for missing documentation entries ... OK
* checking for code/documentation mismatches ... OK
* checking Rd \usage sections ... OK
* checking Rd contents ... OK
* checking for unstated dependencies in examples ... OK
* checking line endings in Makefiles ... OK
* checking for GNU extensions in Makefiles ... OK
* checking include directives in Makefiles ... OK
* checking files in ‘vignettes’ ... OK
* checking examples ... OK
Examples with CPU (user + system) or elapsed time > 5s
user system elapsed
goseq 14.121 0.447 14.739
seas 11.774 0.507 12.621
scoreSingleSamples 9.187 0.331 10.066
annotateGeneSetMembership 8.296 0.154 8.701
SparrowResult-utilities 7.582 0.187 8.167
geneSetsStats 7.512 0.152 7.916
geneSetSummaryByGenes 6.390 0.120 6.758
logFC 6.160 0.115 6.487
eigenWeightedMean 5.288 0.147 5.674
volcanoPlot 5.051 0.224 5.534
calculateIndividualLogFC 4.967 0.219 5.748
* checking for unstated dependencies in ‘tests’ ... OK
* checking tests ...
Running ‘testthat.R’
OK
* checking for unstated dependencies in vignettes ... OK
* checking package vignettes in ‘inst/doc’ ... OK
* checking running R code from vignettes ... SKIPPED
* checking re-building of vignette outputs ... SKIPPED
* checking PDF version of manual ... OK
* DONE
Status: 1 NOTE
See
‘/Users/biocbuild/bbs-3.18-bioc/meat/sparrow.Rcheck/00check.log’
for details.
sparrow.Rcheck/00install.out
############################################################################## ############################################################################## ### ### Running command: ### ### /Library/Frameworks/R.framework/Resources/bin/R CMD INSTALL sparrow ### ############################################################################## ############################################################################## * installing to library ‘/Library/Frameworks/R.framework/Versions/4.3-x86_64/Resources/library’ * installing *source* package ‘sparrow’ ... ** using staged installation ** R ** inst ** byte-compile and prepare package for lazy loading ** help *** installing help indices *** copying figures ** building package indices ** installing vignettes ** testing if installed package can be loaded from temporary location ** testing if installed package can be loaded from final location ** testing if installed package keeps a record of temporary installation path * DONE (sparrow)
sparrow.Rcheck/tests/testthat.Rout
R version 4.3.3 (2024-02-29) -- "Angel Food Cake"
Copyright (C) 2024 The R Foundation for Statistical Computing
Platform: x86_64-apple-darwin20 (64-bit)
R is free software and comes with ABSOLUTELY NO WARRANTY.
You are welcome to redistribute it under certain conditions.
Type 'license()' or 'licence()' for distribution details.
R is a collaborative project with many contributors.
Type 'contributors()' for more information and
'citation()' on how to cite R or R packages in publications.
Type 'demo()' for some demos, 'help()' for on-line help, or
'help.start()' for an HTML browser interface to help.
Type 'q()' to quit R.
> library("sparrow")
> library("testthat")
> library("data.table")
> library("dplyr")
Attaching package: 'dplyr'
The following objects are masked from 'package:data.table':
between, first, last
The following object is masked from 'package:testthat':
matches
The following object is masked from 'package:sparrow':
combine
The following objects are masked from 'package:stats':
filter, lag
The following objects are masked from 'package:base':
intersect, setdiff, setequal, union
>
> test_check("sparrow")
Attaching package: 'magrittr'
The following objects are masked from 'package:testthat':
equals, is_less_than, not
[1] "Calculating ranks..."
[1] "Calculating absolute values from ranks..."
[1] "Normalizing..."
[1] "Calculating ranks..."
[1] "Calculating absolute values from ranks..."
[1] "Normalizing..."
[1] "Calculating ranks..."
[1] "Calculating absolute values from ranks..."
[1] "Normalizing..."
[1] "Calculating ranks..."
[1] "Calculating absolute values from ranks..."
[1] "Normalizing..."
[1] "Calculating ranks..."
[1] "Calculating absolute values from ranks..."
[1] "Normalizing..."
[1] "Calculating ranks..."
[1] "Calculating absolute values from ranks..."
[1] "Normalizing..."
[1] "Calculating ranks..."
[1] "Calculating absolute values from ranks..."
[1] "Normalizing..."
[ FAIL 0 | WARN 11 | SKIP 1 | PASS 1483 ]
══ Skipped tests (1) ═══════════════════════════════════════════════════════════
• empty test (1): 'test-MultiGSEAResult.R:3:1'
[ FAIL 0 | WARN 11 | SKIP 1 | PASS 1483 ]
>
> ## Remove temporary files that were generated
> test.dir <- system.file('tests', package = "sparrow")
> pdfs <- dir(test.dir, "\\.pdf$", full.names=TRUE)
> if (length(pdfs)) {
+ unlink(pdfs)
+ }
>
>
> proc.time()
user system elapsed
608.957 29.537 651.724
sparrow.Rcheck/sparrow-Ex.timings
| name | user | system | elapsed | |
| GeneSetDb-class | 0.144 | 0.008 | 0.157 | |
| SparrowResult-utilities | 7.582 | 0.187 | 8.167 | |
| addGeneSetMetadata | 0.112 | 0.004 | 0.117 | |
| annotateGeneSetMembership | 8.296 | 0.154 | 8.701 | |
| calculateIndividualLogFC | 4.967 | 0.219 | 5.748 | |
| collectionMetadata | 0.133 | 0.007 | 0.141 | |
| combine-GeneSetDb-GeneSetDb-method | 0.161 | 0.007 | 0.187 | |
| combine-SparrowResult-SparrowResult-method | 0.213 | 0.009 | 0.224 | |
| conform | 0.794 | 0.043 | 0.860 | |
| conversion | 1.096 | 0.048 | 1.202 | |
| convertIdentifiers | 0.293 | 0.008 | 0.315 | |
| corplot | 0.157 | 0.009 | 0.172 | |
| eigenWeightedMean | 5.288 | 0.147 | 5.674 | |
| examples | 0.606 | 0.191 | 0.829 | |
| failWith | 0.001 | 0.000 | 0.001 | |
| featureIdMap | 0.749 | 0.014 | 0.813 | |
| featureIds | 0.821 | 0.023 | 0.969 | |
| geneSet | 0.180 | 0.011 | 0.197 | |
| geneSetCollectionURLfunction | 0.108 | 0.002 | 0.112 | |
| geneSetSummaryByGenes | 6.390 | 0.120 | 6.758 | |
| geneSets | 0.099 | 0.003 | 0.107 | |
| geneSetsStats | 7.512 | 0.152 | 7.916 | |
| getKeggCollection | 0.001 | 0.000 | 0.001 | |
| getMSigCollection | 0.000 | 0.000 | 0.001 | |
| getPantherCollection | 0.000 | 0.000 | 0.001 | |
| getReactomeCollection | 0.000 | 0.000 | 0.001 | |
| goseq | 14.121 | 0.447 | 14.739 | |
| gsdScore | 1.736 | 0.041 | 1.824 | |
| gskey | 0.005 | 0.001 | 0.006 | |
| hasGeneSet | 0.105 | 0.002 | 0.110 | |
| hasGeneSetCollection | 0.103 | 0.002 | 0.106 | |
| incidenceMatrix | 3.184 | 0.054 | 3.363 | |
| iplot | 2.270 | 0.230 | 2.704 | |
| is.active | 0.673 | 0.091 | 0.829 | |
| logFC | 6.160 | 0.115 | 6.487 | |
| mgheatmap | 0.000 | 0.000 | 0.001 | |
| mgheatmap2 | 0.000 | 0.001 | 0.000 | |
| msg | 0.001 | 0.001 | 0.001 | |
| ora | 0.454 | 0.020 | 0.499 | |
| p.matrix | 0.152 | 0.003 | 0.160 | |
| randomGeneSetDb | 0.146 | 0.011 | 0.162 | |
| renameCollections | 0.134 | 0.003 | 0.143 | |
| renameRows | 0.666 | 0.009 | 0.691 | |
| results | 0.196 | 0.014 | 0.215 | |
| scale_rows | 0.008 | 0.002 | 0.008 | |
| scoreSingleSamples | 9.187 | 0.331 | 10.066 | |
| seas | 11.774 | 0.507 | 12.621 | |
| sparrow_methods | 0.006 | 0.003 | 0.009 | |
| species_info | 0.012 | 0.005 | 0.018 | |
| subset.GeneSetDb | 0.115 | 0.004 | 0.124 | |
| subsetByFeatures | 0.138 | 0.006 | 0.149 | |
| validateInputs | 0.259 | 0.017 | 0.284 | |
| volcanoPlot | 5.051 | 0.224 | 5.534 | |
| volcanoStatsTable | 0.123 | 0.004 | 0.129 | |
| zScore | 1.589 | 0.033 | 1.665 | |