| Back to Multiple platform build/check report for BioC 3.18: simplified long |
|
This page was generated on 2024-04-17 11:38:15 -0400 (Wed, 17 Apr 2024).
| Hostname | OS | Arch (*) | R version | Installed pkgs |
|---|---|---|---|---|
| nebbiolo2 | Linux (Ubuntu 22.04.3 LTS) | x86_64 | 4.3.3 (2024-02-29) -- "Angel Food Cake" | 4676 |
| palomino4 | Windows Server 2022 Datacenter | x64 | 4.3.3 (2024-02-29 ucrt) -- "Angel Food Cake" | 4414 |
| merida1 | macOS 12.7.1 Monterey | x86_64 | 4.3.3 (2024-02-29) -- "Angel Food Cake" | 4437 |
| Click on any hostname to see more info about the system (e.g. compilers) (*) as reported by 'uname -p', except on Windows and Mac OS X | ||||
| Package 1971/2266 | Hostname | OS / Arch | INSTALL | BUILD | CHECK | BUILD BIN | ||||||||
| singleCellTK 2.12.2 (landing page) Joshua David Campbell
| nebbiolo2 | Linux (Ubuntu 22.04.3 LTS) / x86_64 | OK | OK | OK | |||||||||
| palomino4 | Windows Server 2022 Datacenter / x64 | OK | OK | OK | OK | |||||||||
| merida1 | macOS 12.7.1 Monterey / x86_64 | OK | OK | OK | OK | |||||||||
| kjohnson1 | macOS 13.6.1 Ventura / arm64 | see weekly results here | ||||||||||||
|
To the developers/maintainers of the singleCellTK package: - Allow up to 24 hours (and sometimes 48 hours) for your latest push to git@git.bioconductor.org:packages/singleCellTK.git to reflect on this report. See Troubleshooting Build Report for more information. - Use the following Renviron settings to reproduce errors and warnings. - If 'R CMD check' started to fail recently on the Linux builder(s) over a missing dependency, add the missing dependency to 'Suggests:' in your DESCRIPTION file. See Renviron.bioc for more information. |
| Package: singleCellTK |
| Version: 2.12.2 |
| Command: /Library/Frameworks/R.framework/Resources/bin/R CMD check --install=check:singleCellTK.install-out.txt --library=/Library/Frameworks/R.framework/Resources/library --no-vignettes --timings singleCellTK_2.12.2.tar.gz |
| StartedAt: 2024-04-16 09:01:57 -0400 (Tue, 16 Apr 2024) |
| EndedAt: 2024-04-16 09:30:55 -0400 (Tue, 16 Apr 2024) |
| EllapsedTime: 1738.2 seconds |
| RetCode: 0 |
| Status: OK |
| CheckDir: singleCellTK.Rcheck |
| Warnings: 0 |
##############################################################################
##############################################################################
###
### Running command:
###
### /Library/Frameworks/R.framework/Resources/bin/R CMD check --install=check:singleCellTK.install-out.txt --library=/Library/Frameworks/R.framework/Resources/library --no-vignettes --timings singleCellTK_2.12.2.tar.gz
###
##############################################################################
##############################################################################
* using log directory ‘/Users/biocbuild/bbs-3.18-bioc/meat/singleCellTK.Rcheck’
* using R version 4.3.3 (2024-02-29)
* using platform: x86_64-apple-darwin20 (64-bit)
* R was compiled by
Apple clang version 14.0.0 (clang-1400.0.29.202)
GNU Fortran (GCC) 12.2.0
* running under: macOS Monterey 12.7.1
* using session charset: UTF-8
* using option ‘--no-vignettes’
* checking for file ‘singleCellTK/DESCRIPTION’ ... OK
* checking extension type ... Package
* this is package ‘singleCellTK’ version ‘2.12.2’
* package encoding: UTF-8
* checking package namespace information ... OK
* checking package dependencies ... OK
* checking if this is a source package ... OK
* checking if there is a namespace ... OK
* checking for hidden files and directories ... OK
* checking for portable file names ... OK
* checking for sufficient/correct file permissions ... OK
* checking whether package ‘singleCellTK’ can be installed ... OK
* checking installed package size ... NOTE
installed size is 6.8Mb
sub-directories of 1Mb or more:
extdata 1.5Mb
shiny 2.9Mb
* checking package directory ... OK
* checking ‘build’ directory ... OK
* checking DESCRIPTION meta-information ... OK
* checking top-level files ... OK
* checking for left-over files ... OK
* checking index information ... OK
* checking package subdirectories ... OK
* checking R files for non-ASCII characters ... OK
* checking R files for syntax errors ... OK
* checking whether the package can be loaded ... OK
* checking whether the package can be loaded with stated dependencies ... OK
* checking whether the package can be unloaded cleanly ... OK
* checking whether the namespace can be loaded with stated dependencies ... OK
* checking whether the namespace can be unloaded cleanly ... OK
* checking startup messages can be suppressed ... OK
* checking dependencies in R code ... OK
* checking S3 generic/method consistency ... OK
* checking replacement functions ... OK
* checking foreign function calls ... OK
* checking R code for possible problems ... OK
* checking Rd files ... OK
* checking Rd metadata ... OK
* checking Rd cross-references ... OK
* checking for missing documentation entries ... OK
* checking for code/documentation mismatches ... OK
* checking Rd \usage sections ... OK
* checking Rd contents ... OK
* checking for unstated dependencies in examples ... OK
* checking contents of ‘data’ directory ... OK
* checking data for non-ASCII characters ... OK
* checking data for ASCII and uncompressed saves ... OK
* checking R/sysdata.rda ... OK
* checking files in ‘vignettes’ ... OK
* checking examples ... OK
Examples with CPU (user + system) or elapsed time > 5s
user system elapsed
plotScDblFinderResults 46.483 1.125 51.647
plotDoubletFinderResults 43.702 0.297 45.226
runDoubletFinder 37.724 0.224 39.920
runScDblFinder 32.528 0.521 34.439
importExampleData 25.910 2.615 30.939
plotBatchCorrCompare 13.939 0.317 15.236
plotScdsHybridResults 13.025 0.302 14.086
plotBcdsResults 11.715 0.307 12.748
plotTSCANClusterDEG 11.762 0.166 12.941
plotDecontXResults 11.230 0.153 11.796
plotFindMarkerHeatmap 10.550 0.063 11.527
plotEmptyDropsScatter 10.353 0.049 10.981
runDecontX 10.286 0.088 10.873
plotDEGViolin 10.052 0.283 11.563
plotEmptyDropsResults 10.263 0.046 10.508
runEmptyDrops 9.713 0.042 10.122
runSeuratSCTransform 8.919 0.131 9.309
plotCxdsResults 8.849 0.103 9.156
convertSCEToSeurat 8.364 0.326 9.011
plotDEGRegression 8.389 0.195 9.599
detectCellOutlier 7.986 0.250 8.962
runUMAP 8.007 0.076 8.373
getFindMarkerTopTable 7.834 0.112 8.373
plotUMAP 7.749 0.093 8.485
runFindMarker 7.595 0.075 8.022
plotDEGHeatmap 6.363 0.138 6.614
importGeneSetsFromMSigDB 5.747 0.205 6.168
plotTSCANClusterPseudo 5.294 0.047 5.763
plotTSCANPseudotimeHeatmap 5.140 0.048 5.599
plotTSCANDimReduceFeatures 5.083 0.043 5.580
plotTSCANResults 5.062 0.044 5.557
plotTSCANPseudotimeGenes 4.989 0.040 5.460
plotRunPerCellQCResults 4.931 0.039 5.272
getEnrichRResult 0.684 0.056 20.790
runEnrichR 0.626 0.038 17.305
* checking for unstated dependencies in ‘tests’ ... OK
* checking tests ...
Running ‘spelling.R’
Running ‘testthat.R’
OK
* checking for unstated dependencies in vignettes ... OK
* checking package vignettes in ‘inst/doc’ ... OK
* checking running R code from vignettes ... SKIPPED
* checking re-building of vignette outputs ... SKIPPED
* checking PDF version of manual ... OK
* DONE
Status: 1 NOTE
See
‘/Users/biocbuild/bbs-3.18-bioc/meat/singleCellTK.Rcheck/00check.log’
for details.
singleCellTK.Rcheck/00install.out
############################################################################## ############################################################################## ### ### Running command: ### ### /Library/Frameworks/R.framework/Resources/bin/R CMD INSTALL singleCellTK ### ############################################################################## ############################################################################## * installing to library ‘/Library/Frameworks/R.framework/Versions/4.3-x86_64/Resources/library’ * installing *source* package ‘singleCellTK’ ... ** using staged installation ** R ** data ** exec ** inst ** byte-compile and prepare package for lazy loading ** help *** installing help indices ** building package indices ** installing vignettes ** testing if installed package can be loaded from temporary location ** testing if installed package can be loaded from final location ** testing if installed package keeps a record of temporary installation path * DONE (singleCellTK)
singleCellTK.Rcheck/tests/spelling.Rout
R version 4.3.3 (2024-02-29) -- "Angel Food Cake"
Copyright (C) 2024 The R Foundation for Statistical Computing
Platform: x86_64-apple-darwin20 (64-bit)
R is free software and comes with ABSOLUTELY NO WARRANTY.
You are welcome to redistribute it under certain conditions.
Type 'license()' or 'licence()' for distribution details.
R is a collaborative project with many contributors.
Type 'contributors()' for more information and
'citation()' on how to cite R or R packages in publications.
Type 'demo()' for some demos, 'help()' for on-line help, or
'help.start()' for an HTML browser interface to help.
Type 'q()' to quit R.
> if (requireNamespace('spelling', quietly = TRUE))
+ spelling::spell_check_test(vignettes = TRUE, error = FALSE, skip_on_cran = TRUE)
NULL
>
> proc.time()
user system elapsed
0.353 0.110 0.438
singleCellTK.Rcheck/tests/testthat.Rout
R version 4.3.3 (2024-02-29) -- "Angel Food Cake"
Copyright (C) 2024 The R Foundation for Statistical Computing
Platform: x86_64-apple-darwin20 (64-bit)
R is free software and comes with ABSOLUTELY NO WARRANTY.
You are welcome to redistribute it under certain conditions.
Type 'license()' or 'licence()' for distribution details.
R is a collaborative project with many contributors.
Type 'contributors()' for more information and
'citation()' on how to cite R or R packages in publications.
Type 'demo()' for some demos, 'help()' for on-line help, or
'help.start()' for an HTML browser interface to help.
Type 'q()' to quit R.
> library(testthat)
> library(singleCellTK)
Loading required package: SummarizedExperiment
Loading required package: MatrixGenerics
Loading required package: matrixStats
Attaching package: 'MatrixGenerics'
The following objects are masked from 'package:matrixStats':
colAlls, colAnyNAs, colAnys, colAvgsPerRowSet, colCollapse,
colCounts, colCummaxs, colCummins, colCumprods, colCumsums,
colDiffs, colIQRDiffs, colIQRs, colLogSumExps, colMadDiffs,
colMads, colMaxs, colMeans2, colMedians, colMins, colOrderStats,
colProds, colQuantiles, colRanges, colRanks, colSdDiffs, colSds,
colSums2, colTabulates, colVarDiffs, colVars, colWeightedMads,
colWeightedMeans, colWeightedMedians, colWeightedSds,
colWeightedVars, rowAlls, rowAnyNAs, rowAnys, rowAvgsPerColSet,
rowCollapse, rowCounts, rowCummaxs, rowCummins, rowCumprods,
rowCumsums, rowDiffs, rowIQRDiffs, rowIQRs, rowLogSumExps,
rowMadDiffs, rowMads, rowMaxs, rowMeans2, rowMedians, rowMins,
rowOrderStats, rowProds, rowQuantiles, rowRanges, rowRanks,
rowSdDiffs, rowSds, rowSums2, rowTabulates, rowVarDiffs, rowVars,
rowWeightedMads, rowWeightedMeans, rowWeightedMedians,
rowWeightedSds, rowWeightedVars
Loading required package: GenomicRanges
Loading required package: stats4
Loading required package: BiocGenerics
Attaching package: 'BiocGenerics'
The following objects are masked from 'package:stats':
IQR, mad, sd, var, xtabs
The following objects are masked from 'package:base':
Filter, Find, Map, Position, Reduce, anyDuplicated, aperm, append,
as.data.frame, basename, cbind, colnames, dirname, do.call,
duplicated, eval, evalq, get, grep, grepl, intersect, is.unsorted,
lapply, mapply, match, mget, order, paste, pmax, pmax.int, pmin,
pmin.int, rank, rbind, rownames, sapply, setdiff, sort, table,
tapply, union, unique, unsplit, which.max, which.min
Loading required package: S4Vectors
Attaching package: 'S4Vectors'
The following object is masked from 'package:utils':
findMatches
The following objects are masked from 'package:base':
I, expand.grid, unname
Loading required package: IRanges
Loading required package: GenomeInfoDb
Loading required package: Biobase
Welcome to Bioconductor
Vignettes contain introductory material; view with
'browseVignettes()'. To cite Bioconductor, see
'citation("Biobase")', and for packages 'citation("pkgname")'.
Attaching package: 'Biobase'
The following object is masked from 'package:MatrixGenerics':
rowMedians
The following objects are masked from 'package:matrixStats':
anyMissing, rowMedians
Loading required package: SingleCellExperiment
Loading required package: DelayedArray
Loading required package: Matrix
Attaching package: 'Matrix'
The following object is masked from 'package:S4Vectors':
expand
Loading required package: S4Arrays
Loading required package: abind
Attaching package: 'S4Arrays'
The following object is masked from 'package:abind':
abind
The following object is masked from 'package:base':
rowsum
Loading required package: SparseArray
Attaching package: 'DelayedArray'
The following objects are masked from 'package:base':
apply, scale, sweep
Attaching package: 'singleCellTK'
The following object is masked from 'package:BiocGenerics':
plotPCA
>
> test_check("singleCellTK")
Found 2 batches
Using null model in ComBat-seq.
Adjusting for 0 covariate(s) or covariate level(s)
Estimating dispersions
Fitting the GLM model
Shrinkage off - using GLM estimates for parameters
Adjusting the data
Found 2 batches
Using null model in ComBat-seq.
Adjusting for 1 covariate(s) or covariate level(s)
Estimating dispersions
Fitting the GLM model
Shrinkage off - using GLM estimates for parameters
Adjusting the data
Performing log-normalization
0% 10 20 30 40 50 60 70 80 90 100%
[----|----|----|----|----|----|----|----|----|----|
**************************************************|
|
| | 0%
|
|======================================================================| 100%
Calculating gene variances
0% 10 20 30 40 50 60 70 80 90 100%
[----|----|----|----|----|----|----|----|----|----|
**************************************************|
Calculating feature variances of standardized and clipped values
0% 10 20 30 40 50 60 70 80 90 100%
[----|----|----|----|----|----|----|----|----|----|
**************************************************|
|
| | 0%
|
|======================================================================| 100%
|
| | 0%
|
|======================================================================| 100%
Calculating gene variances
0% 10 20 30 40 50 60 70 80 90 100%
[----|----|----|----|----|----|----|----|----|----|
**************************************************|
Calculating feature variances of standardized and clipped values
0% 10 20 30 40 50 60 70 80 90 100%
[----|----|----|----|----|----|----|----|----|----|
**************************************************|
Uploading data to Enrichr... Done.
Querying HDSigDB_Human_2021... Done.
Parsing results... Done.
Performing log-normalization
0% 10 20 30 40 50 60 70 80 90 100%
[----|----|----|----|----|----|----|----|----|----|
**************************************************|
Calculating gene variances
0% 10 20 30 40 50 60 70 80 90 100%
[----|----|----|----|----|----|----|----|----|----|
**************************************************|
Calculating feature variances of standardized and clipped values
0% 10 20 30 40 50 60 70 80 90 100%
[----|----|----|----|----|----|----|----|----|----|
**************************************************|
Calculating gene means
0% 10 20 30 40 50 60 70 80 90 100%
[----|----|----|----|----|----|----|----|----|----|
**************************************************|
Calculating gene variance to mean ratios
0% 10 20 30 40 50 60 70 80 90 100%
[----|----|----|----|----|----|----|----|----|----|
**************************************************|
Calculating gene means
0% 10 20 30 40 50 60 70 80 90 100%
[----|----|----|----|----|----|----|----|----|----|
**************************************************|
Calculating gene variance to mean ratios
0% 10 20 30 40 50 60 70 80 90 100%
[----|----|----|----|----|----|----|----|----|----|
**************************************************|
Estimating GSVA scores for 34 gene sets.
Estimating ECDFs with Gaussian kernels
|
| | 0%
|
|== | 3%
|
|==== | 6%
|
|====== | 9%
|
|======== | 12%
|
|========== | 15%
|
|============ | 18%
|
|============== | 21%
|
|================ | 24%
|
|=================== | 26%
|
|===================== | 29%
|
|======================= | 32%
|
|========================= | 35%
|
|=========================== | 38%
|
|============================= | 41%
|
|=============================== | 44%
|
|================================= | 47%
|
|=================================== | 50%
|
|===================================== | 53%
|
|======================================= | 56%
|
|========================================= | 59%
|
|=========================================== | 62%
|
|============================================= | 65%
|
|=============================================== | 68%
|
|================================================= | 71%
|
|=================================================== | 74%
|
|====================================================== | 76%
|
|======================================================== | 79%
|
|========================================================== | 82%
|
|============================================================ | 85%
|
|============================================================== | 88%
|
|================================================================ | 91%
|
|================================================================== | 94%
|
|==================================================================== | 97%
|
|======================================================================| 100%
Estimating GSVA scores for 2 gene sets.
Estimating ECDFs with Gaussian kernels
|
| | 0%
|
|=================================== | 50%
|
|======================================================================| 100%
Performing log-normalization
0% 10 20 30 40 50 60 70 80 90 100%
[----|----|----|----|----|----|----|----|----|----|
**************************************************|
Calculating gene variances
0% 10 20 30 40 50 60 70 80 90 100%
[----|----|----|----|----|----|----|----|----|----|
**************************************************|
Calculating feature variances of standardized and clipped values
0% 10 20 30 40 50 60 70 80 90 100%
[----|----|----|----|----|----|----|----|----|----|
**************************************************|
|
| | 0%
|
|======================================================================| 100%
Performing log-normalization
0% 10 20 30 40 50 60 70 80 90 100%
[----|----|----|----|----|----|----|----|----|----|
**************************************************|
|
| | 0%
|
|======================================================================| 100%
Calculating gene variances
0% 10 20 30 40 50 60 70 80 90 100%
[----|----|----|----|----|----|----|----|----|----|
**************************************************|
Calculating feature variances of standardized and clipped values
0% 10 20 30 40 50 60 70 80 90 100%
[----|----|----|----|----|----|----|----|----|----|
**************************************************|
|
| | 0%
|
|======================================================================| 100%
|
| | 0%
|
|======================================================================| 100%
Modularity Optimizer version 1.3.0 by Ludo Waltman and Nees Jan van Eck
Number of nodes: 390
Number of edges: 9849
Running Louvain algorithm...
0% 10 20 30 40 50 60 70 80 90 100%
[----|----|----|----|----|----|----|----|----|----|
**************************************************|
Maximum modularity in 10 random starts: 0.8351
Number of communities: 7
Elapsed time: 0 seconds
Using method 'umap'
0% 10 20 30 40 50 60 70 80 90 100%
[----|----|----|----|----|----|----|----|----|----|
**************************************************|
|
| | 0%
|
|======================================================================| 100%
|
| | 0%
|
|======================================================================| 100%
0% 10 20 30 40 50 60 70 80 90 100%
[----|----|----|----|----|----|----|----|----|----|
**************************************************|
0% 10 20 30 40 50 60 70 80 90 100%
[----|----|----|----|----|----|----|----|----|----|
**************************************************|
|
| | 0%
|
|======================================================================| 100%
|
| | 0%
|
|======================================================================| 100%
|
| | 0%
|
|======================================================================| 100%
|
| | 0%
|
|======================================================================| 100%
|
| | 0%
|
|======================================================================| 100%
Performing log-normalization
0% 10 20 30 40 50 60 70 80 90 100%
[----|----|----|----|----|----|----|----|----|----|
**************************************************|
[ FAIL 0 | WARN 22 | SKIP 0 | PASS 223 ]
[ FAIL 0 | WARN 22 | SKIP 0 | PASS 223 ]
>
> proc.time()
user system elapsed
455.250 9.379 493.792
singleCellTK.Rcheck/singleCellTK-Ex.timings
| name | user | system | elapsed | |
| MitoGenes | 0.005 | 0.005 | 0.110 | |
| SEG | 0.004 | 0.005 | 0.011 | |
| calcEffectSizes | 0.525 | 0.020 | 0.553 | |
| combineSCE | 3.784 | 0.079 | 3.968 | |
| computeZScore | 0.438 | 0.037 | 2.801 | |
| convertSCEToSeurat | 8.364 | 0.326 | 9.011 | |
| convertSeuratToSCE | 1.001 | 0.023 | 1.042 | |
| dedupRowNames | 0.108 | 0.007 | 0.159 | |
| detectCellOutlier | 7.986 | 0.250 | 8.962 | |
| diffAbundanceFET | 0.098 | 0.006 | 0.111 | |
| discreteColorPalette | 0.010 | 0.001 | 0.011 | |
| distinctColors | 0.004 | 0.000 | 0.004 | |
| downSampleCells | 1.423 | 0.168 | 1.681 | |
| downSampleDepth | 1.156 | 0.046 | 1.291 | |
| expData-ANY-character-method | 0.681 | 0.009 | 0.737 | |
| expData-set-ANY-character-CharacterOrNullOrMissing-logical-method | 0.763 | 0.012 | 0.808 | |
| expData-set | 0.740 | 0.013 | 0.795 | |
| expData | 0.743 | 0.069 | 0.901 | |
| expDataNames-ANY-method | 0.654 | 0.011 | 0.738 | |
| expDataNames | 0.646 | 0.008 | 0.716 | |
| expDeleteDataTag | 0.062 | 0.003 | 0.072 | |
| expSetDataTag | 0.044 | 0.003 | 0.049 | |
| expTaggedData | 0.047 | 0.002 | 0.051 | |
| exportSCE | 0.041 | 0.007 | 0.054 | |
| exportSCEtoAnnData | 0.143 | 0.003 | 0.151 | |
| exportSCEtoFlatFile | 0.142 | 0.005 | 0.152 | |
| featureIndex | 0.068 | 0.008 | 0.085 | |
| generateSimulatedData | 0.094 | 0.010 | 0.106 | |
| getBiomarker | 0.115 | 0.011 | 0.133 | |
| getDEGTopTable | 1.898 | 0.057 | 2.118 | |
| getDiffAbundanceResults | 0.086 | 0.005 | 0.100 | |
| getEnrichRResult | 0.684 | 0.056 | 20.790 | |
| getFindMarkerTopTable | 7.834 | 0.112 | 8.373 | |
| getMSigDBTable | 0.008 | 0.006 | 0.014 | |
| getPathwayResultNames | 0.041 | 0.006 | 0.050 | |
| getSampleSummaryStatsTable | 0.677 | 0.011 | 0.756 | |
| getSoupX | 0.000 | 0.001 | 0.001 | |
| getTSCANResults | 3.922 | 0.061 | 4.208 | |
| getTopHVG | 2.190 | 0.029 | 2.339 | |
| importAnnData | 0.003 | 0.000 | 0.004 | |
| importBUStools | 0.594 | 0.008 | 0.624 | |
| importCellRanger | 2.479 | 0.064 | 2.666 | |
| importCellRangerV2Sample | 0.597 | 0.014 | 0.644 | |
| importCellRangerV3Sample | 0.858 | 0.025 | 0.967 | |
| importDropEst | 0.689 | 0.008 | 0.811 | |
| importExampleData | 25.910 | 2.615 | 30.939 | |
| importGeneSetsFromCollection | 1.618 | 0.152 | 1.860 | |
| importGeneSetsFromGMT | 0.131 | 0.010 | 0.145 | |
| importGeneSetsFromList | 0.269 | 0.012 | 0.295 | |
| importGeneSetsFromMSigDB | 5.747 | 0.205 | 6.168 | |
| importMitoGeneSet | 0.102 | 0.013 | 0.115 | |
| importOptimus | 0.002 | 0.001 | 0.003 | |
| importSEQC | 0.550 | 0.039 | 0.594 | |
| importSTARsolo | 0.629 | 0.082 | 0.717 | |
| iterateSimulations | 0.782 | 0.043 | 0.829 | |
| listSampleSummaryStatsTables | 0.808 | 0.009 | 0.825 | |
| mergeSCEColData | 0.970 | 0.037 | 1.173 | |
| mouseBrainSubsetSCE | 0.064 | 0.009 | 0.090 | |
| msigdb_table | 0.003 | 0.005 | 0.009 | |
| plotBarcodeRankDropsResults | 1.828 | 0.041 | 2.010 | |
| plotBarcodeRankScatter | 1.931 | 0.041 | 2.260 | |
| plotBatchCorrCompare | 13.939 | 0.317 | 15.236 | |
| plotBatchVariance | 0.722 | 0.048 | 0.828 | |
| plotBcdsResults | 11.715 | 0.307 | 12.748 | |
| plotBubble | 2.351 | 0.038 | 2.514 | |
| plotClusterAbundance | 1.886 | 0.023 | 2.109 | |
| plotCxdsResults | 8.849 | 0.103 | 9.156 | |
| plotDEGHeatmap | 6.363 | 0.138 | 6.614 | |
| plotDEGRegression | 8.389 | 0.195 | 9.599 | |
| plotDEGViolin | 10.052 | 0.283 | 11.563 | |
| plotDEGVolcano | 2.147 | 0.038 | 2.305 | |
| plotDecontXResults | 11.230 | 0.153 | 11.796 | |
| plotDimRed | 0.583 | 0.012 | 0.632 | |
| plotDoubletFinderResults | 43.702 | 0.297 | 45.226 | |
| plotEmptyDropsResults | 10.263 | 0.046 | 10.508 | |
| plotEmptyDropsScatter | 10.353 | 0.049 | 10.981 | |
| plotFindMarkerHeatmap | 10.550 | 0.063 | 11.527 | |
| plotMASTThresholdGenes | 3.637 | 0.044 | 3.960 | |
| plotPCA | 1.131 | 0.020 | 1.303 | |
| plotPathway | 1.871 | 0.020 | 1.992 | |
| plotRunPerCellQCResults | 4.931 | 0.039 | 5.272 | |
| plotSCEBarAssayData | 0.387 | 0.011 | 0.426 | |
| plotSCEBarColData | 0.308 | 0.009 | 0.346 | |
| plotSCEBatchFeatureMean | 0.532 | 0.006 | 0.579 | |
| plotSCEDensity | 0.464 | 0.012 | 0.521 | |
| plotSCEDensityAssayData | 0.371 | 0.010 | 0.408 | |
| plotSCEDensityColData | 0.465 | 0.011 | 0.516 | |
| plotSCEDimReduceColData | 1.646 | 0.021 | 1.812 | |
| plotSCEDimReduceFeatures | 0.820 | 0.012 | 0.896 | |
| plotSCEHeatmap | 1.507 | 0.013 | 1.637 | |
| plotSCEScatter | 0.789 | 0.014 | 0.877 | |
| plotSCEViolin | 0.530 | 0.011 | 0.582 | |
| plotSCEViolinAssayData | 0.556 | 0.010 | 0.580 | |
| plotSCEViolinColData | 0.521 | 0.011 | 0.565 | |
| plotScDblFinderResults | 46.483 | 1.125 | 51.647 | |
| plotScanpyDotPlot | 0.040 | 0.004 | 0.050 | |
| plotScanpyEmbedding | 0.040 | 0.007 | 0.052 | |
| plotScanpyHVG | 0.041 | 0.006 | 0.050 | |
| plotScanpyHeatmap | 0.043 | 0.007 | 0.051 | |
| plotScanpyMarkerGenes | 0.039 | 0.006 | 0.046 | |
| plotScanpyMarkerGenesDotPlot | 0.041 | 0.004 | 0.049 | |
| plotScanpyMarkerGenesHeatmap | 0.040 | 0.006 | 0.048 | |
| plotScanpyMarkerGenesMatrixPlot | 0.041 | 0.006 | 0.053 | |
| plotScanpyMarkerGenesViolin | 0.040 | 0.006 | 0.052 | |
| plotScanpyMatrixPlot | 0.040 | 0.002 | 0.045 | |
| plotScanpyPCA | 0.040 | 0.004 | 0.049 | |
| plotScanpyPCAGeneRanking | 0.039 | 0.003 | 0.047 | |
| plotScanpyPCAVariance | 0.040 | 0.006 | 0.053 | |
| plotScanpyViolin | 0.040 | 0.005 | 0.050 | |
| plotScdsHybridResults | 13.025 | 0.302 | 14.086 | |
| plotScrubletResults | 0.039 | 0.004 | 0.043 | |
| plotSeuratElbow | 0.039 | 0.005 | 0.046 | |
| plotSeuratHVG | 0.040 | 0.004 | 0.046 | |
| plotSeuratJackStraw | 0.042 | 0.008 | 0.051 | |
| plotSeuratReduction | 0.040 | 0.006 | 0.051 | |
| plotSoupXResults | 0.000 | 0.001 | 0.002 | |
| plotTSCANClusterDEG | 11.762 | 0.166 | 12.941 | |
| plotTSCANClusterPseudo | 5.294 | 0.047 | 5.763 | |
| plotTSCANDimReduceFeatures | 5.083 | 0.043 | 5.580 | |
| plotTSCANPseudotimeGenes | 4.989 | 0.040 | 5.460 | |
| plotTSCANPseudotimeHeatmap | 5.140 | 0.048 | 5.599 | |
| plotTSCANResults | 5.062 | 0.044 | 5.557 | |
| plotTSNE | 1.085 | 0.019 | 1.181 | |
| plotTopHVG | 0.810 | 0.019 | 0.917 | |
| plotUMAP | 7.749 | 0.093 | 8.485 | |
| readSingleCellMatrix | 0.008 | 0.001 | 0.010 | |
| reportCellQC | 0.375 | 0.009 | 0.397 | |
| reportDropletQC | 0.039 | 0.004 | 0.045 | |
| reportQCTool | 0.375 | 0.007 | 0.399 | |
| retrieveSCEIndex | 0.052 | 0.005 | 0.058 | |
| runBBKNN | 0 | 0 | 0 | |
| runBarcodeRankDrops | 0.877 | 0.013 | 0.925 | |
| runBcds | 3.715 | 0.060 | 4.093 | |
| runCellQC | 0.384 | 0.011 | 0.423 | |
| runClusterSummaryMetrics | 1.637 | 0.069 | 1.822 | |
| runComBatSeq | 0.993 | 0.022 | 1.047 | |
| runCxds | 0.999 | 0.013 | 1.045 | |
| runCxdsBcdsHybrid | 3.801 | 0.062 | 4.034 | |
| runDEAnalysis | 1.486 | 0.015 | 1.580 | |
| runDecontX | 10.286 | 0.088 | 10.873 | |
| runDimReduce | 1.005 | 0.011 | 1.066 | |
| runDoubletFinder | 37.724 | 0.224 | 39.920 | |
| runDropletQC | 0.039 | 0.004 | 0.043 | |
| runEmptyDrops | 9.713 | 0.042 | 10.122 | |
| runEnrichR | 0.626 | 0.038 | 17.305 | |
| runFastMNN | 3.677 | 0.056 | 3.847 | |
| runFeatureSelection | 0.453 | 0.009 | 0.482 | |
| runFindMarker | 7.595 | 0.075 | 8.022 | |
| runGSVA | 1.622 | 0.027 | 1.699 | |
| runHarmony | 0.088 | 0.003 | 0.093 | |
| runKMeans | 0.950 | 0.017 | 1.008 | |
| runLimmaBC | 0.168 | 0.002 | 0.174 | |
| runMNNCorrect | 1.086 | 0.009 | 1.130 | |
| runModelGeneVar | 1.001 | 0.014 | 1.050 | |
| runNormalization | 3.044 | 0.038 | 3.189 | |
| runPerCellQC | 1.176 | 0.016 | 1.237 | |
| runSCANORAMA | 0.000 | 0.001 | 0.001 | |
| runSCMerge | 0.008 | 0.001 | 0.009 | |
| runScDblFinder | 32.528 | 0.521 | 34.439 | |
| runScanpyFindClusters | 0.042 | 0.005 | 0.050 | |
| runScanpyFindHVG | 0.039 | 0.005 | 0.049 | |
| runScanpyFindMarkers | 0.039 | 0.005 | 0.046 | |
| runScanpyNormalizeData | 0.415 | 0.007 | 0.435 | |
| runScanpyPCA | 0.041 | 0.004 | 0.046 | |
| runScanpyScaleData | 0.040 | 0.005 | 0.045 | |
| runScanpyTSNE | 0.039 | 0.003 | 0.042 | |
| runScanpyUMAP | 0.040 | 0.004 | 0.045 | |
| runScranSNN | 1.657 | 0.022 | 1.725 | |
| runScrublet | 0.041 | 0.004 | 0.046 | |
| runSeuratFindClusters | 0.045 | 0.005 | 0.051 | |
| runSeuratFindHVG | 1.798 | 0.135 | 1.984 | |
| runSeuratHeatmap | 0.040 | 0.005 | 0.044 | |
| runSeuratICA | 0.045 | 0.006 | 0.051 | |
| runSeuratJackStraw | 0.045 | 0.005 | 0.052 | |
| runSeuratNormalizeData | 0.046 | 0.006 | 0.055 | |
| runSeuratPCA | 0.044 | 0.005 | 0.051 | |
| runSeuratSCTransform | 8.919 | 0.131 | 9.309 | |
| runSeuratScaleData | 0.040 | 0.005 | 0.048 | |
| runSeuratUMAP | 0.042 | 0.005 | 0.048 | |
| runSingleR | 0.082 | 0.005 | 0.092 | |
| runSoupX | 0.000 | 0.000 | 0.001 | |
| runTSCAN | 3.281 | 0.031 | 3.413 | |
| runTSCANClusterDEAnalysis | 3.579 | 0.036 | 3.723 | |
| runTSCANDEG | 3.397 | 0.030 | 3.536 | |
| runTSNE | 1.731 | 0.022 | 1.809 | |
| runUMAP | 8.007 | 0.076 | 8.373 | |
| runVAM | 1.208 | 0.013 | 1.262 | |
| runZINBWaVE | 0.007 | 0.002 | 0.009 | |
| sampleSummaryStats | 0.677 | 0.011 | 0.737 | |
| scaterCPM | 0.238 | 0.004 | 0.249 | |
| scaterPCA | 0.936 | 0.016 | 0.982 | |
| scaterlogNormCounts | 0.480 | 0.005 | 0.500 | |
| sce | 0.039 | 0.009 | 0.050 | |
| sctkListGeneSetCollections | 0.160 | 0.010 | 0.173 | |
| sctkPythonInstallConda | 0 | 0 | 0 | |
| sctkPythonInstallVirtualEnv | 0.000 | 0.001 | 0.001 | |
| selectSCTKConda | 0.000 | 0.001 | 0.001 | |
| selectSCTKVirtualEnvironment | 0.000 | 0.001 | 0.001 | |
| setRowNames | 0.179 | 0.008 | 0.193 | |
| setSCTKDisplayRow | 0.890 | 0.016 | 0.939 | |
| singleCellTK | 0.000 | 0.000 | 0.001 | |
| subDiffEx | 1.107 | 0.048 | 1.193 | |
| subsetSCECols | 0.392 | 0.017 | 0.425 | |
| subsetSCERows | 0.903 | 0.015 | 0.968 | |
| summarizeSCE | 0.130 | 0.013 | 0.150 | |
| trimCounts | 0.364 | 0.010 | 0.391 | |