| Back to Multiple platform build/check report for BioC 3.18: simplified long |
|
This page was generated on 2024-03-04 11:37:52 -0500 (Mon, 04 Mar 2024).
| Hostname | OS | Arch (*) | R version | Installed pkgs |
|---|---|---|---|---|
| nebbiolo2 | Linux (Ubuntu 22.04.3 LTS) | x86_64 | 4.3.2 Patched (2023-11-13 r85521) -- "Eye Holes" | 4692 |
| palomino4 | Windows Server 2022 Datacenter | x64 | 4.3.2 (2023-10-31 ucrt) -- "Eye Holes" | 4445 |
| lconway | macOS 12.7.1 Monterey | x86_64 | 4.3.2 Patched (2023-11-01 r85457) -- "Eye Holes" | 4466 |
| Click on any hostname to see more info about the system (e.g. compilers) (*) as reported by 'uname -p', except on Windows and Mac OS X | ||||
| Package 1971/2266 | Hostname | OS / Arch | INSTALL | BUILD | CHECK | BUILD BIN | ||||||||
| singleCellTK 2.12.2 (landing page) Joshua David Campbell
| nebbiolo2 | Linux (Ubuntu 22.04.3 LTS) / x86_64 | OK | OK | OK | |||||||||
| palomino4 | Windows Server 2022 Datacenter / x64 | OK | OK | OK | OK | |||||||||
| lconway | macOS 12.7.1 Monterey / x86_64 | OK | OK | OK | OK | |||||||||
| kjohnson1 | macOS 13.6.1 Ventura / arm64 | see weekly results here | ||||||||||||
|
To the developers/maintainers of the singleCellTK package: - Allow up to 24 hours (and sometimes 48 hours) for your latest push to git@git.bioconductor.org:packages/singleCellTK.git to reflect on this report. See Troubleshooting Build Report for more information. - Use the following Renviron settings to reproduce errors and warnings. - If 'R CMD check' started to fail recently on the Linux builder(s) over a missing dependency, add the missing dependency to 'Suggests:' in your DESCRIPTION file. See Renviron.bioc for more information. |
| Package: singleCellTK |
| Version: 2.12.2 |
| Command: /Library/Frameworks/R.framework/Resources/bin/R CMD check --install=check:singleCellTK.install-out.txt --library=/Library/Frameworks/R.framework/Resources/library --no-vignettes --timings singleCellTK_2.12.2.tar.gz |
| StartedAt: 2024-03-03 23:32:26 -0500 (Sun, 03 Mar 2024) |
| EndedAt: 2024-03-03 23:49:05 -0500 (Sun, 03 Mar 2024) |
| EllapsedTime: 999.1 seconds |
| RetCode: 0 |
| Status: OK |
| CheckDir: singleCellTK.Rcheck |
| Warnings: 0 |
##############################################################################
##############################################################################
###
### Running command:
###
### /Library/Frameworks/R.framework/Resources/bin/R CMD check --install=check:singleCellTK.install-out.txt --library=/Library/Frameworks/R.framework/Resources/library --no-vignettes --timings singleCellTK_2.12.2.tar.gz
###
##############################################################################
##############################################################################
* using log directory ‘/Users/biocbuild/bbs-3.18-bioc/meat/singleCellTK.Rcheck’
* using R version 4.3.2 Patched (2023-11-01 r85457)
* using platform: x86_64-apple-darwin20 (64-bit)
* R was compiled by
Apple clang version 14.0.3 (clang-1403.0.22.14.1)
GNU Fortran (GCC) 12.2.0
* running under: macOS Monterey 12.7.1
* using session charset: UTF-8
* using option ‘--no-vignettes’
* checking for file ‘singleCellTK/DESCRIPTION’ ... OK
* checking extension type ... Package
* this is package ‘singleCellTK’ version ‘2.12.2’
* package encoding: UTF-8
* checking package namespace information ... OK
* checking package dependencies ... OK
* checking if this is a source package ... OK
* checking if there is a namespace ... OK
* checking for hidden files and directories ... OK
* checking for portable file names ... OK
* checking for sufficient/correct file permissions ... OK
* checking whether package ‘singleCellTK’ can be installed ... OK
* checking installed package size ... NOTE
installed size is 6.8Mb
sub-directories of 1Mb or more:
extdata 1.5Mb
shiny 2.9Mb
* checking package directory ... OK
* checking ‘build’ directory ... OK
* checking DESCRIPTION meta-information ... OK
* checking top-level files ... OK
* checking for left-over files ... OK
* checking index information ... OK
* checking package subdirectories ... OK
* checking R files for non-ASCII characters ... OK
* checking R files for syntax errors ... OK
* checking whether the package can be loaded ... OK
* checking whether the package can be loaded with stated dependencies ... OK
* checking whether the package can be unloaded cleanly ... OK
* checking whether the namespace can be loaded with stated dependencies ... OK
* checking whether the namespace can be unloaded cleanly ... OK
* checking startup messages can be suppressed ... OK
* checking dependencies in R code ... OK
* checking S3 generic/method consistency ... OK
* checking replacement functions ... OK
* checking foreign function calls ... OK
* checking R code for possible problems ... OK
* checking Rd files ... OK
* checking Rd metadata ... OK
* checking Rd cross-references ... OK
* checking for missing documentation entries ... OK
* checking for code/documentation mismatches ... OK
* checking Rd \usage sections ... OK
* checking Rd contents ... OK
* checking for unstated dependencies in examples ... OK
* checking contents of ‘data’ directory ... OK
* checking data for non-ASCII characters ... OK
* checking data for ASCII and uncompressed saves ... OK
* checking R/sysdata.rda ... OK
* checking files in ‘vignettes’ ... OK
* checking examples ... OK
Examples with CPU (user + system) or elapsed time > 5s
user system elapsed
plotDoubletFinderResults 34.808 0.301 35.280
runDoubletFinder 31.910 0.274 32.360
plotScDblFinderResults 29.548 0.881 30.601
runScDblFinder 20.396 0.485 20.973
importExampleData 18.553 2.158 21.308
plotBatchCorrCompare 11.684 0.151 11.897
plotScdsHybridResults 9.709 0.310 10.091
runDecontX 8.810 0.132 8.980
plotBcdsResults 8.161 0.209 8.414
plotDecontXResults 8.233 0.094 8.367
plotUMAP 6.991 0.108 7.140
runUMAP 6.755 0.090 6.864
plotCxdsResults 6.509 0.085 6.622
plotEmptyDropsScatter 6.438 0.060 6.541
plotEmptyDropsResults 6.329 0.051 6.415
plotTSCANClusterDEG 6.073 0.128 6.239
runEmptyDrops 6.149 0.049 6.229
runSeuratSCTransform 5.845 0.159 6.045
detectCellOutlier 5.717 0.153 5.897
plotDEGViolin 5.082 0.110 5.215
plotFindMarkerHeatmap 4.920 0.047 5.130
getEnrichRResult 0.362 0.047 8.270
* checking for unstated dependencies in ‘tests’ ... OK
* checking tests ...
Running ‘spelling.R’
Running ‘testthat.R’
OK
* checking for unstated dependencies in vignettes ... OK
* checking package vignettes in ‘inst/doc’ ... OK
* checking running R code from vignettes ... SKIPPED
* checking re-building of vignette outputs ... SKIPPED
* checking PDF version of manual ... OK
* DONE
Status: 1 NOTE
See
‘/Users/biocbuild/bbs-3.18-bioc/meat/singleCellTK.Rcheck/00check.log’
for details.
singleCellTK.Rcheck/00install.out
############################################################################## ############################################################################## ### ### Running command: ### ### /Library/Frameworks/R.framework/Resources/bin/R CMD INSTALL singleCellTK ### ############################################################################## ############################################################################## * installing to library ‘/Library/Frameworks/R.framework/Versions/4.3-x86_64/Resources/library’ * installing *source* package ‘singleCellTK’ ... ** using staged installation ** R ** data ** exec ** inst ** byte-compile and prepare package for lazy loading ** help *** installing help indices ** building package indices ** installing vignettes ** testing if installed package can be loaded from temporary location ** testing if installed package can be loaded from final location ** testing if installed package keeps a record of temporary installation path * DONE (singleCellTK)
singleCellTK.Rcheck/tests/spelling.Rout
R version 4.3.2 Patched (2023-11-01 r85457) -- "Eye Holes"
Copyright (C) 2023 The R Foundation for Statistical Computing
Platform: x86_64-apple-darwin20 (64-bit)
R is free software and comes with ABSOLUTELY NO WARRANTY.
You are welcome to redistribute it under certain conditions.
Type 'license()' or 'licence()' for distribution details.
R is a collaborative project with many contributors.
Type 'contributors()' for more information and
'citation()' on how to cite R or R packages in publications.
Type 'demo()' for some demos, 'help()' for on-line help, or
'help.start()' for an HTML browser interface to help.
Type 'q()' to quit R.
> if (requireNamespace('spelling', quietly = TRUE))
+ spelling::spell_check_test(vignettes = TRUE, error = FALSE, skip_on_cran = TRUE)
NULL
>
> proc.time()
user system elapsed
0.228 0.081 0.302
singleCellTK.Rcheck/tests/testthat.Rout
R version 4.3.2 Patched (2023-11-01 r85457) -- "Eye Holes"
Copyright (C) 2023 The R Foundation for Statistical Computing
Platform: x86_64-apple-darwin20 (64-bit)
R is free software and comes with ABSOLUTELY NO WARRANTY.
You are welcome to redistribute it under certain conditions.
Type 'license()' or 'licence()' for distribution details.
R is a collaborative project with many contributors.
Type 'contributors()' for more information and
'citation()' on how to cite R or R packages in publications.
Type 'demo()' for some demos, 'help()' for on-line help, or
'help.start()' for an HTML browser interface to help.
Type 'q()' to quit R.
> library(testthat)
> library(singleCellTK)
Loading required package: SummarizedExperiment
Loading required package: MatrixGenerics
Loading required package: matrixStats
Attaching package: 'MatrixGenerics'
The following objects are masked from 'package:matrixStats':
colAlls, colAnyNAs, colAnys, colAvgsPerRowSet, colCollapse,
colCounts, colCummaxs, colCummins, colCumprods, colCumsums,
colDiffs, colIQRDiffs, colIQRs, colLogSumExps, colMadDiffs,
colMads, colMaxs, colMeans2, colMedians, colMins, colOrderStats,
colProds, colQuantiles, colRanges, colRanks, colSdDiffs, colSds,
colSums2, colTabulates, colVarDiffs, colVars, colWeightedMads,
colWeightedMeans, colWeightedMedians, colWeightedSds,
colWeightedVars, rowAlls, rowAnyNAs, rowAnys, rowAvgsPerColSet,
rowCollapse, rowCounts, rowCummaxs, rowCummins, rowCumprods,
rowCumsums, rowDiffs, rowIQRDiffs, rowIQRs, rowLogSumExps,
rowMadDiffs, rowMads, rowMaxs, rowMeans2, rowMedians, rowMins,
rowOrderStats, rowProds, rowQuantiles, rowRanges, rowRanks,
rowSdDiffs, rowSds, rowSums2, rowTabulates, rowVarDiffs, rowVars,
rowWeightedMads, rowWeightedMeans, rowWeightedMedians,
rowWeightedSds, rowWeightedVars
Loading required package: GenomicRanges
Loading required package: stats4
Loading required package: BiocGenerics
Attaching package: 'BiocGenerics'
The following objects are masked from 'package:stats':
IQR, mad, sd, var, xtabs
The following objects are masked from 'package:base':
Filter, Find, Map, Position, Reduce, anyDuplicated, aperm, append,
as.data.frame, basename, cbind, colnames, dirname, do.call,
duplicated, eval, evalq, get, grep, grepl, intersect, is.unsorted,
lapply, mapply, match, mget, order, paste, pmax, pmax.int, pmin,
pmin.int, rank, rbind, rownames, sapply, setdiff, sort, table,
tapply, union, unique, unsplit, which.max, which.min
Loading required package: S4Vectors
Attaching package: 'S4Vectors'
The following object is masked from 'package:utils':
findMatches
The following objects are masked from 'package:base':
I, expand.grid, unname
Loading required package: IRanges
Loading required package: GenomeInfoDb
Loading required package: Biobase
Welcome to Bioconductor
Vignettes contain introductory material; view with
'browseVignettes()'. To cite Bioconductor, see
'citation("Biobase")', and for packages 'citation("pkgname")'.
Attaching package: 'Biobase'
The following object is masked from 'package:MatrixGenerics':
rowMedians
The following objects are masked from 'package:matrixStats':
anyMissing, rowMedians
Loading required package: SingleCellExperiment
Loading required package: DelayedArray
Loading required package: Matrix
Attaching package: 'Matrix'
The following object is masked from 'package:S4Vectors':
expand
Loading required package: S4Arrays
Loading required package: abind
Attaching package: 'S4Arrays'
The following object is masked from 'package:abind':
abind
The following object is masked from 'package:base':
rowsum
Loading required package: SparseArray
Attaching package: 'DelayedArray'
The following objects are masked from 'package:base':
apply, scale, sweep
Attaching package: 'singleCellTK'
The following object is masked from 'package:BiocGenerics':
plotPCA
>
> test_check("singleCellTK")
Found 2 batches
Using null model in ComBat-seq.
Adjusting for 0 covariate(s) or covariate level(s)
Estimating dispersions
Fitting the GLM model
Shrinkage off - using GLM estimates for parameters
Adjusting the data
Found 2 batches
Using null model in ComBat-seq.
Adjusting for 1 covariate(s) or covariate level(s)
Estimating dispersions
Fitting the GLM model
Shrinkage off - using GLM estimates for parameters
Adjusting the data
Performing log-normalization
0% 10 20 30 40 50 60 70 80 90 100%
[----|----|----|----|----|----|----|----|----|----|
**************************************************|
|
| | 0%
|
|======================================================================| 100%
Calculating gene variances
0% 10 20 30 40 50 60 70 80 90 100%
[----|----|----|----|----|----|----|----|----|----|
**************************************************|
Calculating feature variances of standardized and clipped values
0% 10 20 30 40 50 60 70 80 90 100%
[----|----|----|----|----|----|----|----|----|----|
**************************************************|
|
| | 0%
|
|======================================================================| 100%
|
| | 0%
|
|======================================================================| 100%
Calculating gene variances
0% 10 20 30 40 50 60 70 80 90 100%
[----|----|----|----|----|----|----|----|----|----|
**************************************************|
Calculating feature variances of standardized and clipped values
0% 10 20 30 40 50 60 70 80 90 100%
[----|----|----|----|----|----|----|----|----|----|
**************************************************|
Uploading data to Enrichr... Done.
Querying HDSigDB_Human_2021... Done.
Parsing results... Done.
Performing log-normalization
0% 10 20 30 40 50 60 70 80 90 100%
[----|----|----|----|----|----|----|----|----|----|
**************************************************|
Calculating gene variances
0% 10 20 30 40 50 60 70 80 90 100%
[----|----|----|----|----|----|----|----|----|----|
**************************************************|
Calculating feature variances of standardized and clipped values
0% 10 20 30 40 50 60 70 80 90 100%
[----|----|----|----|----|----|----|----|----|----|
**************************************************|
Calculating gene means
0% 10 20 30 40 50 60 70 80 90 100%
[----|----|----|----|----|----|----|----|----|----|
**************************************************|
Calculating gene variance to mean ratios
0% 10 20 30 40 50 60 70 80 90 100%
[----|----|----|----|----|----|----|----|----|----|
**************************************************|
Calculating gene means
0% 10 20 30 40 50 60 70 80 90 100%
[----|----|----|----|----|----|----|----|----|----|
**************************************************|
Calculating gene variance to mean ratios
0% 10 20 30 40 50 60 70 80 90 100%
[----|----|----|----|----|----|----|----|----|----|
**************************************************|
Estimating GSVA scores for 34 gene sets.
Estimating ECDFs with Gaussian kernels
|
| | 0%
|
|== | 3%
|
|==== | 6%
|
|====== | 9%
|
|======== | 12%
|
|========== | 15%
|
|============ | 18%
|
|============== | 21%
|
|================ | 24%
|
|=================== | 26%
|
|===================== | 29%
|
|======================= | 32%
|
|========================= | 35%
|
|=========================== | 38%
|
|============================= | 41%
|
|=============================== | 44%
|
|================================= | 47%
|
|=================================== | 50%
|
|===================================== | 53%
|
|======================================= | 56%
|
|========================================= | 59%
|
|=========================================== | 62%
|
|============================================= | 65%
|
|=============================================== | 68%
|
|================================================= | 71%
|
|=================================================== | 74%
|
|====================================================== | 76%
|
|======================================================== | 79%
|
|========================================================== | 82%
|
|============================================================ | 85%
|
|============================================================== | 88%
|
|================================================================ | 91%
|
|================================================================== | 94%
|
|==================================================================== | 97%
|
|======================================================================| 100%
Estimating GSVA scores for 2 gene sets.
Estimating ECDFs with Gaussian kernels
|
| | 0%
|
|=================================== | 50%
|
|======================================================================| 100%
Performing log-normalization
0% 10 20 30 40 50 60 70 80 90 100%
[----|----|----|----|----|----|----|----|----|----|
**************************************************|
Calculating gene variances
0% 10 20 30 40 50 60 70 80 90 100%
[----|----|----|----|----|----|----|----|----|----|
**************************************************|
Calculating feature variances of standardized and clipped values
0% 10 20 30 40 50 60 70 80 90 100%
[----|----|----|----|----|----|----|----|----|----|
**************************************************|
|
| | 0%
|
|======================================================================| 100%
Performing log-normalization
0% 10 20 30 40 50 60 70 80 90 100%
[----|----|----|----|----|----|----|----|----|----|
**************************************************|
|
| | 0%
|
|======================================================================| 100%
Calculating gene variances
0% 10 20 30 40 50 60 70 80 90 100%
[----|----|----|----|----|----|----|----|----|----|
**************************************************|
Calculating feature variances of standardized and clipped values
0% 10 20 30 40 50 60 70 80 90 100%
[----|----|----|----|----|----|----|----|----|----|
**************************************************|
|
| | 0%
|
|======================================================================| 100%
|
| | 0%
|
|======================================================================| 100%
Modularity Optimizer version 1.3.0 by Ludo Waltman and Nees Jan van Eck
Number of nodes: 390
Number of edges: 9849
Running Louvain algorithm...
0% 10 20 30 40 50 60 70 80 90 100%
[----|----|----|----|----|----|----|----|----|----|
**************************************************|
Maximum modularity in 10 random starts: 0.8351
Number of communities: 7
Elapsed time: 0 seconds
Using method 'umap'
0% 10 20 30 40 50 60 70 80 90 100%
[----|----|----|----|----|----|----|----|----|----|
**************************************************|
|
| | 0%
|
|======================================================================| 100%
|
| | 0%
|
|======================================================================| 100%
0% 10 20 30 40 50 60 70 80 90 100%
[----|----|----|----|----|----|----|----|----|----|
**************************************************|
0% 10 20 30 40 50 60 70 80 90 100%
[----|----|----|----|----|----|----|----|----|----|
**************************************************|
|
| | 0%
|
|======================================================================| 100%
|
| | 0%
|
|======================================================================| 100%
|
| | 0%
|
|======================================================================| 100%
|
| | 0%
|
|======================================================================| 100%
|
| | 0%
|
|======================================================================| 100%
Performing log-normalization
0% 10 20 30 40 50 60 70 80 90 100%
[----|----|----|----|----|----|----|----|----|----|
**************************************************|
[ FAIL 0 | WARN 22 | SKIP 0 | PASS 223 ]
[ FAIL 0 | WARN 22 | SKIP 0 | PASS 223 ]
>
> proc.time()
user system elapsed
282.466 7.436 294.115
singleCellTK.Rcheck/singleCellTK-Ex.timings
| name | user | system | elapsed | |
| MitoGenes | 0.002 | 0.001 | 0.004 | |
| SEG | 0.002 | 0.003 | 0.005 | |
| calcEffectSizes | 0.303 | 0.009 | 0.314 | |
| combineSCE | 1.978 | 0.029 | 2.013 | |
| computeZScore | 0.283 | 0.014 | 0.301 | |
| convertSCEToSeurat | 4.695 | 0.241 | 4.960 | |
| convertSeuratToSCE | 0.560 | 0.018 | 0.582 | |
| dedupRowNames | 0.065 | 0.004 | 0.069 | |
| detectCellOutlier | 5.717 | 0.153 | 5.897 | |
| diffAbundanceFET | 0.076 | 0.007 | 0.084 | |
| discreteColorPalette | 0.008 | 0.001 | 0.009 | |
| distinctColors | 0.003 | 0.001 | 0.004 | |
| downSampleCells | 0.747 | 0.104 | 0.855 | |
| downSampleDepth | 0.650 | 0.049 | 0.703 | |
| expData-ANY-character-method | 0.364 | 0.010 | 0.376 | |
| expData-set-ANY-character-CharacterOrNullOrMissing-logical-method | 0.426 | 0.011 | 0.440 | |
| expData-set | 0.395 | 0.011 | 0.408 | |
| expData | 0.348 | 0.024 | 0.375 | |
| expDataNames-ANY-method | 0.309 | 0.007 | 0.316 | |
| expDataNames | 0.337 | 0.011 | 0.350 | |
| expDeleteDataTag | 0.042 | 0.005 | 0.048 | |
| expSetDataTag | 0.031 | 0.005 | 0.035 | |
| expTaggedData | 0.033 | 0.004 | 0.037 | |
| exportSCE | 0.026 | 0.004 | 0.031 | |
| exportSCEtoAnnData | 0.097 | 0.002 | 0.101 | |
| exportSCEtoFlatFile | 0.098 | 0.005 | 0.105 | |
| featureIndex | 0.049 | 0.004 | 0.053 | |
| generateSimulatedData | 0.066 | 0.007 | 0.073 | |
| getBiomarker | 0.059 | 0.008 | 0.067 | |
| getDEGTopTable | 0.967 | 0.044 | 1.015 | |
| getDiffAbundanceResults | 0.054 | 0.004 | 0.058 | |
| getEnrichRResult | 0.362 | 0.047 | 8.270 | |
| getFindMarkerTopTable | 4.007 | 0.068 | 4.098 | |
| getMSigDBTable | 0.004 | 0.003 | 0.007 | |
| getPathwayResultNames | 0.028 | 0.004 | 0.033 | |
| getSampleSummaryStatsTable | 0.335 | 0.006 | 0.342 | |
| getSoupX | 0 | 0 | 0 | |
| getTSCANResults | 2.105 | 0.058 | 2.174 | |
| getTopHVG | 1.167 | 0.022 | 1.196 | |
| importAnnData | 0.001 | 0.000 | 0.001 | |
| importBUStools | 0.316 | 0.007 | 0.328 | |
| importCellRanger | 1.355 | 0.069 | 1.448 | |
| importCellRangerV2Sample | 0.248 | 0.003 | 0.251 | |
| importCellRangerV3Sample | 0.477 | 0.019 | 0.504 | |
| importDropEst | 0.369 | 0.006 | 0.379 | |
| importExampleData | 18.553 | 2.158 | 21.308 | |
| importGeneSetsFromCollection | 0.842 | 0.139 | 0.991 | |
| importGeneSetsFromGMT | 0.077 | 0.006 | 0.083 | |
| importGeneSetsFromList | 0.135 | 0.006 | 0.142 | |
| importGeneSetsFromMSigDB | 3.601 | 0.179 | 3.798 | |
| importMitoGeneSet | 0.053 | 0.007 | 0.060 | |
| importOptimus | 0.002 | 0.000 | 0.002 | |
| importSEQC | 0.309 | 0.021 | 0.333 | |
| importSTARsolo | 0.348 | 0.029 | 0.381 | |
| iterateSimulations | 0.474 | 0.023 | 0.499 | |
| listSampleSummaryStatsTables | 0.398 | 0.009 | 0.408 | |
| mergeSCEColData | 0.566 | 0.028 | 0.600 | |
| mouseBrainSubsetSCE | 0.043 | 0.004 | 0.047 | |
| msigdb_table | 0.002 | 0.002 | 0.004 | |
| plotBarcodeRankDropsResults | 0.964 | 0.030 | 0.999 | |
| plotBarcodeRankScatter | 0.932 | 0.014 | 0.952 | |
| plotBatchCorrCompare | 11.684 | 0.151 | 11.897 | |
| plotBatchVariance | 0.340 | 0.019 | 0.362 | |
| plotBcdsResults | 8.161 | 0.209 | 8.414 | |
| plotBubble | 1.235 | 0.020 | 1.264 | |
| plotClusterAbundance | 0.985 | 0.013 | 1.003 | |
| plotCxdsResults | 6.509 | 0.085 | 6.622 | |
| plotDEGHeatmap | 3.048 | 0.113 | 3.176 | |
| plotDEGRegression | 3.752 | 0.054 | 3.818 | |
| plotDEGViolin | 5.082 | 0.110 | 5.215 | |
| plotDEGVolcano | 1.240 | 0.027 | 1.280 | |
| plotDecontXResults | 8.233 | 0.094 | 8.367 | |
| plotDimRed | 0.329 | 0.011 | 0.347 | |
| plotDoubletFinderResults | 34.808 | 0.301 | 35.280 | |
| plotEmptyDropsResults | 6.329 | 0.051 | 6.415 | |
| plotEmptyDropsScatter | 6.438 | 0.060 | 6.541 | |
| plotFindMarkerHeatmap | 4.920 | 0.047 | 5.130 | |
| plotMASTThresholdGenes | 1.791 | 0.038 | 1.837 | |
| plotPCA | 0.649 | 0.016 | 0.668 | |
| plotPathway | 0.953 | 0.016 | 0.973 | |
| plotRunPerCellQCResults | 2.447 | 0.024 | 2.479 | |
| plotSCEBarAssayData | 0.224 | 0.008 | 0.234 | |
| plotSCEBarColData | 0.162 | 0.006 | 0.169 | |
| plotSCEBatchFeatureMean | 0.301 | 0.006 | 0.307 | |
| plotSCEDensity | 0.239 | 0.009 | 0.248 | |
| plotSCEDensityAssayData | 0.169 | 0.007 | 0.176 | |
| plotSCEDensityColData | 0.244 | 0.009 | 0.254 | |
| plotSCEDimReduceColData | 0.881 | 0.017 | 0.903 | |
| plotSCEDimReduceFeatures | 0.456 | 0.011 | 0.471 | |
| plotSCEHeatmap | 0.788 | 0.012 | 0.805 | |
| plotSCEScatter | 0.416 | 0.010 | 0.431 | |
| plotSCEViolin | 0.293 | 0.007 | 0.300 | |
| plotSCEViolinAssayData | 0.327 | 0.009 | 0.338 | |
| plotSCEViolinColData | 0.284 | 0.008 | 0.292 | |
| plotScDblFinderResults | 29.548 | 0.881 | 30.601 | |
| plotScanpyDotPlot | 0.028 | 0.004 | 0.032 | |
| plotScanpyEmbedding | 0.028 | 0.003 | 0.033 | |
| plotScanpyHVG | 0.031 | 0.005 | 0.038 | |
| plotScanpyHeatmap | 0.029 | 0.005 | 0.035 | |
| plotScanpyMarkerGenes | 0.028 | 0.004 | 0.031 | |
| plotScanpyMarkerGenesDotPlot | 0.032 | 0.006 | 0.038 | |
| plotScanpyMarkerGenesHeatmap | 0.032 | 0.004 | 0.037 | |
| plotScanpyMarkerGenesMatrixPlot | 0.028 | 0.006 | 0.035 | |
| plotScanpyMarkerGenesViolin | 0.030 | 0.005 | 0.034 | |
| plotScanpyMatrixPlot | 0.032 | 0.005 | 0.037 | |
| plotScanpyPCA | 0.030 | 0.004 | 0.036 | |
| plotScanpyPCAGeneRanking | 0.028 | 0.004 | 0.032 | |
| plotScanpyPCAVariance | 0.031 | 0.004 | 0.036 | |
| plotScanpyViolin | 0.032 | 0.004 | 0.042 | |
| plotScdsHybridResults | 9.709 | 0.310 | 10.091 | |
| plotScrubletResults | 0.032 | 0.006 | 0.040 | |
| plotSeuratElbow | 0.033 | 0.007 | 0.040 | |
| plotSeuratHVG | 0.030 | 0.007 | 0.036 | |
| plotSeuratJackStraw | 0.029 | 0.004 | 0.033 | |
| plotSeuratReduction | 0.027 | 0.003 | 0.031 | |
| plotSoupXResults | 0.000 | 0.001 | 0.001 | |
| plotTSCANClusterDEG | 6.073 | 0.128 | 6.239 | |
| plotTSCANClusterPseudo | 2.768 | 0.045 | 2.832 | |
| plotTSCANDimReduceFeatures | 2.841 | 0.038 | 2.896 | |
| plotTSCANPseudotimeGenes | 2.688 | 0.040 | 2.747 | |
| plotTSCANPseudotimeHeatmap | 2.810 | 0.046 | 2.878 | |
| plotTSCANResults | 2.856 | 0.047 | 2.925 | |
| plotTSNE | 0.627 | 0.018 | 0.651 | |
| plotTopHVG | 0.479 | 0.018 | 0.505 | |
| plotUMAP | 6.991 | 0.108 | 7.140 | |
| readSingleCellMatrix | 0.006 | 0.001 | 0.008 | |
| reportCellQC | 0.210 | 0.008 | 0.219 | |
| reportDropletQC | 0.032 | 0.005 | 0.037 | |
| reportQCTool | 0.195 | 0.006 | 0.206 | |
| retrieveSCEIndex | 0.035 | 0.005 | 0.040 | |
| runBBKNN | 0.000 | 0.000 | 0.001 | |
| runBarcodeRankDrops | 0.528 | 0.010 | 0.540 | |
| runBcds | 1.926 | 0.051 | 1.991 | |
| runCellQC | 0.200 | 0.006 | 0.208 | |
| runClusterSummaryMetrics | 0.895 | 0.055 | 0.954 | |
| runComBatSeq | 0.539 | 0.024 | 0.568 | |
| runCxds | 0.604 | 0.013 | 0.619 | |
| runCxdsBcdsHybrid | 2.315 | 0.064 | 2.390 | |
| runDEAnalysis | 0.868 | 0.013 | 0.887 | |
| runDecontX | 8.810 | 0.132 | 8.980 | |
| runDimReduce | 0.570 | 0.011 | 0.585 | |
| runDoubletFinder | 31.910 | 0.274 | 32.360 | |
| runDropletQC | 0.026 | 0.004 | 0.030 | |
| runEmptyDrops | 6.149 | 0.049 | 6.229 | |
| runEnrichR | 0.316 | 0.035 | 4.960 | |
| runFastMNN | 1.772 | 0.046 | 1.826 | |
| runFeatureSelection | 0.256 | 0.007 | 0.264 | |
| runFindMarker | 4.122 | 0.066 | 4.209 | |
| runGSVA | 0.840 | 0.032 | 0.876 | |
| runHarmony | 0.045 | 0.001 | 0.046 | |
| runKMeans | 0.465 | 0.013 | 0.481 | |
| runLimmaBC | 0.096 | 0.002 | 0.100 | |
| runMNNCorrect | 0.566 | 0.006 | 0.574 | |
| runModelGeneVar | 0.404 | 0.007 | 0.412 | |
| runNormalization | 2.331 | 0.036 | 2.374 | |
| runPerCellQC | 0.597 | 0.010 | 0.610 | |
| runSCANORAMA | 0.000 | 0.001 | 0.000 | |
| runSCMerge | 0.005 | 0.001 | 0.006 | |
| runScDblFinder | 20.396 | 0.485 | 20.973 | |
| runScanpyFindClusters | 0.031 | 0.004 | 0.036 | |
| runScanpyFindHVG | 0.031 | 0.003 | 0.035 | |
| runScanpyFindMarkers | 0.032 | 0.003 | 0.036 | |
| runScanpyNormalizeData | 0.247 | 0.007 | 0.255 | |
| runScanpyPCA | 0.020 | 0.002 | 0.023 | |
| runScanpyScaleData | 0.021 | 0.002 | 0.024 | |
| runScanpyTSNE | 0.021 | 0.003 | 0.023 | |
| runScanpyUMAP | 0.021 | 0.003 | 0.024 | |
| runScranSNN | 0.896 | 0.018 | 0.920 | |
| runScrublet | 0.024 | 0.004 | 0.027 | |
| runSeuratFindClusters | 0.030 | 0.003 | 0.034 | |
| runSeuratFindHVG | 0.945 | 0.124 | 1.075 | |
| runSeuratHeatmap | 0.028 | 0.004 | 0.033 | |
| runSeuratICA | 0.034 | 0.003 | 0.037 | |
| runSeuratJackStraw | 0.029 | 0.007 | 0.036 | |
| runSeuratNormalizeData | 0.033 | 0.006 | 0.038 | |
| runSeuratPCA | 0.031 | 0.004 | 0.035 | |
| runSeuratSCTransform | 5.845 | 0.159 | 6.045 | |
| runSeuratScaleData | 0.029 | 0.005 | 0.034 | |
| runSeuratUMAP | 0.029 | 0.007 | 0.038 | |
| runSingleR | 0.043 | 0.002 | 0.045 | |
| runSoupX | 0 | 0 | 0 | |
| runTSCAN | 1.436 | 0.025 | 1.463 | |
| runTSCANClusterDEAnalysis | 1.830 | 0.035 | 1.874 | |
| runTSCANDEG | 1.782 | 0.024 | 1.813 | |
| runTSNE | 0.976 | 0.024 | 1.009 | |
| runUMAP | 6.755 | 0.090 | 6.864 | |
| runVAM | 0.612 | 0.011 | 0.627 | |
| runZINBWaVE | 0.005 | 0.001 | 0.006 | |
| sampleSummaryStats | 0.349 | 0.007 | 0.358 | |
| scaterCPM | 0.153 | 0.004 | 0.159 | |
| scaterPCA | 0.465 | 0.010 | 0.476 | |
| scaterlogNormCounts | 0.276 | 0.004 | 0.281 | |
| sce | 0.023 | 0.002 | 0.026 | |
| sctkListGeneSetCollections | 0.098 | 0.004 | 0.102 | |
| sctkPythonInstallConda | 0 | 0 | 0 | |
| sctkPythonInstallVirtualEnv | 0.000 | 0.001 | 0.000 | |
| selectSCTKConda | 0.000 | 0.000 | 0.001 | |
| selectSCTKVirtualEnvironment | 0 | 0 | 0 | |
| setRowNames | 0.102 | 0.005 | 0.108 | |
| setSCTKDisplayRow | 0.453 | 0.010 | 0.467 | |
| singleCellTK | 0 | 0 | 0 | |
| subDiffEx | 0.657 | 0.030 | 0.692 | |
| subsetSCECols | 0.216 | 0.008 | 0.226 | |
| subsetSCERows | 0.492 | 0.011 | 0.505 | |
| summarizeSCE | 0.088 | 0.009 | 0.097 | |
| trimCounts | 0.227 | 0.007 | 0.235 | |