| Back to Multiple platform build/check report for BioC 3.18: simplified long |
|
This page was generated on 2024-04-17 11:38:14 -0400 (Wed, 17 Apr 2024).
| Hostname | OS | Arch (*) | R version | Installed pkgs |
|---|---|---|---|---|
| nebbiolo2 | Linux (Ubuntu 22.04.3 LTS) | x86_64 | 4.3.3 (2024-02-29) -- "Angel Food Cake" | 4676 |
| palomino4 | Windows Server 2022 Datacenter | x64 | 4.3.3 (2024-02-29 ucrt) -- "Angel Food Cake" | 4414 |
| merida1 | macOS 12.7.1 Monterey | x86_64 | 4.3.3 (2024-02-29) -- "Angel Food Cake" | 4437 |
| Click on any hostname to see more info about the system (e.g. compilers) (*) as reported by 'uname -p', except on Windows and Mac OS X | ||||
| Package 1930/2266 | Hostname | OS / Arch | INSTALL | BUILD | CHECK | BUILD BIN | ||||||||
| seqsetvis 1.22.1 (landing page) Joseph R Boyd
| nebbiolo2 | Linux (Ubuntu 22.04.3 LTS) / x86_64 | OK | OK | OK | |||||||||
| palomino4 | Windows Server 2022 Datacenter / x64 | OK | OK | OK | OK | |||||||||
| merida1 | macOS 12.7.1 Monterey / x86_64 | OK | OK | OK | OK | |||||||||
| kjohnson1 | macOS 13.6.1 Ventura / arm64 | see weekly results here | ||||||||||||
|
To the developers/maintainers of the seqsetvis package: - Allow up to 24 hours (and sometimes 48 hours) for your latest push to git@git.bioconductor.org:packages/seqsetvis.git to reflect on this report. See Troubleshooting Build Report for more information. - Use the following Renviron settings to reproduce errors and warnings. - If 'R CMD check' started to fail recently on the Linux builder(s) over a missing dependency, add the missing dependency to 'Suggests:' in your DESCRIPTION file. See Renviron.bioc for more information. |
| Package: seqsetvis |
| Version: 1.22.1 |
| Command: /Library/Frameworks/R.framework/Resources/bin/R CMD check --install=check:seqsetvis.install-out.txt --library=/Library/Frameworks/R.framework/Resources/library --no-vignettes --timings seqsetvis_1.22.1.tar.gz |
| StartedAt: 2024-04-16 08:49:29 -0400 (Tue, 16 Apr 2024) |
| EndedAt: 2024-04-16 09:09:35 -0400 (Tue, 16 Apr 2024) |
| EllapsedTime: 1205.5 seconds |
| RetCode: 0 |
| Status: OK |
| CheckDir: seqsetvis.Rcheck |
| Warnings: 0 |
##############################################################################
##############################################################################
###
### Running command:
###
### /Library/Frameworks/R.framework/Resources/bin/R CMD check --install=check:seqsetvis.install-out.txt --library=/Library/Frameworks/R.framework/Resources/library --no-vignettes --timings seqsetvis_1.22.1.tar.gz
###
##############################################################################
##############################################################################
* using log directory ‘/Users/biocbuild/bbs-3.18-bioc/meat/seqsetvis.Rcheck’
* using R version 4.3.3 (2024-02-29)
* using platform: x86_64-apple-darwin20 (64-bit)
* R was compiled by
Apple clang version 14.0.0 (clang-1400.0.29.202)
GNU Fortran (GCC) 12.2.0
* running under: macOS Monterey 12.7.1
* using session charset: UTF-8
* using option ‘--no-vignettes’
* checking for file ‘seqsetvis/DESCRIPTION’ ... OK
* checking extension type ... Package
* this is package ‘seqsetvis’ version ‘1.22.1’
* package encoding: UTF-8
* checking package namespace information ... OK
* checking package dependencies ... OK
* checking if this is a source package ... OK
* checking if there is a namespace ... OK
* checking for hidden files and directories ... OK
* checking for portable file names ... OK
* checking for sufficient/correct file permissions ... OK
* checking whether package ‘seqsetvis’ can be installed ... OK
* checking installed package size ... OK
* checking package directory ... OK
* checking ‘build’ directory ... OK
* checking DESCRIPTION meta-information ... OK
* checking top-level files ... OK
* checking for left-over files ... OK
* checking index information ... OK
* checking package subdirectories ... OK
* checking R files for non-ASCII characters ... OK
* checking R files for syntax errors ... OK
* checking whether the package can be loaded ... OK
* checking whether the package can be loaded with stated dependencies ... OK
* checking whether the package can be unloaded cleanly ... OK
* checking whether the namespace can be loaded with stated dependencies ... OK
* checking whether the namespace can be unloaded cleanly ... OK
* checking dependencies in R code ... OK
* checking S3 generic/method consistency ... OK
* checking replacement functions ... OK
* checking foreign function calls ... OK
* checking R code for possible problems ... OK
* checking Rd files ... OK
* checking Rd metadata ... OK
* checking Rd cross-references ... OK
* checking for missing documentation entries ... OK
* checking for code/documentation mismatches ... OK
* checking Rd \usage sections ... OK
* checking Rd contents ... OK
* checking for unstated dependencies in examples ... OK
* checking contents of ‘data’ directory ... OK
* checking data for non-ASCII characters ... OK
* checking LazyData ... OK
* checking data for ASCII and uncompressed saves ... OK
* checking files in ‘vignettes’ ... OK
* checking examples ... OK
Examples with CPU (user + system) or elapsed time > 5s
user system elapsed
ssvFetchBam 13.671 0.420 14.739
ssvFeatureBinaryHeatmap 10.009 0.828 11.071
ssvSignalBandedQuantiles 8.682 0.106 8.954
ssvSignalHeatmap 7.403 0.062 7.724
merge_clusters 7.175 0.061 7.928
ssvSignalHeatmap.ClusterBars 6.543 0.041 6.659
ssvFeatureUpset 5.448 0.065 5.747
add_cluster_annotation 4.615 0.160 5.475
* checking for unstated dependencies in ‘tests’ ... OK
* checking tests ...
Running ‘testthat.R’
OK
* checking for unstated dependencies in vignettes ... OK
* checking package vignettes in ‘inst/doc’ ... OK
* checking running R code from vignettes ... SKIPPED
* checking re-building of vignette outputs ... SKIPPED
* checking PDF version of manual ... OK
* DONE
Status: OK
seqsetvis.Rcheck/00install.out
############################################################################## ############################################################################## ### ### Running command: ### ### /Library/Frameworks/R.framework/Resources/bin/R CMD INSTALL seqsetvis ### ############################################################################## ############################################################################## * installing to library ‘/Library/Frameworks/R.framework/Versions/4.3-x86_64/Resources/library’ * installing *source* package ‘seqsetvis’ ... ** using staged installation ** R ** data *** moving datasets to lazyload DB ** inst ** byte-compile and prepare package for lazy loading ** help *** installing help indices ** building package indices ** installing vignettes ** testing if installed package can be loaded from temporary location ** testing if installed package can be loaded from final location ** testing if installed package keeps a record of temporary installation path * DONE (seqsetvis)
seqsetvis.Rcheck/tests/testthat.Rout
R version 4.3.3 (2024-02-29) -- "Angel Food Cake" Copyright (C) 2024 The R Foundation for Statistical Computing Platform: x86_64-apple-darwin20 (64-bit) R is free software and comes with ABSOLUTELY NO WARRANTY. You are welcome to redistribute it under certain conditions. Type 'license()' or 'licence()' for distribution details. R is a collaborative project with many contributors. Type 'contributors()' for more information and 'citation()' on how to cite R or R packages in publications. Type 'demo()' for some demos, 'help()' for on-line help, or 'help.start()' for an HTML browser interface to help. Type 'q()' to quit R. > > ## load dependencies > library(testthat) > library(seqsetvis) Loading required package: ggplot2 > library(data.table) > > ## test package > test_check(package = "seqsetvis") [ FAIL 0 | WARN 0 | SKIP 0 | PASS 1253 ] > > proc.time() user system elapsed 523.920 9.384 562.608
seqsetvis.Rcheck/seqsetvis-Ex.timings
| name | user | system | elapsed | |
| add_cluster_annotation | 4.615 | 0.160 | 5.475 | |
| append_ynorm | 0.066 | 0.006 | 0.076 | |
| applyMovingAverage | 2.313 | 0.017 | 2.627 | |
| applySpline | 0.697 | 0.042 | 0.863 | |
| assemble_heatmap_cluster_bars | 1.637 | 0.160 | 1.966 | |
| calc_norm_factors | 0.027 | 0.001 | 0.030 | |
| centerAtMax | 0.555 | 0.014 | 0.611 | |
| centerFixedSizeGRanges | 0.268 | 0.015 | 0.306 | |
| centerGRangesAtMax | 0.756 | 0.012 | 0.811 | |
| clusteringKmeans | 0.030 | 0.005 | 0.036 | |
| clusteringKmeansNestedHclust | 0.044 | 0.007 | 0.052 | |
| col2hex | 0.002 | 0.001 | 0.002 | |
| collapse_gr | 1.501 | 0.035 | 1.627 | |
| convert_collapsed_coord | 0.395 | 0.016 | 0.458 | |
| copy_clust_info | 3.438 | 0.022 | 3.713 | |
| crossCorrByRle | 0.691 | 0.010 | 0.728 | |
| easyLoad_FUN | 0.108 | 0.003 | 0.117 | |
| easyLoad_IDRmerged | 0.089 | 0.003 | 0.102 | |
| easyLoad_bed | 0.290 | 0.003 | 0.312 | |
| easyLoad_broadPeak | 0.079 | 0.002 | 0.092 | |
| easyLoad_narrowPeak | 0.127 | 0.005 | 0.137 | |
| easyLoad_seacr | 0.091 | 0.003 | 0.106 | |
| expandCigar | 0.309 | 0.028 | 0.370 | |
| findMaxPos | 0.028 | 0.009 | 0.041 | |
| fragLen_calcStranded | 3.808 | 0.057 | 4.405 | |
| fragLen_fromMacs2Xls | 0.004 | 0.002 | 0.005 | |
| getReadLength | 0.114 | 0.012 | 0.151 | |
| get_mapped_reads | 0.016 | 0.001 | 0.019 | |
| ggellipse | 1.196 | 0.011 | 1.327 | |
| harmonize_seqlengths | 0.210 | 0.015 | 0.235 | |
| make_clustering_matrix | 0.092 | 0.003 | 0.110 | |
| merge_clusters | 7.175 | 0.061 | 7.928 | |
| prepare_fetch_GRanges | 0.064 | 0.002 | 0.077 | |
| prepare_fetch_GRanges_names | 0.186 | 0.005 | 0.205 | |
| prepare_fetch_GRanges_width | 0.060 | 0.002 | 0.068 | |
| quantileGRangesWidth | 0.003 | 0.000 | 0.003 | |
| reorder_clusters_hclust | 4.197 | 0.026 | 4.614 | |
| reorder_clusters_manual | 2.130 | 0.017 | 2.342 | |
| reorder_clusters_stepdown | 4.213 | 0.027 | 4.475 | |
| reverse_clusters | 4.400 | 0.085 | 4.713 | |
| safeBrew | 0.046 | 0.007 | 0.057 | |
| split_cluster | 3.833 | 0.030 | 4.413 | |
| ssvConsensusIntervalSets | 0.652 | 0.015 | 0.746 | |
| ssvFactorizeMembTable | 0.028 | 0.007 | 0.039 | |
| ssvFeatureBars | 1.192 | 0.011 | 1.559 | |
| ssvFeatureBinaryHeatmap | 10.009 | 0.828 | 11.071 | |
| ssvFeatureEuler | 1.088 | 0.010 | 1.106 | |
| ssvFeaturePie | 1.009 | 0.023 | 1.041 | |
| ssvFeatureUpset | 5.448 | 0.065 | 5.747 | |
| ssvFeatureVenn | 1.892 | 0.014 | 1.980 | |
| ssvFetchBam | 13.671 | 0.420 | 14.739 | |
| ssvFetchBamPE | 4.275 | 0.370 | 4.817 | |
| ssvFetchBigwig | 3.014 | 0.032 | 3.316 | |
| ssvFetchGRanges | 1.665 | 0.012 | 1.774 | |
| ssvFetchSignal | 3.286 | 0.076 | 3.459 | |
| ssvMakeMembTable-methods | 1.064 | 0.019 | 1.088 | |
| ssvOverlapIntervalSets | 0.488 | 0.015 | 0.506 | |
| ssvSignalBandedQuantiles | 8.682 | 0.106 | 8.954 | |
| ssvSignalClustering | 4.355 | 0.051 | 4.483 | |
| ssvSignalHeatmap.ClusterBars | 6.543 | 0.041 | 6.659 | |
| ssvSignalHeatmap | 7.403 | 0.062 | 7.724 | |
| ssvSignalLineplot | 4.672 | 0.033 | 4.831 | |
| ssvSignalLineplotAgg | 1.614 | 0.011 | 1.639 | |
| ssvSignalScatterplot | 1.792 | 0.018 | 1.871 | |
| viewGRangesWinSample_dt | 2.775 | 0.045 | 2.838 | |
| viewGRangesWinSummary_dt | 2.667 | 0.077 | 2.758 | |
| within_clust_sort | 3.100 | 0.022 | 3.143 | |