| Back to Multiple platform build/check report for BioC 3.18: simplified long |
|
This page was generated on 2024-04-17 11:36:21 -0400 (Wed, 17 Apr 2024).
| Hostname | OS | Arch (*) | R version | Installed pkgs |
|---|---|---|---|---|
| nebbiolo2 | Linux (Ubuntu 22.04.3 LTS) | x86_64 | 4.3.3 (2024-02-29) -- "Angel Food Cake" | 4676 |
| palomino4 | Windows Server 2022 Datacenter | x64 | 4.3.3 (2024-02-29 ucrt) -- "Angel Food Cake" | 4414 |
| merida1 | macOS 12.7.1 Monterey | x86_64 | 4.3.3 (2024-02-29) -- "Angel Food Cake" | 4437 |
| Click on any hostname to see more info about the system (e.g. compilers) (*) as reported by 'uname -p', except on Windows and Mac OS X | ||||
| Package 1857/2266 | Hostname | OS / Arch | INSTALL | BUILD | CHECK | BUILD BIN | ||||||||
| scater 1.30.1 (landing page) Alan O'Callaghan
| nebbiolo2 | Linux (Ubuntu 22.04.3 LTS) / x86_64 | OK | OK | OK | |||||||||
| palomino4 | Windows Server 2022 Datacenter / x64 | OK | OK | OK | OK | |||||||||
| merida1 | macOS 12.7.1 Monterey / x86_64 | OK | OK | OK | OK | |||||||||
| kjohnson1 | macOS 13.6.1 Ventura / arm64 | see weekly results here | ||||||||||||
|
To the developers/maintainers of the scater package: - Allow up to 24 hours (and sometimes 48 hours) for your latest push to git@git.bioconductor.org:packages/scater.git to reflect on this report. See Troubleshooting Build Report for more information. - Use the following Renviron settings to reproduce errors and warnings. - If 'R CMD check' started to fail recently on the Linux builder(s) over a missing dependency, add the missing dependency to 'Suggests:' in your DESCRIPTION file. See Renviron.bioc for more information. |
| Package: scater |
| Version: 1.30.1 |
| Command: /home/biocbuild/bbs-3.18-bioc/R/bin/R CMD check --install=check:scater.install-out.txt --library=/home/biocbuild/bbs-3.18-bioc/R/site-library --timings scater_1.30.1.tar.gz |
| StartedAt: 2024-04-16 03:25:54 -0400 (Tue, 16 Apr 2024) |
| EndedAt: 2024-04-16 03:39:16 -0400 (Tue, 16 Apr 2024) |
| EllapsedTime: 801.6 seconds |
| RetCode: 0 |
| Status: OK |
| CheckDir: scater.Rcheck |
| Warnings: 0 |
##############################################################################
##############################################################################
###
### Running command:
###
### /home/biocbuild/bbs-3.18-bioc/R/bin/R CMD check --install=check:scater.install-out.txt --library=/home/biocbuild/bbs-3.18-bioc/R/site-library --timings scater_1.30.1.tar.gz
###
##############################################################################
##############################################################################
* using log directory ‘/home/biocbuild/bbs-3.18-bioc/meat/scater.Rcheck’
* using R version 4.3.3 (2024-02-29)
* using platform: x86_64-pc-linux-gnu (64-bit)
* R was compiled by
gcc (Ubuntu 11.4.0-1ubuntu1~22.04) 11.4.0
GNU Fortran (Ubuntu 11.4.0-1ubuntu1~22.04) 11.4.0
* running under: Ubuntu 22.04.4 LTS
* using session charset: UTF-8
* checking for file ‘scater/DESCRIPTION’ ... OK
* checking extension type ... Package
* this is package ‘scater’ version ‘1.30.1’
* package encoding: UTF-8
* checking package namespace information ... OK
* checking package dependencies ... OK
* checking if this is a source package ... OK
* checking if there is a namespace ... OK
* checking for hidden files and directories ... OK
* checking for portable file names ... OK
* checking for sufficient/correct file permissions ... OK
* checking whether package ‘scater’ can be installed ... OK
* checking installed package size ... OK
* checking package directory ... OK
* checking ‘build’ directory ... OK
* checking DESCRIPTION meta-information ... OK
* checking top-level files ... OK
* checking for left-over files ... OK
* checking index information ... OK
* checking package subdirectories ... OK
* checking R files for non-ASCII characters ... OK
* checking R files for syntax errors ... OK
* checking whether the package can be loaded ... OK
* checking whether the package can be loaded with stated dependencies ... OK
* checking whether the package can be unloaded cleanly ... OK
* checking whether the namespace can be loaded with stated dependencies ... OK
* checking whether the namespace can be unloaded cleanly ... OK
* checking loading without being on the library search path ... OK
* checking dependencies in R code ... OK
* checking S3 generic/method consistency ... OK
* checking replacement functions ... OK
* checking foreign function calls ... OK
* checking R code for possible problems ... OK
* checking Rd files ... OK
* checking Rd metadata ... OK
* checking Rd cross-references ... OK
* checking for missing documentation entries ... OK
* checking for code/documentation mismatches ... OK
* checking Rd \usage sections ... OK
* checking Rd contents ... OK
* checking for unstated dependencies in examples ... OK
* checking files in ‘vignettes’ ... OK
* checking examples ... OK
Examples with CPU (user + system) or elapsed time > 5s
user system elapsed
plotReducedDim 16.982 1.003 17.384
plotRLE 10.589 0.403 10.964
runMultiUMAP 6.244 0.188 6.429
projectReducedDim 5.735 0.203 5.938
plotExpression 4.991 0.153 5.052
* checking for unstated dependencies in ‘tests’ ... OK
* checking tests ...
Running ‘testthat.R’
OK
* checking for unstated dependencies in vignettes ... OK
* checking package vignettes in ‘inst/doc’ ... OK
* checking running R code from vignettes ...
‘overview.Rmd’ using ‘UTF-8’... OK
OK
* checking re-building of vignette outputs ... OK
* checking PDF version of manual ... OK
* DONE
Status: OK
scater.Rcheck/00install.out
############################################################################## ############################################################################## ### ### Running command: ### ### /home/biocbuild/bbs-3.18-bioc/R/bin/R CMD INSTALL scater ### ############################################################################## ############################################################################## * installing to library ‘/home/biocbuild/bbs-3.18-bioc/R/site-library’ * installing *source* package ‘scater’ ... ** using staged installation ** R ** inst ** byte-compile and prepare package for lazy loading ** help *** installing help indices ** building package indices ** installing vignettes ** testing if installed package can be loaded from temporary location ** testing if installed package can be loaded from final location ** testing if installed package keeps a record of temporary installation path * DONE (scater)
scater.Rcheck/tests/testthat.Rout
R version 4.3.3 (2024-02-29) -- "Angel Food Cake"
Copyright (C) 2024 The R Foundation for Statistical Computing
Platform: x86_64-pc-linux-gnu (64-bit)
R is free software and comes with ABSOLUTELY NO WARRANTY.
You are welcome to redistribute it under certain conditions.
Type 'license()' or 'licence()' for distribution details.
R is a collaborative project with many contributors.
Type 'contributors()' for more information and
'citation()' on how to cite R or R packages in publications.
Type 'demo()' for some demos, 'help()' for on-line help, or
'help.start()' for an HTML browser interface to help.
Type 'q()' to quit R.
> Sys.setenv("R_TESTS" = "")
> library(testthat)
> library(scater)
Loading required package: SingleCellExperiment
Loading required package: SummarizedExperiment
Loading required package: MatrixGenerics
Loading required package: matrixStats
Attaching package: 'MatrixGenerics'
The following objects are masked from 'package:matrixStats':
colAlls, colAnyNAs, colAnys, colAvgsPerRowSet, colCollapse,
colCounts, colCummaxs, colCummins, colCumprods, colCumsums,
colDiffs, colIQRDiffs, colIQRs, colLogSumExps, colMadDiffs,
colMads, colMaxs, colMeans2, colMedians, colMins, colOrderStats,
colProds, colQuantiles, colRanges, colRanks, colSdDiffs, colSds,
colSums2, colTabulates, colVarDiffs, colVars, colWeightedMads,
colWeightedMeans, colWeightedMedians, colWeightedSds,
colWeightedVars, rowAlls, rowAnyNAs, rowAnys, rowAvgsPerColSet,
rowCollapse, rowCounts, rowCummaxs, rowCummins, rowCumprods,
rowCumsums, rowDiffs, rowIQRDiffs, rowIQRs, rowLogSumExps,
rowMadDiffs, rowMads, rowMaxs, rowMeans2, rowMedians, rowMins,
rowOrderStats, rowProds, rowQuantiles, rowRanges, rowRanks,
rowSdDiffs, rowSds, rowSums2, rowTabulates, rowVarDiffs, rowVars,
rowWeightedMads, rowWeightedMeans, rowWeightedMedians,
rowWeightedSds, rowWeightedVars
Loading required package: GenomicRanges
Loading required package: stats4
Loading required package: BiocGenerics
Attaching package: 'BiocGenerics'
The following objects are masked from 'package:stats':
IQR, mad, sd, var, xtabs
The following objects are masked from 'package:base':
Filter, Find, Map, Position, Reduce, anyDuplicated, aperm, append,
as.data.frame, basename, cbind, colnames, dirname, do.call,
duplicated, eval, evalq, get, grep, grepl, intersect, is.unsorted,
lapply, mapply, match, mget, order, paste, pmax, pmax.int, pmin,
pmin.int, rank, rbind, rownames, sapply, setdiff, sort, table,
tapply, union, unique, unsplit, which.max, which.min
Loading required package: S4Vectors
Attaching package: 'S4Vectors'
The following object is masked from 'package:utils':
findMatches
The following objects are masked from 'package:base':
I, expand.grid, unname
Loading required package: IRanges
Loading required package: GenomeInfoDb
Loading required package: Biobase
Welcome to Bioconductor
Vignettes contain introductory material; view with
'browseVignettes()'. To cite Bioconductor, see
'citation("Biobase")', and for packages 'citation("pkgname")'.
Attaching package: 'Biobase'
The following object is masked from 'package:MatrixGenerics':
rowMedians
The following objects are masked from 'package:matrixStats':
anyMissing, rowMedians
Loading required package: scuttle
Loading required package: ggplot2
>
> test_check("scater")
Loading required package: Matrix
Attaching package: 'Matrix'
The following object is masked from 'package:S4Vectors':
expand
Loading required package: S4Arrays
Loading required package: abind
Attaching package: 'S4Arrays'
The following object is masked from 'package:abind':
abind
The following object is masked from 'package:base':
rowsum
Loading required package: SparseArray
Attaching package: 'DelayedArray'
The following objects are masked from 'package:base':
apply, scale, sweep
[ FAIL 0 | WARN 31 | SKIP 0 | PASS 801 ]
[ FAIL 0 | WARN 31 | SKIP 0 | PASS 801 ]
>
> proc.time()
user system elapsed
255.305 8.471 273.283
scater.Rcheck/scater-Ex.timings
| name | user | system | elapsed | |
| accessors | 1.787 | 0.072 | 1.859 | |
| annotateBMFeatures | 0 | 0 | 0 | |
| bootstraps | 0.379 | 0.000 | 0.379 | |
| defunct | 0.001 | 0.000 | 0.001 | |
| getExplanatoryPCs | 1.576 | 0.080 | 1.656 | |
| getVarianceExplained | 0.529 | 0.004 | 0.533 | |
| ggsce | 1.883 | 0.028 | 1.911 | |
| nexprs | 0.387 | 0.008 | 0.395 | |
| plotColData | 3.525 | 0.152 | 3.595 | |
| plotDots | 2.095 | 0.068 | 2.162 | |
| plotExplanatoryPCs | 1.256 | 0.000 | 1.256 | |
| plotExplanatoryVariables | 0.751 | 0.036 | 0.787 | |
| plotExpression | 4.991 | 0.153 | 5.052 | |
| plotGroupedHeatmap | 0.718 | 0.016 | 0.734 | |
| plotHeatmap | 0.681 | 0.004 | 0.685 | |
| plotHighestExprs | 1.332 | 0.020 | 1.352 | |
| plotPlatePosition | 1.165 | 0.004 | 1.170 | |
| plotRLE | 10.589 | 0.403 | 10.964 | |
| plotReducedDim | 16.982 | 1.003 | 17.384 | |
| plotRowData | 0.741 | 0.036 | 0.777 | |
| plotScater | 2.841 | 0.177 | 3.017 | |
| plot_reddim | 3.420 | 0.136 | 3.556 | |
| projectReducedDim | 5.735 | 0.203 | 5.938 | |
| retrieveCellInfo | 0.544 | 0.012 | 0.555 | |
| retrieveFeatureInfo | 0.551 | 0.004 | 0.554 | |
| runColDataPCA | 0.841 | 0.036 | 0.877 | |
| runMDS | 0.690 | 0.016 | 0.707 | |
| runMultiUMAP | 6.244 | 0.188 | 6.429 | |
| runNMF | 0.652 | 0.008 | 0.660 | |
| runPCA | 0.768 | 0.003 | 0.772 | |
| runTSNE | 1.223 | 0.012 | 1.235 | |
| runUMAP | 3.974 | 0.132 | 4.105 | |
| toSingleCellExperiment | 0.000 | 0.000 | 0.001 | |