| Back to Multiple platform build/check report for BioC 3.18: simplified long |
|
This page was generated on 2024-04-17 11:37:17 -0400 (Wed, 17 Apr 2024).
| Hostname | OS | Arch (*) | R version | Installed pkgs |
|---|---|---|---|---|
| nebbiolo2 | Linux (Ubuntu 22.04.3 LTS) | x86_64 | 4.3.3 (2024-02-29) -- "Angel Food Cake" | 4676 |
| palomino4 | Windows Server 2022 Datacenter | x64 | 4.3.3 (2024-02-29 ucrt) -- "Angel Food Cake" | 4414 |
| merida1 | macOS 12.7.1 Monterey | x86_64 | 4.3.3 (2024-02-29) -- "Angel Food Cake" | 4437 |
| Click on any hostname to see more info about the system (e.g. compilers) (*) as reported by 'uname -p', except on Windows and Mac OS X | ||||
| Package 1875/2266 | Hostname | OS / Arch | INSTALL | BUILD | CHECK | BUILD BIN | ||||||||
| scGPS 1.16.0 (landing page) Quan Nguyen
| nebbiolo2 | Linux (Ubuntu 22.04.3 LTS) / x86_64 | OK | OK | OK | |||||||||
| palomino4 | Windows Server 2022 Datacenter / x64 | OK | OK | OK | OK | |||||||||
| merida1 | macOS 12.7.1 Monterey / x86_64 | OK | OK | OK | OK | |||||||||
| kjohnson1 | macOS 13.6.1 Ventura / arm64 | see weekly results here | ||||||||||||
|
To the developers/maintainers of the scGPS package: - Allow up to 24 hours (and sometimes 48 hours) for your latest push to git@git.bioconductor.org:packages/scGPS.git to reflect on this report. See Troubleshooting Build Report for more information. - Use the following Renviron settings to reproduce errors and warnings. - If 'R CMD check' started to fail recently on the Linux builder(s) over a missing dependency, add the missing dependency to 'Suggests:' in your DESCRIPTION file. See Renviron.bioc for more information. |
| Package: scGPS |
| Version: 1.16.0 |
| Command: F:\biocbuild\bbs-3.18-bioc\R\bin\R.exe CMD check --no-multiarch --install=check:scGPS.install-out.txt --library=F:\biocbuild\bbs-3.18-bioc\R\library --no-vignettes --timings scGPS_1.16.0.tar.gz |
| StartedAt: 2024-04-16 04:48:48 -0400 (Tue, 16 Apr 2024) |
| EndedAt: 2024-04-16 04:56:23 -0400 (Tue, 16 Apr 2024) |
| EllapsedTime: 455.1 seconds |
| RetCode: 0 |
| Status: OK |
| CheckDir: scGPS.Rcheck |
| Warnings: 0 |
##############################################################################
##############################################################################
###
### Running command:
###
### F:\biocbuild\bbs-3.18-bioc\R\bin\R.exe CMD check --no-multiarch --install=check:scGPS.install-out.txt --library=F:\biocbuild\bbs-3.18-bioc\R\library --no-vignettes --timings scGPS_1.16.0.tar.gz
###
##############################################################################
##############################################################################
* using log directory 'F:/biocbuild/bbs-3.18-bioc/meat/scGPS.Rcheck'
* using R version 4.3.3 (2024-02-29 ucrt)
* using platform: x86_64-w64-mingw32 (64-bit)
* R was compiled by
gcc.exe (GCC) 12.3.0
GNU Fortran (GCC) 12.3.0
* running under: Windows Server 2022 x64 (build 20348)
* using session charset: UTF-8
* using option '--no-vignettes'
* checking for file 'scGPS/DESCRIPTION' ... OK
* checking extension type ... Package
* this is package 'scGPS' version '1.16.0'
* package encoding: UTF-8
* checking package namespace information ... OK
* checking package dependencies ... OK
* checking if this is a source package ... OK
* checking if there is a namespace ... OK
* checking for hidden files and directories ... OK
* checking for portable file names ... OK
* checking whether package 'scGPS' can be installed ... OK
* used C++ compiler: 'G__~1.EXE (GCC) 12.3.0'
* checking installed package size ... OK
* checking package directory ... OK
* checking 'build' directory ... OK
* checking DESCRIPTION meta-information ... OK
* checking top-level files ... OK
* checking for left-over files ... OK
* checking index information ... OK
* checking package subdirectories ... OK
* checking R files for non-ASCII characters ... OK
* checking R files for syntax errors ... OK
* checking whether the package can be loaded ... OK
* checking whether the package can be loaded with stated dependencies ... OK
* checking whether the package can be unloaded cleanly ... OK
* checking whether the namespace can be loaded with stated dependencies ... OK
* checking whether the namespace can be unloaded cleanly ... OK
* checking dependencies in R code ... OK
* checking S3 generic/method consistency ... OK
* checking replacement functions ... OK
* checking foreign function calls ... OK
* checking R code for possible problems ... NOTE
plot_reduced: no visible binding for global variable '..count..'
Undefined global functions or variables:
..count..
* checking Rd files ... OK
* checking Rd metadata ... OK
* checking Rd cross-references ... OK
* checking for missing documentation entries ... OK
* checking for code/documentation mismatches ... OK
* checking Rd \usage sections ... OK
* checking Rd contents ... OK
* checking for unstated dependencies in examples ... OK
* checking contents of 'data' directory ... OK
* checking data for non-ASCII characters ... OK
* checking LazyData ... OK
* checking data for ASCII and uncompressed saves ... OK
* checking line endings in C/C++/Fortran sources/headers ... OK
* checking line endings in Makefiles ... OK
* checking compilation flags in Makevars ... OK
* checking for GNU extensions in Makefiles ... OK
* checking for portable use of $(BLAS_LIBS) and $(LAPACK_LIBS) ... OK
* checking use of PKG_*FLAGS in Makefiles ... OK
* checking compiled code ... NOTE
Note: information on .o files for x64 is not available
File 'F:/biocbuild/bbs-3.18-bioc/R/library/scGPS/libs/x64/scGPS.dll':
Found 'abort', possibly from 'abort' (C), 'runtime' (Fortran)
Found 'exit', possibly from 'exit' (C), 'stop' (Fortran)
Compiled code should not call entry points which might terminate R nor
write to stdout/stderr instead of to the console, nor use Fortran I/O
nor system RNGs nor [v]sprintf. The detected symbols are linked into
the code but might come from libraries and not actually be called.
See 'Writing portable packages' in the 'Writing R Extensions' manual.
* checking files in 'vignettes' ... OK
* checking examples ... OK
Examples with CPU (user + system) or elapsed time > 5s
user system elapsed
find_markers 61.68 0.52 62.22
annotate_clusters 39.78 1.75 41.56
CORE_bagging 11.87 0.31 10.44
clustering_bagging 9.77 0.04 7.14
plot_optimal_CORE 7.02 0.06 4.26
rand_index 6.76 0.05 3.95
CORE_subcluster 6.49 0.04 3.55
plot_CORE 6.34 0.08 3.05
plot_reduced 6.12 0.03 6.17
find_optimal_stability 5.75 0.03 3.08
clustering 5.56 0.19 2.94
find_stability 5.72 0.03 3.12
CORE_clustering 5.56 0.05 2.83
tSNE 5.51 0.07 5.58
* checking for unstated dependencies in 'tests' ... OK
* checking tests ...
Running 'testthat.R'
OK
* checking for unstated dependencies in vignettes ... OK
* checking package vignettes in 'inst/doc' ... OK
* checking running R code from vignettes ... SKIPPED
* checking re-building of vignette outputs ... SKIPPED
* checking PDF version of manual ... OK
* DONE
Status: 2 NOTEs
See
'F:/biocbuild/bbs-3.18-bioc/meat/scGPS.Rcheck/00check.log'
for details.
scGPS.Rcheck/00install.out
############################################################################## ############################################################################## ### ### Running command: ### ### F:\biocbuild\bbs-3.18-bioc\R\bin\R.exe CMD INSTALL scGPS ### ############################################################################## ############################################################################## * installing to library 'F:/biocbuild/bbs-3.18-bioc/R/library' * installing *source* package 'scGPS' ... ** using staged installation ** libs using C++ compiler: 'G__~1.EXE (GCC) 12.3.0' g++ -std=gnu++17 -I"F:/biocbuild/bbs-3.18-bioc/R/include" -DNDEBUG -I'F:/biocbuild/bbs-3.18-bioc/R/library/Rcpp/include' -I'F:/biocbuild/bbs-3.18-bioc/R/library/RcppArmadillo/include' -I'F:/biocbuild/bbs-3.18-bioc/R/library/RcppParallel/include' -I"C:/rtools43/x86_64-w64-mingw32.static.posix/include" -O2 -Wall -mfpmath=sse -msse2 -mstackrealign -c RcppExports.cpp -o RcppExports.o g++ -std=gnu++17 -I"F:/biocbuild/bbs-3.18-bioc/R/include" -DNDEBUG -I'F:/biocbuild/bbs-3.18-bioc/R/library/Rcpp/include' -I'F:/biocbuild/bbs-3.18-bioc/R/library/RcppArmadillo/include' -I'F:/biocbuild/bbs-3.18-bioc/R/library/RcppParallel/include' -I"C:/rtools43/x86_64-w64-mingw32.static.posix/include" -O2 -Wall -mfpmath=sse -msse2 -mstackrealign -c dist_mat_cpp.cpp -o dist_mat_cpp.o g++ -std=gnu++17 -I"F:/biocbuild/bbs-3.18-bioc/R/include" -DNDEBUG -I'F:/biocbuild/bbs-3.18-bioc/R/library/Rcpp/include' -I'F:/biocbuild/bbs-3.18-bioc/R/library/RcppArmadillo/include' -I'F:/biocbuild/bbs-3.18-bioc/R/library/RcppParallel/include' -I"C:/rtools43/x86_64-w64-mingw32.static.posix/include" -O2 -Wall -mfpmath=sse -msse2 -mstackrealign -c dist_parallel_cpp.cpp -o dist_parallel_cpp.o g++ -std=gnu++17 -I"F:/biocbuild/bbs-3.18-bioc/R/include" -DNDEBUG -I'F:/biocbuild/bbs-3.18-bioc/R/library/Rcpp/include' -I'F:/biocbuild/bbs-3.18-bioc/R/library/RcppArmadillo/include' -I'F:/biocbuild/bbs-3.18-bioc/R/library/RcppParallel/include' -I"C:/rtools43/x86_64-w64-mingw32.static.posix/include" -O2 -Wall -mfpmath=sse -msse2 -mstackrealign -c utils_rcpp.cpp -o utils_rcpp.o g++ -std=gnu++17 -shared -s -static-libgcc -o scGPS.dll tmp.def RcppExports.o dist_mat_cpp.o dist_parallel_cpp.o utils_rcpp.o -LF:/biocbuild/bbs-3.18-bioc/R/bin/x64 -lRlapack -LF:/biocbuild/bbs-3.18-bioc/R/bin/x64 -lRblas -lgfortran -lm -lquadmath -LC:/rtools43/x86_64-w64-mingw32.static.posix/lib/x64 -LC:/rtools43/x86_64-w64-mingw32.static.posix/lib -LF:/biocbuild/bbs-3.18-bioc/R/bin/x64 -lR installing to F:/biocbuild/bbs-3.18-bioc/R/library/00LOCK-scGPS/00new/scGPS/libs/x64 ** R ** data *** moving datasets to lazyload DB ** byte-compile and prepare package for lazy loading ** help *** installing help indices *** copying figures ** building package indices ** installing vignettes ** testing if installed package can be loaded from temporary location ** testing if installed package can be loaded from final location ** testing if installed package keeps a record of temporary installation path * DONE (scGPS)
scGPS.Rcheck/tests/testthat.Rout
R version 4.3.3 (2024-02-29 ucrt) -- "Angel Food Cake"
Copyright (C) 2024 The R Foundation for Statistical Computing
Platform: x86_64-w64-mingw32/x64 (64-bit)
R is free software and comes with ABSOLUTELY NO WARRANTY.
You are welcome to redistribute it under certain conditions.
Type 'license()' or 'licence()' for distribution details.
R is a collaborative project with many contributors.
Type 'contributors()' for more information and
'citation()' on how to cite R or R packages in publications.
Type 'demo()' for some demos, 'help()' for on-line help, or
'help.start()' for an HTML browser interface to help.
Type 'q()' to quit R.
> library(testthat)
> library(scGPS)
Loading required package: SummarizedExperiment
Loading required package: MatrixGenerics
Loading required package: matrixStats
Attaching package: 'MatrixGenerics'
The following objects are masked from 'package:matrixStats':
colAlls, colAnyNAs, colAnys, colAvgsPerRowSet, colCollapse,
colCounts, colCummaxs, colCummins, colCumprods, colCumsums,
colDiffs, colIQRDiffs, colIQRs, colLogSumExps, colMadDiffs,
colMads, colMaxs, colMeans2, colMedians, colMins, colOrderStats,
colProds, colQuantiles, colRanges, colRanks, colSdDiffs, colSds,
colSums2, colTabulates, colVarDiffs, colVars, colWeightedMads,
colWeightedMeans, colWeightedMedians, colWeightedSds,
colWeightedVars, rowAlls, rowAnyNAs, rowAnys, rowAvgsPerColSet,
rowCollapse, rowCounts, rowCummaxs, rowCummins, rowCumprods,
rowCumsums, rowDiffs, rowIQRDiffs, rowIQRs, rowLogSumExps,
rowMadDiffs, rowMads, rowMaxs, rowMeans2, rowMedians, rowMins,
rowOrderStats, rowProds, rowQuantiles, rowRanges, rowRanks,
rowSdDiffs, rowSds, rowSums2, rowTabulates, rowVarDiffs, rowVars,
rowWeightedMads, rowWeightedMeans, rowWeightedMedians,
rowWeightedSds, rowWeightedVars
Loading required package: GenomicRanges
Loading required package: stats4
Loading required package: BiocGenerics
Attaching package: 'BiocGenerics'
The following objects are masked from 'package:stats':
IQR, mad, sd, var, xtabs
The following objects are masked from 'package:base':
Filter, Find, Map, Position, Reduce, anyDuplicated, aperm, append,
as.data.frame, basename, cbind, colnames, dirname, do.call,
duplicated, eval, evalq, get, grep, grepl, intersect, is.unsorted,
lapply, mapply, match, mget, order, paste, pmax, pmax.int, pmin,
pmin.int, rank, rbind, rownames, sapply, setdiff, sort, table,
tapply, union, unique, unsplit, which.max, which.min
Loading required package: S4Vectors
Attaching package: 'S4Vectors'
The following object is masked from 'package:utils':
findMatches
The following objects are masked from 'package:base':
I, expand.grid, unname
Loading required package: IRanges
Attaching package: 'IRanges'
The following object is masked from 'package:grDevices':
windows
Loading required package: GenomeInfoDb
Loading required package: Biobase
Welcome to Bioconductor
Vignettes contain introductory material; view with
'browseVignettes()'. To cite Bioconductor, see
'citation("Biobase")', and for packages 'citation("pkgname")'.
Attaching package: 'Biobase'
The following object is masked from 'package:MatrixGenerics':
rowMedians
The following objects are masked from 'package:matrixStats':
anyMissing, rowMedians
Loading required package: dynamicTreeCut
Loading required package: SingleCellExperiment
>
> test_check("scGPS")
[ FAIL 0 | WARN 0 | SKIP 0 | PASS 2 ]
>
> proc.time()
user system elapsed
11.60 0.65 12.23
scGPS.Rcheck/scGPS-Ex.timings
| name | user | system | elapsed | |
| CORE_bagging | 11.87 | 0.31 | 10.44 | |
| CORE_clustering | 5.56 | 0.05 | 2.83 | |
| CORE_subcluster | 6.49 | 0.04 | 3.55 | |
| PCA | 4.89 | 0.08 | 4.97 | |
| PrinComp_cpp | 0.17 | 0.00 | 0.17 | |
| annotate_clusters | 39.78 | 1.75 | 41.56 | |
| bootstrap_parallel | 0.61 | 0.03 | 0.64 | |
| bootstrap_prediction | 3.48 | 0.22 | 3.70 | |
| calcDist | 0.83 | 0.27 | 1.09 | |
| calcDistArma | 0 | 0 | 0 | |
| clustering | 5.56 | 0.19 | 2.94 | |
| clustering_bagging | 9.77 | 0.04 | 7.14 | |
| distvec | 0 | 0 | 0 | |
| find_markers | 61.68 | 0.52 | 62.22 | |
| find_optimal_stability | 5.75 | 0.03 | 3.08 | |
| find_stability | 5.72 | 0.03 | 3.12 | |
| mean_cpp | 0 | 0 | 0 | |
| new_scGPS_object | 0.42 | 0.03 | 0.45 | |
| new_summarized_scGPS_object | 0.03 | 0.00 | 0.03 | |
| plot_CORE | 6.34 | 0.08 | 3.05 | |
| plot_optimal_CORE | 7.02 | 0.06 | 4.26 | |
| plot_reduced | 6.12 | 0.03 | 6.17 | |
| predicting | 2.16 | 0.03 | 2.19 | |
| rand_index | 6.76 | 0.05 | 3.95 | |
| rcpp_Eucl_distance_NotPar | 0.02 | 0.02 | 0.04 | |
| rcpp_parallel_distance | 0.17 | 0.00 | 0.17 | |
| reformat_LASSO | 3.11 | 0.08 | 3.19 | |
| sub_clustering | 0.10 | 0.00 | 0.11 | |
| subset_cpp | 0.24 | 0.01 | 0.25 | |
| summary_accuracy | 2.00 | 0.03 | 2.03 | |
| summary_deviance | 2.95 | 0.06 | 3.02 | |
| summary_prediction_lasso | 2.75 | 0.02 | 2.76 | |
| summary_prediction_lda | 2.10 | 0.09 | 2.19 | |
| tSNE | 5.51 | 0.07 | 5.58 | |
| top_var | 0.39 | 0.00 | 0.39 | |
| tp_cpp | 0.25 | 0.00 | 0.25 | |
| training | 1.02 | 0.04 | 1.06 | |
| var_cpp | 0 | 0 | 0 | |