| Back to Multiple platform build/check report for BioC 3.18: simplified long |
|
This page was generated on 2024-03-04 11:37:47 -0500 (Mon, 04 Mar 2024).
| Hostname | OS | Arch (*) | R version | Installed pkgs |
|---|---|---|---|---|
| nebbiolo2 | Linux (Ubuntu 22.04.3 LTS) | x86_64 | 4.3.2 Patched (2023-11-13 r85521) -- "Eye Holes" | 4692 |
| palomino4 | Windows Server 2022 Datacenter | x64 | 4.3.2 (2023-10-31 ucrt) -- "Eye Holes" | 4445 |
| lconway | macOS 12.7.1 Monterey | x86_64 | 4.3.2 Patched (2023-11-01 r85457) -- "Eye Holes" | 4466 |
| Click on any hostname to see more info about the system (e.g. compilers) (*) as reported by 'uname -p', except on Windows and Mac OS X | ||||
| Package 1789/2266 | Hostname | OS / Arch | INSTALL | BUILD | CHECK | BUILD BIN | ||||||||
| rols 2.30.2 (landing page) Laurent Gatto
| nebbiolo2 | Linux (Ubuntu 22.04.3 LTS) / x86_64 | OK | OK | OK | |||||||||
| palomino4 | Windows Server 2022 Datacenter / x64 | OK | OK | OK | OK | |||||||||
| lconway | macOS 12.7.1 Monterey / x86_64 | OK | OK | OK | OK | |||||||||
| kjohnson1 | macOS 13.6.1 Ventura / arm64 | see weekly results here | ||||||||||||
|
To the developers/maintainers of the rols package: - Allow up to 24 hours (and sometimes 48 hours) for your latest push to git@git.bioconductor.org:packages/rols.git to reflect on this report. See Troubleshooting Build Report for more information. - Use the following Renviron settings to reproduce errors and warnings. - If 'R CMD check' started to fail recently on the Linux builder(s) over a missing dependency, add the missing dependency to 'Suggests:' in your DESCRIPTION file. See Renviron.bioc for more information. |
| Package: rols |
| Version: 2.30.2 |
| Command: /Library/Frameworks/R.framework/Resources/bin/R CMD check --install=check:rols.install-out.txt --library=/Library/Frameworks/R.framework/Resources/library --no-vignettes --timings rols_2.30.2.tar.gz |
| StartedAt: 2024-03-03 23:05:50 -0500 (Sun, 03 Mar 2024) |
| EndedAt: 2024-03-03 23:08:25 -0500 (Sun, 03 Mar 2024) |
| EllapsedTime: 155.0 seconds |
| RetCode: 0 |
| Status: OK |
| CheckDir: rols.Rcheck |
| Warnings: 0 |
##############################################################################
##############################################################################
###
### Running command:
###
### /Library/Frameworks/R.framework/Resources/bin/R CMD check --install=check:rols.install-out.txt --library=/Library/Frameworks/R.framework/Resources/library --no-vignettes --timings rols_2.30.2.tar.gz
###
##############################################################################
##############################################################################
* using log directory ‘/Users/biocbuild/bbs-3.18-bioc/meat/rols.Rcheck’
* using R version 4.3.2 Patched (2023-11-01 r85457)
* using platform: x86_64-apple-darwin20 (64-bit)
* R was compiled by
Apple clang version 14.0.3 (clang-1403.0.22.14.1)
GNU Fortran (GCC) 12.2.0
* running under: macOS Monterey 12.7.1
* using session charset: UTF-8
* using option ‘--no-vignettes’
* checking for file ‘rols/DESCRIPTION’ ... OK
* checking extension type ... Package
* this is package ‘rols’ version ‘2.30.2’
* package encoding: UTF-8
* checking package namespace information ... OK
* checking package dependencies ... OK
* checking if this is a source package ... OK
* checking if there is a namespace ... OK
* checking for hidden files and directories ... OK
* checking for portable file names ... OK
* checking for sufficient/correct file permissions ... OK
* checking whether package ‘rols’ can be installed ... OK
* checking installed package size ... OK
* checking package directory ... OK
* checking ‘build’ directory ... OK
* checking DESCRIPTION meta-information ... OK
* checking top-level files ... OK
* checking for left-over files ... OK
* checking index information ... OK
* checking package subdirectories ... OK
* checking R files for non-ASCII characters ... OK
* checking R files for syntax errors ... OK
* checking whether the package can be loaded ... OK
* checking whether the package can be loaded with stated dependencies ... OK
* checking whether the package can be unloaded cleanly ... OK
* checking whether the namespace can be loaded with stated dependencies ... OK
* checking whether the namespace can be unloaded cleanly ... OK
* checking startup messages can be suppressed ... OK
* checking dependencies in R code ... OK
* checking S3 generic/method consistency ... OK
* checking replacement functions ... OK
* checking foreign function calls ... OK
* checking R code for possible problems ... OK
* checking Rd files ... OK
* checking Rd metadata ... OK
* checking Rd cross-references ... OK
* checking for missing documentation entries ... OK
* checking for code/documentation mismatches ... OK
* checking Rd \usage sections ... OK
* checking Rd contents ... OK
* checking for unstated dependencies in examples ... OK
* checking files in ‘vignettes’ ... OK
* checking examples ... OK
Examples with CPU (user + system) or elapsed time > 5s
user system elapsed
Terms 4.098 0.169 15.709
Properties 1.106 0.048 6.363
* checking for unstated dependencies in ‘tests’ ... OK
* checking tests ...
Running ‘testthat.R’
OK
* checking for unstated dependencies in vignettes ... OK
* checking package vignettes in ‘inst/doc’ ... OK
* checking running R code from vignettes ... SKIPPED
* checking re-building of vignette outputs ... SKIPPED
* checking PDF version of manual ... OK
* DONE
Status: OK
rols.Rcheck/00install.out
############################################################################## ############################################################################## ### ### Running command: ### ### /Library/Frameworks/R.framework/Resources/bin/R CMD INSTALL rols ### ############################################################################## ############################################################################## * installing to library ‘/Library/Frameworks/R.framework/Versions/4.3-x86_64/Resources/library’ * installing *source* package ‘rols’ ... ** using staged installation ** R ** inst ** byte-compile and prepare package for lazy loading Creating a generic function for ‘lapply’ from package ‘base’ in package ‘rols’ ** help *** installing help indices ** building package indices ** installing vignettes ** testing if installed package can be loaded from temporary location ** testing if installed package can be loaded from final location ** testing if installed package keeps a record of temporary installation path * DONE (rols)
rols.Rcheck/tests/testthat.Rout
R version 4.3.2 Patched (2023-11-01 r85457) -- "Eye Holes"
Copyright (C) 2023 The R Foundation for Statistical Computing
Platform: x86_64-apple-darwin20 (64-bit)
R is free software and comes with ABSOLUTELY NO WARRANTY.
You are welcome to redistribute it under certain conditions.
Type 'license()' or 'licence()' for distribution details.
R is a collaborative project with many contributors.
Type 'contributors()' for more information and
'citation()' on how to cite R or R packages in publications.
Type 'demo()' for some demos, 'help()' for on-line help, or
'help.start()' for an HTML browser interface to help.
Type 'q()' to quit R.
> # setting R_TESTS to empty string because of
> # https://github.com/hadley/testthat/issues/144
> # revert this when that issue in R is fixed.
> Sys.setenv("R_TESTS" = "")
> library("testthat")
> library("rols")
This is 'rols' version 2.30.2
>
> test_check("rols")
[, , Hello, World]
Object of class 'OlsSearch':
ontolgy: GO
query: cell
requested: 20 (out of 10572)
response(s): 0
Object of class 'Ontologies' with 250 entries
ADO, AGRO ... CCF, CPONT
Object of class 'Ontologies' with 1 entries
ADO
Object of class 'Ontologies' with 2 entries
ADO, AGRO
Object of class 'Ontologies' with 3 entries
ADO, AGRO, AISM
Object of class 'Ontologies' with 4 entries
ADO, AGRO, AISM, AMPHX
Object of class 'Ontologies' with 5 entries
ADO, AGRO ... AMPHX, APO
Ontology: Gene Ontology (go)
The Gene Ontology (GO) provides a framework and set of concepts for
describing the functions of gene products from all organisms.
Loaded: 2024-03-01 Updated: 2024-03-01 Version: 2024-01-17
83669 terms 362 properties 18 individuals
Object of class 'Properties' with 91 entries
From the SO ontology
definition, IAO_0000231 ... label, deprecated
Object of class 'Properties' with 160 entries
From the UBERON ontology
hepatobiliary system, exocrine system ... liver serosa, liver subserosa
A Property from the UBERON ontology: UBERON:0002423
Label: hepatobiliary system
Object of class 'Terms' with 2729 entries
From the SO ontology
SO:0001443, SO:0001444 ... SO:0001441, SO:0001442
A Term from the GO ontology: GO:0032801
Label: receptor catabolic process
The chemical reactions and pathways resulting in the breakdown of a
receptor molecule, a macromolecule that undergoes combination with a
hormone, neurotransmitter, drug or intracellular messenger to initiate
a change in cell function.
[ FAIL 0 | WARN 0 | SKIP 0 | PASS 121 ]
>
> proc.time()
user system elapsed
16.505 0.799 74.473
rols.Rcheck/rols-Ex.timings
| name | user | system | elapsed | |
| CVParam | 0.203 | 0.025 | 4.463 | |
| OlsSearch | 0.324 | 0.032 | 4.250 | |
| Ontologies | 0.528 | 0.029 | 2.986 | |
| Properties | 1.106 | 0.048 | 6.363 | |
| Terms | 4.098 | 0.169 | 15.709 | |