| Back to Multiple platform build/check report for BioC 3.18: simplified long |
|
This page was generated on 2024-03-04 11:37:42 -0500 (Mon, 04 Mar 2024).
| Hostname | OS | Arch (*) | R version | Installed pkgs |
|---|---|---|---|---|
| nebbiolo2 | Linux (Ubuntu 22.04.3 LTS) | x86_64 | 4.3.2 Patched (2023-11-13 r85521) -- "Eye Holes" | 4692 |
| palomino4 | Windows Server 2022 Datacenter | x64 | 4.3.2 (2023-10-31 ucrt) -- "Eye Holes" | 4445 |
| lconway | macOS 12.7.1 Monterey | x86_64 | 4.3.2 Patched (2023-11-01 r85457) -- "Eye Holes" | 4466 |
| Click on any hostname to see more info about the system (e.g. compilers) (*) as reported by 'uname -p', except on Windows and Mac OS X | ||||
| Package 1608/2266 | Hostname | OS / Arch | INSTALL | BUILD | CHECK | BUILD BIN | ||||||||
| psichomics 1.28.1 (landing page) Nuno Saraiva-Agostinho
| nebbiolo2 | Linux (Ubuntu 22.04.3 LTS) / x86_64 | OK | OK | OK | |||||||||
| palomino4 | Windows Server 2022 Datacenter / x64 | OK | OK | OK | OK | |||||||||
| lconway | macOS 12.7.1 Monterey / x86_64 | OK | OK | OK | OK | |||||||||
| kjohnson1 | macOS 13.6.1 Ventura / arm64 | see weekly results here | ||||||||||||
|
To the developers/maintainers of the psichomics package: - Allow up to 24 hours (and sometimes 48 hours) for your latest push to git@git.bioconductor.org:packages/psichomics.git to reflect on this report. See Troubleshooting Build Report for more information. - Use the following Renviron settings to reproduce errors and warnings. - If 'R CMD check' started to fail recently on the Linux builder(s) over a missing dependency, add the missing dependency to 'Suggests:' in your DESCRIPTION file. See Renviron.bioc for more information. |
| Package: psichomics |
| Version: 1.28.1 |
| Command: /Library/Frameworks/R.framework/Resources/bin/R CMD check --install=check:psichomics.install-out.txt --library=/Library/Frameworks/R.framework/Resources/library --no-vignettes --timings psichomics_1.28.1.tar.gz |
| StartedAt: 2024-03-03 22:42:25 -0500 (Sun, 03 Mar 2024) |
| EndedAt: 2024-03-03 22:51:40 -0500 (Sun, 03 Mar 2024) |
| EllapsedTime: 555.5 seconds |
| RetCode: 0 |
| Status: OK |
| CheckDir: psichomics.Rcheck |
| Warnings: 0 |
##############################################################################
##############################################################################
###
### Running command:
###
### /Library/Frameworks/R.framework/Resources/bin/R CMD check --install=check:psichomics.install-out.txt --library=/Library/Frameworks/R.framework/Resources/library --no-vignettes --timings psichomics_1.28.1.tar.gz
###
##############################################################################
##############################################################################
* using log directory ‘/Users/biocbuild/bbs-3.18-bioc/meat/psichomics.Rcheck’
* using R version 4.3.2 Patched (2023-11-01 r85457)
* using platform: x86_64-apple-darwin20 (64-bit)
* R was compiled by
Apple clang version 14.0.3 (clang-1403.0.22.14.1)
GNU Fortran (GCC) 12.2.0
* running under: macOS Monterey 12.7.1
* using session charset: UTF-8
* using option ‘--no-vignettes’
* checking for file ‘psichomics/DESCRIPTION’ ... OK
* this is package ‘psichomics’ version ‘1.28.1’
* package encoding: UTF-8
* checking package namespace information ... OK
* checking package dependencies ... OK
* checking if this is a source package ... OK
* checking if there is a namespace ... OK
* checking for hidden files and directories ... NOTE
Found the following hidden files and directories:
.devcontainer
These were most likely included in error. See section ‘Package
structure’ in the ‘Writing R Extensions’ manual.
* checking for portable file names ... OK
* checking for sufficient/correct file permissions ... OK
* checking whether package ‘psichomics’ can be installed ... OK
* used C++ compiler: ‘Apple clang version 14.0.0 (clang-1400.0.29.202)’
* used SDK: ‘MacOSX11.3.sdk’
* checking installed package size ... OK
* checking package directory ... OK
* checking ‘build’ directory ... OK
* checking DESCRIPTION meta-information ... OK
* checking top-level files ... OK
* checking for left-over files ... OK
* checking index information ... OK
* checking package subdirectories ... OK
* checking R files for non-ASCII characters ... OK
* checking R files for syntax errors ... OK
* checking whether the package can be loaded ... OK
* checking whether the package can be loaded with stated dependencies ... OK
* checking whether the package can be unloaded cleanly ... OK
* checking whether the namespace can be loaded with stated dependencies ... OK
* checking whether the namespace can be unloaded cleanly ... OK
* checking startup messages can be suppressed ... OK
* checking dependencies in R code ... OK
* checking S3 generic/method consistency ... OK
* checking replacement functions ... OK
* checking foreign function calls ... OK
* checking R code for possible problems ... OK
* checking Rd files ... OK
* checking Rd metadata ... OK
* checking Rd cross-references ... OK
* checking for missing documentation entries ... OK
* checking for code/documentation mismatches ... OK
* checking Rd \usage sections ... OK
* checking Rd contents ... OK
* checking for unstated dependencies in examples ... OK
* checking line endings in C/C++/Fortran sources/headers ... OK
* checking compiled code ... NOTE
Note: information on .o files is not available
* checking files in ‘vignettes’ ... OK
* checking examples ... OK
Examples with CPU (user + system) or elapsed time > 5s
user system elapsed
convertGeneIdentifiers 17.701 1.322 23.108
listSplicingAnnotations 15.121 1.197 16.808
* checking for unstated dependencies in ‘tests’ ... OK
* checking tests ...
Running ‘spelling.R’
Running ‘testthat.R’
OK
* checking for unstated dependencies in vignettes ... OK
* checking package vignettes in ‘inst/doc’ ... OK
* checking running R code from vignettes ... SKIPPED
* checking re-building of vignette outputs ... SKIPPED
* checking PDF version of manual ... OK
* DONE
Status: 2 NOTEs
See
‘/Users/biocbuild/bbs-3.18-bioc/meat/psichomics.Rcheck/00check.log’
for details.
psichomics.Rcheck/00install.out
############################################################################## ############################################################################## ### ### Running command: ### ### /Library/Frameworks/R.framework/Resources/bin/R CMD INSTALL psichomics ### ############################################################################## ############################################################################## * installing to library ‘/Library/Frameworks/R.framework/Versions/4.3-x86_64/Resources/library’ * installing *source* package ‘psichomics’ ... ** using staged installation ** libs using C++ compiler: ‘Apple clang version 14.0.0 (clang-1400.0.29.202)’ using SDK: ‘MacOSX11.3.sdk’ clang++ -arch x86_64 -std=gnu++17 -I"/Library/Frameworks/R.framework/Resources/include" -DNDEBUG -I'/Library/Frameworks/R.framework/Versions/4.3-x86_64/Resources/library/Rcpp/include' -I/opt/R/x86_64/include -fPIC -falign-functions=64 -Wall -g -O2 -c RcppExports.cpp -o RcppExports.o clang++ -arch x86_64 -std=gnu++17 -I"/Library/Frameworks/R.framework/Resources/include" -DNDEBUG -I'/Library/Frameworks/R.framework/Versions/4.3-x86_64/Resources/library/Rcpp/include' -I/opt/R/x86_64/include -fPIC -falign-functions=64 -Wall -g -O2 -c progressBar.cpp -o progressBar.o clang++ -arch x86_64 -std=gnu++17 -I"/Library/Frameworks/R.framework/Resources/include" -DNDEBUG -I'/Library/Frameworks/R.framework/Versions/4.3-x86_64/Resources/library/Rcpp/include' -I/opt/R/x86_64/include -fPIC -falign-functions=64 -Wall -g -O2 -c psiFastCalc.cpp -o psiFastCalc.o clang++ -arch x86_64 -std=gnu++17 -I"/Library/Frameworks/R.framework/Resources/include" -DNDEBUG -I'/Library/Frameworks/R.framework/Versions/4.3-x86_64/Resources/library/Rcpp/include' -I/opt/R/x86_64/include -fPIC -falign-functions=64 -Wall -g -O2 -c vastToolsParser.cpp -o vastToolsParser.o clang++ -arch x86_64 -std=gnu++17 -dynamiclib -Wl,-headerpad_max_install_names -undefined dynamic_lookup -L/Library/Frameworks/R.framework/Resources/lib -L/opt/R/x86_64/lib -o psichomics.so RcppExports.o progressBar.o psiFastCalc.o vastToolsParser.o -F/Library/Frameworks/R.framework/.. -framework R -Wl,-framework -Wl,CoreFoundation installing to /Library/Frameworks/R.framework/Versions/4.3-x86_64/Resources/library/00LOCK-psichomics/00new/psichomics/libs ** R ** inst ** byte-compile and prepare package for lazy loading Creating a generic function for ‘colSums’ from package ‘base’ in package ‘psichomics’ ** help *** installing help indices *** copying figures ** building package indices ** installing vignettes ** testing if installed package can be loaded from temporary location ** checking absolute paths in shared objects and dynamic libraries ** testing if installed package can be loaded from final location ** testing if installed package keeps a record of temporary installation path * DONE (psichomics)
psichomics.Rcheck/tests/spelling.Rout
R version 4.3.2 Patched (2023-11-01 r85457) -- "Eye Holes"
Copyright (C) 2023 The R Foundation for Statistical Computing
Platform: x86_64-apple-darwin20 (64-bit)
R is free software and comes with ABSOLUTELY NO WARRANTY.
You are welcome to redistribute it under certain conditions.
Type 'license()' or 'licence()' for distribution details.
R is a collaborative project with many contributors.
Type 'contributors()' for more information and
'citation()' on how to cite R or R packages in publications.
Type 'demo()' for some demos, 'help()' for on-line help, or
'help.start()' for an HTML browser interface to help.
Type 'q()' to quit R.
> if(requireNamespace('spelling', quietly = TRUE))
+ spelling::spell_check_test(vignettes = TRUE, error = FALSE,
+ skip_on_cran = TRUE)
NULL
>
> proc.time()
user system elapsed
0.236 0.086 0.314
psichomics.Rcheck/tests/testthat.Rout
R version 4.3.2 Patched (2023-11-01 r85457) -- "Eye Holes"
Copyright (C) 2023 The R Foundation for Statistical Computing
Platform: x86_64-apple-darwin20 (64-bit)
R is free software and comes with ABSOLUTELY NO WARRANTY.
You are welcome to redistribute it under certain conditions.
Type 'license()' or 'licence()' for distribution details.
R is a collaborative project with many contributors.
Type 'contributors()' for more information and
'citation()' on how to cite R or R packages in publications.
Type 'demo()' for some demos, 'help()' for on-line help, or
'help.start()' for an HTML browser interface to help.
Type 'q()' to quit R.
> library(testthat)
> library(psichomics)
Loading required package: shiny
Loading required package: shinyBS
Setting options('download.file.method.GEOquery'='auto')
Setting options('GEOquery.inmemory.gpl'=FALSE)
psichomics 1.28.1: start the visual interface by running psichomics()
Full documentation and tutorials at https://nuno-agostinho.github.io/psichomics
>
> test_check("psichomics")
| | 0%
|======== | 20%
|================ | 40%
|======================== | 60%
|================================ | 80%
|========================================| 100%
| | 0%
|======== | 20%
|================ | 40%
|======================== | 60%
|================================ | 80%
|========================================| 100%
| | 0%
|======== | 20%
|================ | 40%
|======================== | 60%
|================================ | 80%
|========================================| 100%
| | 0%
|======== | 20%
|================ | 40%
|======================== | 60%
|================================ | 80%
|========================================| 100%
Retrieving rMATS annotation...
Parsing rMATS annotation...
Retrieving rMATS annotation...
Parsing rMATS annotation...
Retrieving MISO annotation...
Parsing MISO annotation...
| | 0%
|======== | 20%
|================ | 40%
|======================== | 60%
|================================ | 80%
|========================================| 100%
| | 0%
|======== | 20%
|================ | 40%
|======================== | 60%
|================================ | 80%
|========================================| 100%
| | 0%
|======== | 20%
|================ | 40%
|======================== | 60%
|================================ | 80%
|========================================| 100%
| | 0%
|======== | 20%
|================ | 40%
|======================== | 60%
|================================ | 80%
|========================================| 100%
| | 0%
|======== | 20%
|================ | 40%
|======================== | 60%
|================================ | 80%
|========================================| 100%
| | 0%
|======== | 20%
|================ | 40%
|======================== | 60%
|================================ | 80%
|========================================| 100%
| | 0%
|======== | 20%
|================ | 40%
|======================== | 60%
|================================ | 80%
|========================================| 100%
| | 0%
|======== | 20%
|================ | 40%
|======================== | 60%
|================================ | 80%
|========================================| 100%
Retrieving SUPPA annotation...
Parsing SUPPA annotation...
Retrieving VAST-TOOLS annotation...
Parsing VAST-TOOLS annotation...
ALT3
ALT5
COMBI
EXSK
IR
MERGE3m
MIC
MULTI
[ FAIL 0 | WARN 0 | SKIP 4 | PASS 1418 ]
══ Skipped tests (4) ═══════════════════════════════════════════════════════════
• Couldn't resolve host name (1): 'testGeneInfo.R:99:5'
• On Bioconductor (2): 'testDiscardLowCoveragePSIs.R:62:5',
'testGeneInfo.R:50:5'
• On CRAN (1): 'testSRAloading.R:4:5'
[ FAIL 0 | WARN 0 | SKIP 4 | PASS 1418 ]
>
> proc.time()
user system elapsed
27.964 2.359 32.991
psichomics.Rcheck/psichomics-Ex.timings
| name | user | system | elapsed | |
| addObjectAttrs | 0.001 | 0.001 | 0.001 | |
| assignValuePerSubject | 0.019 | 0.009 | 0.030 | |
| blendColours | 0.001 | 0.000 | 0.001 | |
| calculateLoadingsContribution | 0.009 | 0.003 | 0.013 | |
| convertGeneIdentifiers | 17.701 | 1.322 | 23.108 | |
| correlateGEandAS | 0.023 | 0.007 | 0.030 | |
| createGroupByAttribute | 0.001 | 0.001 | 0.002 | |
| createJunctionsTemplate | 0.002 | 0.000 | 0.003 | |
| customRowMeans | 0.000 | 0.001 | 0.002 | |
| diffAnalyses | 0.091 | 0.009 | 0.101 | |
| downloadFiles | 0.000 | 0.000 | 0.001 | |
| ensemblToUniprot | 0.021 | 0.001 | 1.822 | |
| filterGeneExpr | 0.008 | 0.002 | 0.010 | |
| filterGroups | 0.001 | 0.000 | 0.003 | |
| filterPSI | 0.015 | 0.004 | 0.020 | |
| getAttributesTime | 0.003 | 0.000 | 0.003 | |
| getDownloadsFolder | 0.000 | 0.000 | 0.001 | |
| getFirebrowseDateFormat | 0.000 | 0.000 | 0.001 | |
| getGeneList | 0.004 | 0.001 | 0.006 | |
| getGtexDataTypes | 0.001 | 0.001 | 0.001 | |
| getGtexTissues | 0.000 | 0.000 | 0.001 | |
| getNumerics | 0.002 | 0.001 | 0.002 | |
| getSampleFromSubject | 0.002 | 0.001 | 0.002 | |
| getSplicingEventFromGenes | 0.004 | 0.001 | 0.006 | |
| getSplicingEventTypes | 0 | 0 | 0 | |
| getSubjectFromSample | 0.000 | 0.000 | 0.001 | |
| getTCGAdataTypes | 0.027 | 0.004 | 0.158 | |
| getValidEvents | 0.004 | 0.001 | 0.005 | |
| groupPerElem | 0.001 | 0.000 | 0.001 | |
| hchart.survfit | 0.281 | 0.157 | 0.460 | |
| isFirebrowseUp | 0.006 | 0.000 | 0.014 | |
| labelBasedOnCutoff | 0.000 | 0.000 | 0.001 | |
| leveneTest | 0.008 | 0.001 | 0.009 | |
| listAllAnnotations | 3.112 | 0.286 | 3.519 | |
| listSplicingAnnotations | 15.121 | 1.197 | 16.808 | |
| loadAnnotation | 3.781 | 0.307 | 4.217 | |
| loadGtexData | 0 | 0 | 0 | |
| loadLocalFiles | 0.000 | 0.001 | 0.001 | |
| loadSRAproject | 0.000 | 0.001 | 0.000 | |
| loadTCGAdata | 0.010 | 0.003 | 0.028 | |
| missingDataModal | 0.000 | 0.001 | 0.000 | |
| normaliseGeneExpression | 0.030 | 0.003 | 0.033 | |
| optimalSurvivalCutoff | 0.139 | 0.004 | 0.146 | |
| parseCategoricalGroups | 0.001 | 0.001 | 0.002 | |
| parseFirebrowseMetadata | 0.044 | 0.005 | 0.102 | |
| parseMatsEvent | 0.006 | 0.002 | 0.008 | |
| parseMatsGeneric | 0.024 | 0.004 | 0.028 | |
| parseMisoAnnotation | 0.153 | 0.023 | 0.183 | |
| parseMisoEvent | 0.004 | 0.001 | 0.005 | |
| parseMisoEventID | 0.006 | 0.003 | 0.010 | |
| parseMisoGeneric | 0.031 | 0.006 | 0.038 | |
| parseMisoId | 0.000 | 0.001 | 0.001 | |
| parseSplicingEvent | 0.004 | 0.002 | 0.006 | |
| parseSuppaEvent | 0.004 | 0.001 | 0.005 | |
| parseSuppaGeneric | 0.024 | 0.003 | 0.027 | |
| parseTcgaSampleInfo | 0.005 | 0.002 | 0.006 | |
| parseUrlsFromFirebrowseResponse | 0.027 | 0.002 | 0.093 | |
| parseVastToolsEvent | 0.006 | 0.001 | 0.007 | |
| parseVastToolsSE | 0.019 | 0.002 | 0.022 | |
| performICA | 0.007 | 0.004 | 0.012 | |
| performPCA | 0.001 | 0.000 | 0.002 | |
| plot.GEandAScorrelation | 0.668 | 0.024 | 0.699 | |
| plotDistribution | 0.809 | 0.102 | 0.921 | |
| plotGeneExprPerSample | 0.103 | 0.048 | 0.153 | |
| plotGroupIndependence | 0.180 | 0.004 | 0.185 | |
| plotICA | 0.136 | 0.014 | 0.152 | |
| plotLibrarySize | 0.271 | 0.056 | 0.331 | |
| plotPCA | 0.273 | 0.209 | 0.490 | |
| plotPCAvariance | 0.056 | 0.051 | 0.108 | |
| plotProtein | 0.696 | 0.117 | 2.044 | |
| plotRowStats | 0.629 | 0.016 | 0.654 | |
| plotSingleICA | 0.229 | 0.143 | 0.380 | |
| plotSplicingEvent | 0.058 | 0.002 | 0.060 | |
| plotSurvivalCurves | 0.113 | 0.053 | 0.168 | |
| plotSurvivalPvaluesByCutoff | 0.479 | 0.060 | 0.545 | |
| plotTranscripts | 0.019 | 0.001 | 1.734 | |
| prepareAnnotationFromEvents | 0.249 | 0.010 | 0.262 | |
| prepareFirebrowseArchives | 0 | 0 | 0 | |
| prepareJunctionQuantSTAR | 0.000 | 0.000 | 0.001 | |
| prepareSRAmetadata | 0 | 0 | 0 | |
| processSurvTerms | 0.011 | 0.001 | 0.012 | |
| psichomics | 0 | 0 | 0 | |
| quantifySplicing | 0.014 | 0.005 | 0.018 | |
| queryEnsembl | 0.030 | 0.002 | 1.536 | |
| queryEnsemblByGene | 0.117 | 0.018 | 3.590 | |
| queryFirebrowseData | 0.040 | 0.002 | 0.148 | |
| queryPubMed | 0.034 | 0.009 | 1.459 | |
| queryUniprot | 0.063 | 0.003 | 0.571 | |
| readFile | 0.002 | 0.001 | 0.002 | |
| renameDuplicated | 0.001 | 0.001 | 0.001 | |
| renderBoxplot | 0.087 | 0.053 | 0.143 | |
| survdiffTerms | 0.007 | 0.001 | 0.008 | |
| survfit.survTerms | 0.027 | 0.002 | 0.029 | |
| testGroupIndependence | 0.003 | 0.001 | 0.004 | |
| testSurvival | 0.026 | 0.001 | 0.027 | |
| textSuggestions | 0.001 | 0.000 | 0.001 | |
| trimWhitespace | 0.001 | 0.000 | 0.001 | |