| Back to Multiple platform build/check report for BioC 3.18: simplified long |
|
This page was generated on 2024-03-04 11:37:40 -0500 (Mon, 04 Mar 2024).
| Hostname | OS | Arch (*) | R version | Installed pkgs |
|---|---|---|---|---|
| nebbiolo2 | Linux (Ubuntu 22.04.3 LTS) | x86_64 | 4.3.2 Patched (2023-11-13 r85521) -- "Eye Holes" | 4692 |
| palomino4 | Windows Server 2022 Datacenter | x64 | 4.3.2 (2023-10-31 ucrt) -- "Eye Holes" | 4445 |
| lconway | macOS 12.7.1 Monterey | x86_64 | 4.3.2 Patched (2023-11-01 r85457) -- "Eye Holes" | 4466 |
| Click on any hostname to see more info about the system (e.g. compilers) (*) as reported by 'uname -p', except on Windows and Mac OS X | ||||
| Package 1520/2266 | Hostname | OS / Arch | INSTALL | BUILD | CHECK | BUILD BIN | ||||||||
| peakPantheR 1.16.1 (landing page) Arnaud Wolfer
| nebbiolo2 | Linux (Ubuntu 22.04.3 LTS) / x86_64 | OK | OK | OK | |||||||||
| palomino4 | Windows Server 2022 Datacenter / x64 | OK | OK | OK | OK | |||||||||
| lconway | macOS 12.7.1 Monterey / x86_64 | OK | OK | OK | OK | |||||||||
| kjohnson1 | macOS 13.6.1 Ventura / arm64 | see weekly results here | ||||||||||||
|
To the developers/maintainers of the peakPantheR package: - Allow up to 24 hours (and sometimes 48 hours) for your latest push to git@git.bioconductor.org:packages/peakPantheR.git to reflect on this report. See Troubleshooting Build Report for more information. - Use the following Renviron settings to reproduce errors and warnings. - If 'R CMD check' started to fail recently on the Linux builder(s) over a missing dependency, add the missing dependency to 'Suggests:' in your DESCRIPTION file. See Renviron.bioc for more information. |
| Package: peakPantheR |
| Version: 1.16.1 |
| Command: /Library/Frameworks/R.framework/Resources/bin/R CMD check --install=check:peakPantheR.install-out.txt --library=/Library/Frameworks/R.framework/Resources/library --no-vignettes --timings peakPantheR_1.16.1.tar.gz |
| StartedAt: 2024-03-03 22:30:34 -0500 (Sun, 03 Mar 2024) |
| EndedAt: 2024-03-03 22:49:29 -0500 (Sun, 03 Mar 2024) |
| EllapsedTime: 1134.5 seconds |
| RetCode: 0 |
| Status: OK |
| CheckDir: peakPantheR.Rcheck |
| Warnings: 0 |
##############################################################################
##############################################################################
###
### Running command:
###
### /Library/Frameworks/R.framework/Resources/bin/R CMD check --install=check:peakPantheR.install-out.txt --library=/Library/Frameworks/R.framework/Resources/library --no-vignettes --timings peakPantheR_1.16.1.tar.gz
###
##############################################################################
##############################################################################
* using log directory ‘/Users/biocbuild/bbs-3.18-bioc/meat/peakPantheR.Rcheck’
* using R version 4.3.2 Patched (2023-11-01 r85457)
* using platform: x86_64-apple-darwin20 (64-bit)
* R was compiled by
Apple clang version 14.0.3 (clang-1403.0.22.14.1)
GNU Fortran (GCC) 12.2.0
* running under: macOS Monterey 12.7.1
* using session charset: UTF-8
* using option ‘--no-vignettes’
* checking for file ‘peakPantheR/DESCRIPTION’ ... OK
* this is package ‘peakPantheR’ version ‘1.16.1’
* package encoding: UTF-8
* checking package namespace information ... OK
* checking package dependencies ... OK
* checking if this is a source package ... OK
* checking if there is a namespace ... OK
* checking for hidden files and directories ... OK
* checking for portable file names ... OK
* checking for sufficient/correct file permissions ... OK
* checking whether package ‘peakPantheR’ can be installed ... OK
* checking installed package size ... OK
* checking package directory ... OK
* checking ‘build’ directory ... OK
* checking DESCRIPTION meta-information ... OK
* checking top-level files ... OK
* checking for left-over files ... OK
* checking index information ... OK
* checking package subdirectories ... OK
* checking R files for non-ASCII characters ... OK
* checking R files for syntax errors ... OK
* checking whether the package can be loaded ... OK
* checking whether the package can be loaded with stated dependencies ... OK
* checking whether the package can be unloaded cleanly ... OK
* checking whether the namespace can be loaded with stated dependencies ... OK
* checking whether the namespace can be unloaded cleanly ... OK
* checking startup messages can be suppressed ... OK
* checking dependencies in R code ... OK
* checking S3 generic/method consistency ... OK
* checking replacement functions ... OK
* checking foreign function calls ... OK
* checking R code for possible problems ... OK
* checking Rd files ... OK
* checking Rd metadata ... OK
* checking Rd cross-references ... OK
* checking for missing documentation entries ... OK
* checking for code/documentation mismatches ... OK
* checking Rd \usage sections ... OK
* checking Rd contents ... OK
* checking for unstated dependencies in examples ... OK
* checking files in ‘vignettes’ ... OK
* checking examples ... OK
Examples with CPU (user + system) or elapsed time > 5s
user system elapsed
peakPantheR_ROIStatistics 20.248 0.371 20.824
peakPantheR_parallelAnnotation 15.208 0.217 15.548
outputAnnotationDiagnostic-peakPantheRAnnotation-method 14.293 0.216 14.678
outputAnnotationResult-peakPantheRAnnotation-method 14.193 0.182 14.486
EICs-peakPantheRAnnotation-method 13.543 0.792 14.777
retentionTimeCorrection-peakPantheRAnnotation-method 10.078 0.123 10.272
peakPantheR_singleFileSearch 5.211 0.072 5.305
* checking for unstated dependencies in ‘tests’ ... OK
* checking tests ...
Running ‘testthat.R’
OK
* checking for unstated dependencies in vignettes ... OK
* checking package vignettes in ‘inst/doc’ ... OK
* checking running R code from vignettes ... SKIPPED
* checking re-building of vignette outputs ... SKIPPED
* checking PDF version of manual ... OK
* DONE
Status: OK
peakPantheR.Rcheck/00install.out
############################################################################## ############################################################################## ### ### Running command: ### ### /Library/Frameworks/R.framework/Resources/bin/R CMD INSTALL peakPantheR ### ############################################################################## ############################################################################## * installing to library ‘/Library/Frameworks/R.framework/Versions/4.3-x86_64/Resources/library’ * installing *source* package ‘peakPantheR’ ... ** using staged installation ** R ** inst ** byte-compile and prepare package for lazy loading ** help *** installing help indices *** copying figures ** building package indices ** installing vignettes ** testing if installed package can be loaded from temporary location ** testing if installed package can be loaded from final location ** testing if installed package keeps a record of temporary installation path * DONE (peakPantheR)
peakPantheR.Rcheck/tests/testthat.Rout
R version 4.3.2 Patched (2023-11-01 r85457) -- "Eye Holes"
Copyright (C) 2023 The R Foundation for Statistical Computing
Platform: x86_64-apple-darwin20 (64-bit)
R is free software and comes with ABSOLUTELY NO WARRANTY.
You are welcome to redistribute it under certain conditions.
Type 'license()' or 'licence()' for distribution details.
R is a collaborative project with many contributors.
Type 'contributors()' for more information and
'citation()' on how to cite R or R packages in publications.
Type 'demo()' for some demos, 'help()' for on-line help, or
'help.start()' for an HTML browser interface to help.
Type 'q()' to quit R.
> library(testthat)
> library(peakPantheR)
This is peakPantheR version 1.16.1
>
> test_check("peakPantheR")
2024-03-03 22:38:53.758 R[57212:1155645327] XType: com.apple.fonts is not accessible.
2024-03-03 22:38:53.758 R[57212:1155645327] XType: XTFontStaticRegistry is enabled.
2024-03-03 22:39:10.190 R[85095:1155817451] XType: com.apple.fonts is not accessible.
2024-03-03 22:39:10.190 R[85095:1155817451] XType: XTFontStaticRegistry is enabled.
2024-03-03 22:39:20.199 R[86060:1155819416] XType: com.apple.fonts is not accessible.
2024-03-03 22:39:20.199 R[86060:1155819416] XType: XTFontStaticRegistry is enabled.
2024-03-03 22:42:55.887 R[4260:1155856263] XType: com.apple.fonts is not accessible.
2024-03-03 22:42:55.887 R[4260:1155856263] XType: XTFontStaticRegistry is enabled.
[ FAIL 0 | WARN 0 | SKIP 0 | PASS 1458 ]
Warning messages:
1: In .Internal(gc(verbose, reset, full)) :
closing unused connection 10 (/private/tmp/RtmpThtpPg/notValidXML.mzML)
2: In .Internal(gc(verbose, reset, full)) :
closing unused connection 9 (/private/tmp/RtmpThtpPg/notValidXML.mzML)
3: In .Internal(gc(verbose, reset, full)) :
closing unused connection 8 (/private/tmp/RtmpThtpPg/notValidXML.mzML)
4: In .Internal(gc(verbose, reset, full)) :
closing unused connection 7 (/private/tmp/RtmpThtpPg/notValidXML.mzML)
5: In .Internal(gc(verbose, reset, full)) :
closing unused connection 6 (/Library/Frameworks/R.framework/Versions/4.3-x86_64/Resources/library/peakPantheR/extdata/test_fakemzML.mzML)
6: In .Internal(gc(verbose, reset, full)) :
closing unused connection 5 (/Library/Frameworks/R.framework/Versions/4.3-x86_64/Resources/library/peakPantheR/extdata/test_fakemzML.mzML)
>
> proc.time()
user system elapsed
763.787 11.014 948.062
peakPantheR.Rcheck/peakPantheR-Ex.timings
| name | user | system | elapsed | |
| EICs-peakPantheRAnnotation-method | 13.543 | 0.792 | 14.777 | |
| FIR-peakPantheRAnnotation-method | 0.237 | 0.022 | 0.261 | |
| ROI-peakPantheRAnnotation-method | 0.257 | 0.024 | 0.283 | |
| TIC-peakPantheRAnnotation-method | 0.263 | 0.025 | 0.292 | |
| acquisitionTime-peakPantheRAnnotation-method | 0.230 | 0.022 | 0.255 | |
| annotationDiagnosticPlots-peakPantheRAnnotation-method | 0.244 | 0.022 | 0.269 | |
| annotationParamsDiagnostic-peakPantheRAnnotation-method | 0.218 | 0.022 | 0.242 | |
| annotationTable-peakPantheRAnnotation-method | 0.225 | 0.022 | 0.249 | |
| annotation_diagnostic_multiplot_UI_helper | 0.137 | 0.018 | 0.157 | |
| annotation_fit_summary_UI_helper | 0.009 | 0.002 | 0.012 | |
| annotation_showMethod_UI_helper | 0.005 | 0.001 | 0.006 | |
| annotation_showText_UI_helper | 0.001 | 0.001 | 0.001 | |
| cpdID-peakPantheRAnnotation-method | 0.247 | 0.026 | 0.277 | |
| cpdMetadata-peakPantheRAnnotation-method | 0.235 | 0.023 | 0.262 | |
| cpdName-peakPantheRAnnotation-method | 0.232 | 0.016 | 0.253 | |
| dataPoints-peakPantheRAnnotation-method | 0.210 | 0.016 | 0.227 | |
| filename-peakPantheRAnnotation-method | 0.215 | 0.016 | 0.235 | |
| filepath-peakPantheRAnnotation-method | 0.229 | 0.017 | 0.249 | |
| initialise_annotation_from_files_UI_helper | 0.014 | 0.002 | 0.015 | |
| isAnnotated-peakPantheRAnnotation-method | 0.220 | 0.017 | 0.239 | |
| load_annotation_from_file_UI_helper | 0.006 | 0.001 | 0.006 | |
| nbCompounds-peakPantheRAnnotation-method | 0.216 | 0.016 | 0.234 | |
| nbSamples-peakPantheRAnnotation-method | 0.196 | 0.014 | 0.211 | |
| outputAnnotationDiagnostic-peakPantheRAnnotation-method | 14.293 | 0.216 | 14.678 | |
| outputAnnotationFeatureMetadata_UI_helper | 0.007 | 0.001 | 0.008 | |
| outputAnnotationParamsCSV-peakPantheRAnnotation-method | 0.024 | 0.001 | 0.026 | |
| outputAnnotationResult-peakPantheRAnnotation-method | 14.193 | 0.182 | 14.486 | |
| outputAnnotationSpectraMetadata_UI_helper | 0.011 | 0.002 | 0.022 | |
| peakFit-peakPantheRAnnotation-method | 0.245 | 0.018 | 0.269 | |
| peakPantheRAnnotation | 0.252 | 0.021 | 0.276 | |
| peakPantheR_ROIStatistics | 20.248 | 0.371 | 20.824 | |
| peakPantheR_loadAnnotationParamsCSV | 0.008 | 0.001 | 0.010 | |
| peakPantheR_parallelAnnotation | 15.208 | 0.217 | 15.548 | |
| peakPantheR_plotEICFit | 0.341 | 0.004 | 0.347 | |
| peakPantheR_plotPeakwidth | 0.628 | 0.014 | 0.647 | |
| peakPantheR_singleFileSearch | 5.211 | 0.072 | 5.305 | |
| peakPantheR_start_GUI | 0.000 | 0.001 | 0.000 | |
| peakTables-peakPantheRAnnotation-method | 0.256 | 0.016 | 0.273 | |
| resetAnnotation-peakPantheRAnnotation-method | 0.245 | 0.018 | 0.266 | |
| resetFIR-peakPantheRAnnotation-method | 0.005 | 0.001 | 0.006 | |
| retentionTimeCorrection-peakPantheRAnnotation-method | 10.078 | 0.123 | 10.272 | |
| spectraMetadata-peakPantheRAnnotation-method | 0.207 | 0.014 | 0.223 | |
| spectraPaths_and_metadata_UI_helper | 0.003 | 0.001 | 0.003 | |
| spectra_metadata_colourScheme_UI_helper | 0.006 | 0.001 | 0.008 | |
| uROI-peakPantheRAnnotation-method | 0.214 | 0.014 | 0.228 | |
| uROIExist-peakPantheRAnnotation-method | 0.231 | 0.017 | 0.251 | |
| useFIR-peakPantheRAnnotation-method | 0.226 | 0.015 | 0.242 | |
| useUROI-peakPantheRAnnotation-method | 0.237 | 0.015 | 0.253 | |