| Back to Multiple platform build/check report for BioC 3.18: simplified long | 
 | 
This page was generated on 2024-03-04 11:37:40 -0500 (Mon, 04 Mar 2024).
| Hostname | OS | Arch (*) | R version | Installed pkgs | 
|---|---|---|---|---|
| nebbiolo2 | Linux (Ubuntu 22.04.3 LTS) | x86_64 | 4.3.2 Patched (2023-11-13 r85521) -- "Eye Holes" | 4692 | 
| palomino4 | Windows Server 2022 Datacenter | x64 | 4.3.2 (2023-10-31 ucrt) -- "Eye Holes" | 4445 | 
| lconway | macOS 12.7.1 Monterey | x86_64 | 4.3.2 Patched (2023-11-01 r85457) -- "Eye Holes" | 4466 | 
| Click on any hostname to see more info about the system (e.g. compilers) (*) as reported by 'uname -p', except on Windows and Mac OS X | ||||
| Package 1507/2266 | Hostname | OS / Arch | INSTALL | BUILD | CHECK | BUILD BIN | ||||||||
| pathRender 1.70.0  (landing page) Vince Carey 
 | nebbiolo2 | Linux (Ubuntu 22.04.3 LTS) / x86_64 | OK | OK | OK |  | ||||||||
| palomino4 | Windows Server 2022 Datacenter / x64 | OK | OK | OK | OK |  | ||||||||
| lconway | macOS 12.7.1 Monterey / x86_64 | OK | OK | OK | OK |  | ||||||||
| kjohnson1 | macOS 13.6.1 Ventura / arm64 | see weekly results here | ||||||||||||
| To the developers/maintainers of the pathRender package: - Allow up to 24 hours (and sometimes 48 hours) for your latest push to git@git.bioconductor.org:packages/pathRender.git to reflect on this report. See Troubleshooting Build Report for more information. - Use the following Renviron settings to reproduce errors and warnings. - If 'R CMD check' started to fail recently on the Linux builder(s) over a missing dependency, add the missing dependency to 'Suggests:' in your DESCRIPTION file. See Renviron.bioc for more information. | 
| Package: pathRender | 
| Version: 1.70.0 | 
| Command: /Library/Frameworks/R.framework/Resources/bin/R CMD check --install=check:pathRender.install-out.txt --library=/Library/Frameworks/R.framework/Resources/library --no-vignettes --timings pathRender_1.70.0.tar.gz | 
| StartedAt: 2024-03-03 22:28:32 -0500 (Sun, 03 Mar 2024) | 
| EndedAt: 2024-03-03 22:30:34 -0500 (Sun, 03 Mar 2024) | 
| EllapsedTime: 122.6 seconds | 
| RetCode: 0 | 
| Status: OK | 
| CheckDir: pathRender.Rcheck | 
| Warnings: 0 | 
##############################################################################
##############################################################################
###
### Running command:
###
###   /Library/Frameworks/R.framework/Resources/bin/R CMD check --install=check:pathRender.install-out.txt --library=/Library/Frameworks/R.framework/Resources/library --no-vignettes --timings pathRender_1.70.0.tar.gz
###
##############################################################################
##############################################################################
* using log directory ‘/Users/biocbuild/bbs-3.18-bioc/meat/pathRender.Rcheck’
* using R version 4.3.2 Patched (2023-11-01 r85457)
* using platform: x86_64-apple-darwin20 (64-bit)
* R was compiled by
    Apple clang version 14.0.3 (clang-1403.0.22.14.1)
    GNU Fortran (GCC) 12.2.0
* running under: macOS Monterey 12.7.1
* using session charset: UTF-8
* using option ‘--no-vignettes’
* checking for file ‘pathRender/DESCRIPTION’ ... OK
* this is package ‘pathRender’ version ‘1.70.0’
* checking package namespace information ... OK
* checking package dependencies ... NOTE
Depends: includes the non-default packages:
  'graph', 'Rgraphviz', 'RColorBrewer', 'cMAP', 'AnnotationDbi',
  'stats4'
Adding so many packages to the search path is excessive and importing
selectively is preferable.
* checking if this is a source package ... OK
* checking if there is a namespace ... OK
* checking for hidden files and directories ... OK
* checking for portable file names ... OK
* checking for sufficient/correct file permissions ... OK
* checking whether package ‘pathRender’ can be installed ... OK
* checking installed package size ... OK
* checking package directory ... OK
* checking ‘build’ directory ... OK
* checking DESCRIPTION meta-information ... OK
* checking top-level files ... OK
* checking for left-over files ... OK
* checking index information ... OK
* checking package subdirectories ... OK
* checking R files for non-ASCII characters ... OK
* checking R files for syntax errors ... OK
* checking whether the package can be loaded ... OK
* checking whether the package can be loaded with stated dependencies ... OK
* checking whether the package can be unloaded cleanly ... OK
* checking whether the namespace can be loaded with stated dependencies ... OK
* checking whether the namespace can be unloaded cleanly ... OK
* checking dependencies in R code ... OK
* checking S3 generic/method consistency ... OK
* checking replacement functions ... OK
* checking foreign function calls ... OK
* checking R code for possible problems ... NOTE
graphcMAP: no visible binding for global variable ‘cMAPKEGGPATHWAY’
graphcMAP: no visible binding for global variable ‘cMAPCARTAPATHWAY’
graphcMAP: no visible binding for global variable ‘cMAPKEGGINTERACTION’
graphcMAP: no visible binding for global variable ‘cMAPKEGGMOLECULE’
graphcMAP: no visible binding for global variable
  ‘cMAPCARTAINTERACTION’
graphcMAP: no visible binding for global variable ‘cMAPCARTAMOLECULE’
plotExGraph: no visible global function definition for
  ‘colorRampPalette’
plotExGraph: no visible global function definition for ‘exprs’
quantizeByRow : <anonymous>: no visible global function definition for
  ‘quantile’
quantizeByRow: no visible global function definition for ‘featureNames’
quantizeByRow: no visible global function definition for ‘exprs<-’
quantizeByRow: no visible global function definition for ‘exprs’
quantizeByRow: no visible global function definition for
  ‘featureNames<-’
reduceES: no visible global function definition for ‘na.omit’
reduceES: no visible global function definition for ‘featureData<-’
reduceES: no visible global function definition for ‘exprs’
reduceES: no visible global function definition for ‘phenoData’
rendercMAPPathway: no visible binding for global variable
  ‘cMAPKEGGPATHWAY’
rendercMAPPathway: no visible binding for global variable
  ‘cMAPCARTAPATHWAY’
rendercMAPPathway: no visible binding for global variable
  ‘cMAPKEGGINTERACTION’
rendercMAPPathway: no visible binding for global variable
  ‘cMAPKEGGMOLECULE’
rendercMAPPathway: no visible binding for global variable
  ‘cMAPCARTAINTERACTION’
rendercMAPPathway: no visible binding for global variable
  ‘cMAPCARTAMOLECULE’
plot,coloredGraph-ANY: no visible global function definition for
  ‘palette’
Undefined global functions or variables:
  cMAPCARTAINTERACTION cMAPCARTAMOLECULE cMAPCARTAPATHWAY
  cMAPKEGGINTERACTION cMAPKEGGMOLECULE cMAPKEGGPATHWAY colorRampPalette
  exprs exprs<- featureData<- featureNames featureNames<- na.omit
  palette phenoData quantile
Consider adding
  importFrom("grDevices", "colorRampPalette", "palette")
  importFrom("stats", "na.omit", "quantile")
to your NAMESPACE file.
* checking Rd files ... OK
* checking Rd metadata ... OK
* checking Rd cross-references ... OK
* checking for missing documentation entries ... OK
* checking for code/documentation mismatches ... OK
* checking Rd \usage sections ... OK
* checking Rd contents ... OK
* checking for unstated dependencies in examples ... OK
* checking sizes of PDF files under ‘inst/doc’ ... OK
* checking files in ‘vignettes’ ... OK
* checking examples ... OK
* checking for unstated dependencies in vignettes ... OK
* checking package vignettes in ‘inst/doc’ ... OK
* checking running R code from vignettes ... SKIPPED
* checking re-building of vignette outputs ... SKIPPED
* checking PDF version of manual ... OK
* DONE
Status: 2 NOTEs
See
  ‘/Users/biocbuild/bbs-3.18-bioc/meat/pathRender.Rcheck/00check.log’
for details.
pathRender.Rcheck/00install.out
############################################################################## ############################################################################## ### ### Running command: ### ### /Library/Frameworks/R.framework/Resources/bin/R CMD INSTALL pathRender ### ############################################################################## ############################################################################## * installing to library ‘/Library/Frameworks/R.framework/Versions/4.3-x86_64/Resources/library’ * installing *source* package ‘pathRender’ ... ** using staged installation ** R ** inst ** byte-compile and prepare package for lazy loading ** help *** installing help indices ** building package indices ** installing vignettes ** testing if installed package can be loaded from temporary location ** testing if installed package can be loaded from final location ** testing if installed package keeps a record of temporary installation path * DONE (pathRender)
pathRender.Rcheck/pathRender-Ex.timings
| name | user | system | elapsed | |
| colorNodes | 0.213 | 0.013 | 0.234 | |
| coloredGraph-class | 0.102 | 0.006 | 0.111 | |
| graphcMAP | 0.757 | 0.016 | 0.778 | |
| plotExGraph | 2.564 | 0.158 | 2.783 | |
| pwayGraph-class | 0.061 | 0.009 | 0.071 | |
| reduceES | 1.791 | 0.048 | 1.857 | |
| rendercMAP | 0.379 | 0.026 | 0.419 | |