| Back to Multiple platform build/check report for BioC 3.18: simplified long |
|
This page was generated on 2024-04-17 11:38:01 -0400 (Wed, 17 Apr 2024).
| Hostname | OS | Arch (*) | R version | Installed pkgs |
|---|---|---|---|---|
| nebbiolo2 | Linux (Ubuntu 22.04.3 LTS) | x86_64 | 4.3.3 (2024-02-29) -- "Angel Food Cake" | 4676 |
| palomino4 | Windows Server 2022 Datacenter | x64 | 4.3.3 (2024-02-29 ucrt) -- "Angel Food Cake" | 4414 |
| merida1 | macOS 12.7.1 Monterey | x86_64 | 4.3.3 (2024-02-29) -- "Angel Food Cake" | 4437 |
| Click on any hostname to see more info about the system (e.g. compilers) (*) as reported by 'uname -p', except on Windows and Mac OS X | ||||
| Package 1441/2266 | Hostname | OS / Arch | INSTALL | BUILD | CHECK | BUILD BIN | ||||||||
| omada 1.4.0 (landing page) Sokratis Kariotis
| nebbiolo2 | Linux (Ubuntu 22.04.3 LTS) / x86_64 | OK | OK | OK | |||||||||
| palomino4 | Windows Server 2022 Datacenter / x64 | OK | OK | OK | OK | |||||||||
| merida1 | macOS 12.7.1 Monterey / x86_64 | OK | OK | OK | OK | |||||||||
| kjohnson1 | macOS 13.6.1 Ventura / arm64 | see weekly results here | ||||||||||||
|
To the developers/maintainers of the omada package: - Allow up to 24 hours (and sometimes 48 hours) for your latest push to git@git.bioconductor.org:packages/omada.git to reflect on this report. See Troubleshooting Build Report for more information. - Use the following Renviron settings to reproduce errors and warnings. - If 'R CMD check' started to fail recently on the Linux builder(s) over a missing dependency, add the missing dependency to 'Suggests:' in your DESCRIPTION file. See Renviron.bioc for more information. |
| Package: omada |
| Version: 1.4.0 |
| Command: /Library/Frameworks/R.framework/Resources/bin/R CMD check --install=check:omada.install-out.txt --library=/Library/Frameworks/R.framework/Resources/library --no-vignettes --timings omada_1.4.0.tar.gz |
| StartedAt: 2024-04-16 06:21:51 -0400 (Tue, 16 Apr 2024) |
| EndedAt: 2024-04-16 06:45:37 -0400 (Tue, 16 Apr 2024) |
| EllapsedTime: 1425.5 seconds |
| RetCode: 0 |
| Status: OK |
| CheckDir: omada.Rcheck |
| Warnings: 0 |
##############################################################################
##############################################################################
###
### Running command:
###
### /Library/Frameworks/R.framework/Resources/bin/R CMD check --install=check:omada.install-out.txt --library=/Library/Frameworks/R.framework/Resources/library --no-vignettes --timings omada_1.4.0.tar.gz
###
##############################################################################
##############################################################################
* using log directory ‘/Users/biocbuild/bbs-3.18-bioc/meat/omada.Rcheck’
* using R version 4.3.3 (2024-02-29)
* using platform: x86_64-apple-darwin20 (64-bit)
* R was compiled by
Apple clang version 14.0.0 (clang-1400.0.29.202)
GNU Fortran (GCC) 12.2.0
* running under: macOS Monterey 12.7.1
* using session charset: UTF-8
* using option ‘--no-vignettes’
* checking for file ‘omada/DESCRIPTION’ ... OK
* checking extension type ... Package
* this is package ‘omada’ version ‘1.4.0’
* package encoding: UTF-8
* checking package namespace information ... OK
* checking package dependencies ... NOTE
Depends: includes the non-default packages:
'pdfCluster', 'kernlab', 'fpc', 'Rcpp', 'diceR', 'ggplot2',
'reshape', 'genieclust', 'clValid', 'glmnet', 'dplyr'
Adding so many packages to the search path is excessive and importing
selectively is preferable.
* checking if this is a source package ... OK
* checking if there is a namespace ... OK
* checking for hidden files and directories ... OK
* checking for portable file names ... OK
* checking for sufficient/correct file permissions ... OK
* checking whether package ‘omada’ can be installed ... OK
* checking installed package size ... OK
* checking package directory ... OK
* checking ‘build’ directory ... OK
* checking DESCRIPTION meta-information ... NOTE
Package listed in more than one of Depends, Imports, Suggests, Enhances:
‘clValid’
A package should be listed in only one of these fields.
* checking top-level files ... NOTE
File
LICENSE
is not mentioned in the DESCRIPTION file.
* checking for left-over files ... OK
* checking index information ... OK
* checking package subdirectories ... OK
* checking R files for non-ASCII characters ... OK
* checking R files for syntax errors ... OK
* checking whether the package can be loaded ... OK
* checking whether the package can be loaded with stated dependencies ... OK
* checking whether the package can be unloaded cleanly ... OK
* checking whether the namespace can be loaded with stated dependencies ... OK
* checking whether the namespace can be unloaded cleanly ... OK
* checking dependencies in R code ... NOTE
Packages in Depends field not imported from:
‘Rcpp’ ‘genieclust’ ‘glmnet’ ‘kernlab’ ‘reshape’
These packages need to be imported from (in the NAMESPACE file)
for when this namespace is loaded but not attached.
* checking S3 generic/method consistency ... OK
* checking replacement functions ... OK
* checking foreign function calls ... OK
* checking R code for possible problems ... NOTE
Index.15and28: no visible global function definition for ‘dist’
Index.15and28: no visible global function definition for ‘as.dist’
Index.sPlussMoins: no visible global function definition for ‘dist’
Index.sPlussMoins: no visible global function definition for ‘as.dist’
Index.sPlussMoins: no visible global function definition for ‘median’
Indice.cindex: no visible global function definition for ‘dist’
clusterVoting: no visible global function definition for ‘calinhara’
clusterVoting: no visible global function definition for
‘generalised_dunn_index’
clusterVoting: no visible global function definition for
‘silhouette_index’
clusterVoting: no visible global function definition for
‘negated_davies_bouldin_index’
clusterVoting: no visible binding for global variable ‘k’
clusterVoting: no visible binding for global variable ‘Frequency’
clusteringMethodSelection: no visible binding for global variable
‘value’
clusteringMethodSelection: no visible binding for global variable
‘methods’
featureSelection: no visible binding for global variable ‘featureSet’
featureSelection: no visible binding for global variable ‘means’
geneSignatures: no visible global function definition for ‘where’
geneSignatures: no visible binding for global variable ‘features’
geneSignatures: no visible binding for global variable ‘value’
geneSignatures: no visible binding for global variable ‘variable’
Undefined global functions or variables:
Frequency as.dist calinhara dist featureSet features
generalised_dunn_index k means median methods
negated_davies_bouldin_index silhouette_index value variable where
Consider adding
importFrom("stats", "as.dist", "dist", "median")
importFrom("utils", "methods")
to your NAMESPACE file.
* checking Rd files ... OK
* checking Rd metadata ... OK
* checking Rd cross-references ... OK
* checking for missing documentation entries ... OK
* checking for code/documentation mismatches ... OK
* checking Rd \usage sections ... OK
* checking Rd contents ... OK
* checking for unstated dependencies in examples ... OK
* checking contents of ‘data’ directory ... OK
* checking data for non-ASCII characters ... OK
* checking LazyData ... OK
* checking data for ASCII and uncompressed saves ... OK
* checking files in ‘vignettes’ ... OK
* checking examples ... OK
Examples with CPU (user + system) or elapsed time > 5s
user system elapsed
get_feature_selection_scores 74.518 0.702 79.347
get_feature_selection_optimal_number_of_features 73.149 0.677 75.951
plot_partition_agreement 53.266 0.806 105.453
get_cluster_voting_scores 52.557 0.461 54.200
plot_signature_feature 52.215 0.602 61.940
get_signature_feature_coefs 51.752 0.715 56.211
plot_feature_selection 51.305 0.553 73.535
get_cluster_voting_memberships 50.638 0.488 52.285
get_partition_agreement_scores 50.578 0.518 55.010
get_cluster_voting_k_votes 50.369 0.518 53.797
get_cluster_voting_metric_votes 50.189 0.473 52.192
get_feature_selection_optimal_features 49.437 0.513 51.601
get_sample_memberships 48.765 0.488 51.028
omada 40.532 0.480 44.366
plot_cluster_voting 37.289 0.370 40.226
get_optimal_features 17.653 0.189 19.134
plot_average_stabilities 16.913 0.152 18.941
get_optimal_number_of_features 16.155 0.135 17.501
get_optimal_parameter_used 14.900 0.116 16.419
get_optimal_memberships 13.814 0.121 15.034
get_optimal_stability_score 13.771 0.111 15.133
featureSelection 12.211 0.090 13.177
clusterVoting 7.302 0.572 8.257
get_average_feature_k_stabilities 7.779 0.071 8.223
get_generated_dataset 6.340 0.037 6.659
feasibilityAnalysisDataBased 5.039 0.095 5.377
* checking for unstated dependencies in ‘tests’ ... OK
* checking tests ...
Running ‘testthat.R’
OK
* checking for unstated dependencies in vignettes ... OK
* checking package vignettes in ‘inst/doc’ ... OK
* checking running R code from vignettes ... SKIPPED
* checking re-building of vignette outputs ... SKIPPED
* checking PDF version of manual ... OK
* DONE
Status: 5 NOTEs
See
‘/Users/biocbuild/bbs-3.18-bioc/meat/omada.Rcheck/00check.log’
for details.
omada.Rcheck/00install.out
############################################################################## ############################################################################## ### ### Running command: ### ### /Library/Frameworks/R.framework/Resources/bin/R CMD INSTALL omada ### ############################################################################## ############################################################################## * installing to library ‘/Library/Frameworks/R.framework/Versions/4.3-x86_64/Resources/library’ * installing *source* package ‘omada’ ... ** using staged installation ** R ** data *** moving datasets to lazyload DB ** inst ** byte-compile and prepare package for lazy loading ** help *** installing help indices ** building package indices ** installing vignettes ** testing if installed package can be loaded from temporary location ** testing if installed package can be loaded from final location ** testing if installed package keeps a record of temporary installation path * DONE (omada)
omada.Rcheck/tests/testthat.Rout
R version 4.3.3 (2024-02-29) -- "Angel Food Cake"
Copyright (C) 2024 The R Foundation for Statistical Computing
Platform: x86_64-apple-darwin20 (64-bit)
R is free software and comes with ABSOLUTELY NO WARRANTY.
You are welcome to redistribute it under certain conditions.
Type 'license()' or 'licence()' for distribution details.
R is a collaborative project with many contributors.
Type 'contributors()' for more information and
'citation()' on how to cite R or R packages in publications.
Type 'demo()' for some demos, 'help()' for on-line help, or
'help.start()' for an HTML browser interface to help.
Type 'q()' to quit R.
> library(testthat)
> library(omada)
Loading required package: pdfCluster
pdfCluster 1.0-4
Loading required package: kernlab
Loading required package: fpc
Loading required package: Rcpp
Loading required package: diceR
Loading required package: ggplot2
Attaching package: 'ggplot2'
The following object is masked from 'package:kernlab':
alpha
Loading required package: reshape
Loading required package: genieclust
Loading required package: clValid
Loading required package: cluster
Loading required package: glmnet
Loading required package: Matrix
Attaching package: 'Matrix'
The following object is masked from 'package:reshape':
expand
Loaded glmnet 4.1-8
Loading required package: dplyr
Attaching package: 'dplyr'
The following object is masked from 'package:reshape':
rename
The following object is masked from 'package:pdfCluster':
groups
The following object is masked from 'package:testthat':
matches
The following objects are masked from 'package:stats':
filter, lag
The following objects are masked from 'package:base':
intersect, setdiff, setequal, union
>
> test_check("omada")
[ FAIL 0 | WARN 1 | SKIP 0 | PASS 38 ]
[ FAIL 0 | WARN 1 | SKIP 0 | PASS 38 ]
>
> proc.time()
user system elapsed
145.731 2.152 201.079
omada.Rcheck/omada-Ex.timings
| name | user | system | elapsed | |
| clusterVoting | 7.302 | 0.572 | 8.257 | |
| clusteringMethodSelection | 2.659 | 0.053 | 2.814 | |
| feasibilityAnalysis | 2.600 | 0.027 | 2.735 | |
| feasibilityAnalysisDataBased | 5.039 | 0.095 | 5.377 | |
| featureSelection | 12.211 | 0.090 | 13.177 | |
| geneSignatures | 1.660 | 0.019 | 1.783 | |
| get_agreement_scores | 0.266 | 0.003 | 0.289 | |
| get_average_feature_k_stabilities | 7.779 | 0.071 | 8.223 | |
| get_average_stabilities_per_k | 1.921 | 0.014 | 2.027 | |
| get_average_stability | 1.908 | 0.011 | 2.006 | |
| get_cluster_memberships_k | 1.671 | 0.133 | 1.884 | |
| get_cluster_voting_k_votes | 50.369 | 0.518 | 53.797 | |
| get_cluster_voting_memberships | 50.638 | 0.488 | 52.285 | |
| get_cluster_voting_metric_votes | 50.189 | 0.473 | 52.192 | |
| get_cluster_voting_scores | 52.557 | 0.461 | 54.200 | |
| get_coefficient_dataset | 0.855 | 0.010 | 0.876 | |
| get_feature_selection_optimal_features | 49.437 | 0.513 | 51.601 | |
| get_feature_selection_optimal_number_of_features | 73.149 | 0.677 | 75.951 | |
| get_feature_selection_scores | 74.518 | 0.702 | 79.347 | |
| get_generated_dataset | 6.340 | 0.037 | 6.659 | |
| get_internal_metric_scores | 1.632 | 0.086 | 2.078 | |
| get_max_stability | 1.860 | 0.014 | 1.927 | |
| get_metric_votes_k | 1.904 | 0.124 | 2.055 | |
| get_optimal_features | 17.653 | 0.189 | 19.134 | |
| get_optimal_memberships | 13.814 | 0.121 | 15.034 | |
| get_optimal_number_of_features | 16.155 | 0.135 | 17.501 | |
| get_optimal_parameter_used | 14.900 | 0.116 | 16.419 | |
| get_optimal_stability_score | 13.771 | 0.111 | 15.133 | |
| get_partition_agreement_scores | 50.578 | 0.518 | 55.010 | |
| get_sample_memberships | 48.765 | 0.488 | 51.028 | |
| get_signature_feature_coefs | 51.752 | 0.715 | 56.211 | |
| get_vote_frequencies_k | 1.922 | 0.102 | 2.140 | |
| omada | 40.532 | 0.480 | 44.366 | |
| optimalClustering | 0.178 | 0.008 | 0.196 | |
| partitionAgreement | 0.552 | 0.009 | 0.627 | |
| plot_average_stabilities | 16.913 | 0.152 | 18.941 | |
| plot_cluster_voting | 37.289 | 0.370 | 40.226 | |
| plot_feature_selection | 51.305 | 0.553 | 73.535 | |
| plot_partition_agreement | 53.266 | 0.806 | 105.453 | |
| plot_signature_feature | 52.215 | 0.602 | 61.940 | |
| plot_top30percent_coefficients | 1.403 | 0.013 | 1.463 | |
| plot_vote_frequencies | 1.941 | 0.089 | 2.757 | |
| toy_gene_memberships | 0.027 | 0.009 | 0.051 | |
| toy_genes | 0.002 | 0.005 | 0.006 | |