| Back to Multiple platform build/check report for BioC 3.18: simplified long |
|
This page was generated on 2024-04-17 11:36:08 -0400 (Wed, 17 Apr 2024).
| Hostname | OS | Arch (*) | R version | Installed pkgs |
|---|---|---|---|---|
| nebbiolo2 | Linux (Ubuntu 22.04.3 LTS) | x86_64 | 4.3.3 (2024-02-29) -- "Angel Food Cake" | 4676 |
| palomino4 | Windows Server 2022 Datacenter | x64 | 4.3.3 (2024-02-29 ucrt) -- "Angel Food Cake" | 4414 |
| merida1 | macOS 12.7.1 Monterey | x86_64 | 4.3.3 (2024-02-29) -- "Angel Food Cake" | 4437 |
| Click on any hostname to see more info about the system (e.g. compilers) (*) as reported by 'uname -p', except on Windows and Mac OS X | ||||
| Package 1283/2266 | Hostname | OS / Arch | INSTALL | BUILD | CHECK | BUILD BIN | ||||||||
| mitoClone2 1.8.1 (landing page) Benjamin Story
| nebbiolo2 | Linux (Ubuntu 22.04.3 LTS) / x86_64 | OK | OK | WARNINGS | |||||||||
| palomino4 | Windows Server 2022 Datacenter / x64 | OK | OK | OK | OK | |||||||||
| merida1 | macOS 12.7.1 Monterey / x86_64 | OK | OK | WARNINGS | OK | |||||||||
| kjohnson1 | macOS 13.6.1 Ventura / arm64 | see weekly results here | ||||||||||||
|
To the developers/maintainers of the mitoClone2 package: - Allow up to 24 hours (and sometimes 48 hours) for your latest push to git@git.bioconductor.org:packages/mitoClone2.git to reflect on this report. See Troubleshooting Build Report for more information. - Use the following Renviron settings to reproduce errors and warnings. - If 'R CMD check' started to fail recently on the Linux builder(s) over a missing dependency, add the missing dependency to 'Suggests:' in your DESCRIPTION file. See Renviron.bioc for more information. |
| Package: mitoClone2 |
| Version: 1.8.1 |
| Command: /home/biocbuild/bbs-3.18-bioc/R/bin/R CMD INSTALL mitoClone2 |
| StartedAt: 2024-04-15 15:31:36 -0400 (Mon, 15 Apr 2024) |
| EndedAt: 2024-04-15 15:32:28 -0400 (Mon, 15 Apr 2024) |
| EllapsedTime: 51.6 seconds |
| RetCode: 0 |
| Status: OK |
##############################################################################
##############################################################################
###
### Running command:
###
### /home/biocbuild/bbs-3.18-bioc/R/bin/R CMD INSTALL mitoClone2
###
##############################################################################
##############################################################################
* installing to library ‘/home/biocbuild/bbs-3.18-bioc/R/site-library’
* installing *source* package ‘mitoClone2’ ...
** using staged installation
** libs
using C++ compiler: ‘g++ (Ubuntu 11.4.0-1ubuntu1~22.04) 11.4.0’
g++ -std=gnu++17 -D_FILE_OFFSET_BITS=64 ../inst/SCITEpkg/*.cpp -o scite
../inst/SCITEpkg/findBestTrees.cpp:58:8: warning: built-in function ‘gamma’ declared as non-function [-Wbuiltin-declaration-mismatch]
58 | double gamma = 1;
| ^~~~~
mkdir -p "/home/biocbuild/bbs-3.18-bioc/R/site-library/00LOCK-mitoClone2/00new/mitoClone2/SCITE/"
cp scite "/home/biocbuild/bbs-3.18-bioc/R/site-library/00LOCK-mitoClone2/00new/mitoClone2/SCITE/"
rm scite
g++ -std=gnu++17 -I"/home/biocbuild/bbs-3.18-bioc/R/include" -DNDEBUG -D_FILE_OFFSET_BITS=64 -I'/home/biocbuild/bbs-3.18-bioc/R/site-library/Rhtslib/include' -I/usr/local/include -fpic -g -O2 -Wall -c bam2R_10x.cpp -o bam2R_10x.o
bam2R_10x.cpp:6:2: warning: "/*" within comment [-Wcomment]
6 | /**************************************************************************************
|
bam2R_10x.cpp:8:1: warning: "/*" within comment [-Wcomment]
8 | /**********************************************************************
|
bam2R_10x.cpp: In function ‘void bam2R_pileup_function(const bam_pileup1_t*, int, int, nttable_t&, std::map<std::__cxx11::basic_string<char>, std::vector<int> >&)’:
bam2R_10x.cpp:75:17: warning: unused variable ‘bc_absent’ [-Wunused-variable]
75 | int bc_absent;
| ^~~~~~~~~
bam2R_10x.cpp: In function ‘SEXPREC* bam2R_10x(SEXP, SEXP, SEXP, SEXP, int*, SEXP, SEXP, SEXP, SEXP, SEXP, SEXP, SEXP, SEXP, SEXP)’:
bam2R_10x.cpp:158:16: warning: unused variable ‘iter’ [-Wunused-variable]
158 | hts_itr_t *iter = NULL;
| ^~~~
bam2R_10x.cpp:161:9: warning: unused variable ‘c’ [-Wunused-variable]
161 | int c = 0;
| ^
g++ -std=gnu++17 -shared -L/home/biocbuild/bbs-3.18-bioc/R/lib -L/usr/local/lib -o mitoClone2.so bam2R_10x.o /home/biocbuild/bbs-3.18-bioc/R/site-library/Rhtslib/usrlib/libhts.a -lcurl -lbz2 -llzma -lz -L/home/biocbuild/bbs-3.18-bioc/R/lib -lR
installing to /home/biocbuild/bbs-3.18-bioc/R/site-library/00LOCK-mitoClone2/00new/mitoClone2/libs
** R
** data
** inst
** byte-compile and prepare package for lazy loading
** help
*** installing help indices
*** copying figures
** building package indices
** installing vignettes
** testing if installed package can be loaded from temporary location
** checking absolute paths in shared objects and dynamic libraries
** testing if installed package can be loaded from final location
** testing if installed package keeps a record of temporary installation path
* DONE (mitoClone2)