| Back to Multiple platform build/check report for BioC 3.18: simplified long |
|
This page was generated on 2024-04-17 11:36:58 -0400 (Wed, 17 Apr 2024).
| Hostname | OS | Arch (*) | R version | Installed pkgs |
|---|---|---|---|---|
| nebbiolo2 | Linux (Ubuntu 22.04.3 LTS) | x86_64 | 4.3.3 (2024-02-29) -- "Angel Food Cake" | 4676 |
| palomino4 | Windows Server 2022 Datacenter | x64 | 4.3.3 (2024-02-29 ucrt) -- "Angel Food Cake" | 4414 |
| merida1 | macOS 12.7.1 Monterey | x86_64 | 4.3.3 (2024-02-29) -- "Angel Food Cake" | 4437 |
| Click on any hostname to see more info about the system (e.g. compilers) (*) as reported by 'uname -p', except on Windows and Mac OS X | ||||
| Package 1217/2266 | Hostname | OS / Arch | INSTALL | BUILD | CHECK | BUILD BIN | ||||||||
| methimpute 1.24.0 (landing page) Aaron Taudt
| nebbiolo2 | Linux (Ubuntu 22.04.3 LTS) / x86_64 | OK | OK | OK | |||||||||
| palomino4 | Windows Server 2022 Datacenter / x64 | OK | OK | OK | OK | |||||||||
| merida1 | macOS 12.7.1 Monterey / x86_64 | OK | OK | OK | OK | |||||||||
| kjohnson1 | macOS 13.6.1 Ventura / arm64 | see weekly results here | ||||||||||||
|
To the developers/maintainers of the methimpute package: - Allow up to 24 hours (and sometimes 48 hours) for your latest push to git@git.bioconductor.org:packages/methimpute.git to reflect on this report. See Troubleshooting Build Report for more information. - Use the following Renviron settings to reproduce errors and warnings. - If 'R CMD check' started to fail recently on the Linux builder(s) over a missing dependency, add the missing dependency to 'Suggests:' in your DESCRIPTION file. See Renviron.bioc for more information. |
| Package: methimpute |
| Version: 1.24.0 |
| Command: rm -rf methimpute.buildbin-libdir && mkdir methimpute.buildbin-libdir && F:\biocbuild\bbs-3.18-bioc\R\bin\R.exe CMD INSTALL --build --library=methimpute.buildbin-libdir methimpute_1.24.0.tar.gz |
| StartedAt: 2024-04-16 07:15:47 -0400 (Tue, 16 Apr 2024) |
| EndedAt: 2024-04-16 07:16:54 -0400 (Tue, 16 Apr 2024) |
| EllapsedTime: 67.8 seconds |
| RetCode: 0 |
| Status: OK |
| PackageFile: methimpute_1.24.0.zip |
| PackageFileSize: 1.914 MiB |
##############################################################################
##############################################################################
###
### Running command:
###
### rm -rf methimpute.buildbin-libdir && mkdir methimpute.buildbin-libdir && F:\biocbuild\bbs-3.18-bioc\R\bin\R.exe CMD INSTALL --build --library=methimpute.buildbin-libdir methimpute_1.24.0.tar.gz
###
##############################################################################
##############################################################################
* installing *source* package 'methimpute' ...
** using staged installation
** libs
using C compiler: 'gcc.exe (GCC) 12.3.0'
using C++ compiler: 'G__~1.EXE (GCC) 12.3.0'
using C++11
g++ -std=gnu++11 -I"F:/biocbuild/bbs-3.18-bioc/R/include" -DNDEBUG -I'F:/biocbuild/bbs-3.18-bioc/R/library/Rcpp/include' -I"C:/rtools43/x86_64-w64-mingw32.static.posix/include" -fopenmp -O2 -Wall -mfpmath=sse -msse2 -mstackrealign -c RcppExports.cpp -o RcppExports.o
g++ -std=gnu++11 -I"F:/biocbuild/bbs-3.18-bioc/R/include" -DNDEBUG -I'F:/biocbuild/bbs-3.18-bioc/R/library/Rcpp/include' -I"C:/rtools43/x86_64-w64-mingw32.static.posix/include" -fopenmp -O2 -Wall -mfpmath=sse -msse2 -mstackrealign -c densities.cpp -o densities.o
densities.cpp: In member function 'virtual void BinomialTestContext::calc_densities(Rcpp::Matrix<14>::Row&)':
densities.cpp:614:52: warning: 'prob_context' may be used uninitialized [-Wmaybe-uninitialized]
614 | if (verbosity >= 4) Rprintf("obs_test[t=%d] = %d, obs_total[t] = %d, prob_context = %g\n", t, obs_test[t], obs_total[t], prob_context);
| ~~~~~~~^~~~~~~~~~~~~~~~~~~~~~~~~~~~~~~~~~~~~~~~~~~~~~~~~~~~~~~~~~~~~~~~~~~~~~~~~~~~~~~~~~~~~~~~~~~~~~~~~~~~~~~~~~~
densities.cpp:599:16: note: 'prob_context' was declared here
599 | double prob_context;
| ^~~~~~~~~~~~
g++ -std=gnu++11 -I"F:/biocbuild/bbs-3.18-bioc/R/include" -DNDEBUG -I'F:/biocbuild/bbs-3.18-bioc/R/library/Rcpp/include' -I"C:/rtools43/x86_64-w64-mingw32.static.posix/include" -fopenmp -O2 -Wall -mfpmath=sse -msse2 -mstackrealign -c fitHMM.cpp -o fitHMM.o
g++ -std=gnu++11 -I"F:/biocbuild/bbs-3.18-bioc/R/include" -DNDEBUG -I'F:/biocbuild/bbs-3.18-bioc/R/library/Rcpp/include' -I"C:/rtools43/x86_64-w64-mingw32.static.posix/include" -fopenmp -O2 -Wall -mfpmath=sse -msse2 -mstackrealign -c fitHMM_context.cpp -o fitHMM_context.o
g++ -std=gnu++11 -I"F:/biocbuild/bbs-3.18-bioc/R/include" -DNDEBUG -I'F:/biocbuild/bbs-3.18-bioc/R/library/Rcpp/include' -I"C:/rtools43/x86_64-w64-mingw32.static.posix/include" -fopenmp -O2 -Wall -mfpmath=sse -msse2 -mstackrealign -c hmm_context.cpp -o hmm_context.o
hmm_context.cpp: In destructor 'HMM_context::~HMM_context()':
hmm_context.cpp:68:24: warning: comparison of integer expressions of different signedness: 'int' and 'std::vector<Density*>::size_type' {aka 'long long unsigned int'} [-Wsign-compare]
68 | for (int i=0; i<this->emissionDensities.size(); i++)
| ~^~~~~~~~~~~~~~~~~~~~~~~~~~~~~~~
gcc -I"F:/biocbuild/bbs-3.18-bioc/R/include" -DNDEBUG -I'F:/biocbuild/bbs-3.18-bioc/R/library/Rcpp/include' -I"C:/rtools43/x86_64-w64-mingw32.static.posix/include" -O2 -Wall -mfpmath=sse -msse2 -mstackrealign -c methimpute_init.c -o methimpute_init.o
g++ -std=gnu++11 -I"F:/biocbuild/bbs-3.18-bioc/R/include" -DNDEBUG -I'F:/biocbuild/bbs-3.18-bioc/R/library/Rcpp/include' -I"C:/rtools43/x86_64-w64-mingw32.static.posix/include" -fopenmp -O2 -Wall -mfpmath=sse -msse2 -mstackrealign -c scalehmm.cpp -o scalehmm.o
scalehmm.cpp: In destructor 'ScaleHMM::~ScaleHMM()':
scalehmm.cpp:311:24: warning: comparison of integer expressions of different signedness: 'int' and 'std::vector<Density*>::size_type' {aka 'long long unsigned int'} [-Wsign-compare]
311 | for (int i=0; i<this->emissionDensities.size(); i++)
| ~^~~~~~~~~~~~~~~~~~~~~~~~~~~~~~~
g++ -shared -s -static-libgcc -o methimpute.dll tmp.def RcppExports.o densities.o fitHMM.o fitHMM_context.o hmm_context.o methimpute_init.o scalehmm.o -fopenmp -LC:/rtools43/x86_64-w64-mingw32.static.posix/lib/x64 -LC:/rtools43/x86_64-w64-mingw32.static.posix/lib -LF:/biocbuild/bbs-3.18-bioc/R/bin/x64 -lR
installing to F:/biocbuild/bbs-3.18-bioc/meat/methimpute.buildbin-libdir/00LOCK-methimpute/00new/methimpute/libs/x64
** R
** data
** inst
** byte-compile and prepare package for lazy loading
** help
*** installing help indices
** building package indices
** installing vignettes
** testing if installed package can be loaded from temporary location
** testing if installed package can be loaded from final location
** testing if installed package keeps a record of temporary installation path
* MD5 sums
packaged installation of 'methimpute' as methimpute_1.24.0.zip
* DONE (methimpute)