| Back to Multiple platform build/check report for BioC 3.18: simplified long |
|
This page was generated on 2024-03-04 11:37:32 -0500 (Mon, 04 Mar 2024).
| Hostname | OS | Arch (*) | R version | Installed pkgs |
|---|---|---|---|---|
| nebbiolo2 | Linux (Ubuntu 22.04.3 LTS) | x86_64 | 4.3.2 Patched (2023-11-13 r85521) -- "Eye Holes" | 4692 |
| palomino4 | Windows Server 2022 Datacenter | x64 | 4.3.2 (2023-10-31 ucrt) -- "Eye Holes" | 4445 |
| lconway | macOS 12.7.1 Monterey | x86_64 | 4.3.2 Patched (2023-11-01 r85457) -- "Eye Holes" | 4466 |
| Click on any hostname to see more info about the system (e.g. compilers) (*) as reported by 'uname -p', except on Windows and Mac OS X | ||||
| Package 1196/2266 | Hostname | OS / Arch | INSTALL | BUILD | CHECK | BUILD BIN | ||||||||
| metabinR 1.4.0 (landing page) Anestis Gkanogiannis
| nebbiolo2 | Linux (Ubuntu 22.04.3 LTS) / x86_64 | OK | OK | OK | |||||||||
| palomino4 | Windows Server 2022 Datacenter / x64 | OK | OK | OK | OK | |||||||||
| lconway | macOS 12.7.1 Monterey / x86_64 | OK | OK | OK | OK | |||||||||
| kjohnson1 | macOS 13.6.1 Ventura / arm64 | see weekly results here | ||||||||||||
|
To the developers/maintainers of the metabinR package: - Allow up to 24 hours (and sometimes 48 hours) for your latest push to git@git.bioconductor.org:packages/metabinR.git to reflect on this report. See Troubleshooting Build Report for more information. - Use the following Renviron settings to reproduce errors and warnings. - If 'R CMD check' started to fail recently on the Linux builder(s) over a missing dependency, add the missing dependency to 'Suggests:' in your DESCRIPTION file. See Renviron.bioc for more information. |
| Package: metabinR |
| Version: 1.4.0 |
| Command: /Library/Frameworks/R.framework/Resources/bin/R CMD check --install=check:metabinR.install-out.txt --library=/Library/Frameworks/R.framework/Resources/library --no-vignettes --timings metabinR_1.4.0.tar.gz |
| StartedAt: 2024-03-03 21:39:56 -0500 (Sun, 03 Mar 2024) |
| EndedAt: 2024-03-03 21:41:17 -0500 (Sun, 03 Mar 2024) |
| EllapsedTime: 80.9 seconds |
| RetCode: 0 |
| Status: OK |
| CheckDir: metabinR.Rcheck |
| Warnings: 0 |
##############################################################################
##############################################################################
###
### Running command:
###
### /Library/Frameworks/R.framework/Resources/bin/R CMD check --install=check:metabinR.install-out.txt --library=/Library/Frameworks/R.framework/Resources/library --no-vignettes --timings metabinR_1.4.0.tar.gz
###
##############################################################################
##############################################################################
* using log directory ‘/Users/biocbuild/bbs-3.18-bioc/meat/metabinR.Rcheck’
* using R version 4.3.2 Patched (2023-11-01 r85457)
* using platform: x86_64-apple-darwin20 (64-bit)
* R was compiled by
Apple clang version 14.0.3 (clang-1403.0.22.14.1)
GNU Fortran (GCC) 12.2.0
* running under: macOS Monterey 12.7.1
* using session charset: UTF-8
* using option ‘--no-vignettes’
* checking for file ‘metabinR/DESCRIPTION’ ... OK
* checking extension type ... Package
* this is package ‘metabinR’ version ‘1.4.0’
* package encoding: UTF-8
* checking package namespace information ... OK
* checking package dependencies ... OK
* checking if this is a source package ... OK
* checking if there is a namespace ... OK
* checking for hidden files and directories ... OK
* checking for portable file names ... OK
* checking for sufficient/correct file permissions ... OK
* checking whether package ‘metabinR’ can be installed ... OK
* checking installed package size ... OK
* checking package directory ... OK
* checking ‘build’ directory ... OK
* checking DESCRIPTION meta-information ... OK
* checking top-level files ... OK
* checking for left-over files ... OK
* checking index information ... OK
* checking package subdirectories ... OK
* checking R files for non-ASCII characters ... OK
* checking R files for syntax errors ... OK
* checking whether the package can be loaded ... OK
* checking whether the package can be loaded with stated dependencies ... OK
* checking whether the package can be unloaded cleanly ... OK
* checking whether the namespace can be loaded with stated dependencies ... OK
* checking whether the namespace can be unloaded cleanly ... OK
* checking startup messages can be suppressed ... OK
* checking dependencies in R code ... OK
* checking S3 generic/method consistency ... OK
* checking replacement functions ... OK
* checking foreign function calls ... OK
* checking R code for possible problems ... OK
* checking Rd files ... OK
* checking Rd metadata ... OK
* checking Rd cross-references ... OK
* checking for missing documentation entries ... OK
* checking for code/documentation mismatches ... OK
* checking Rd \usage sections ... OK
* checking Rd contents ... OK
* checking for unstated dependencies in examples ... OK
* checking files in ‘vignettes’ ... OK
* checking examples ... OK
Examples with CPU (user + system) or elapsed time > 5s
user system elapsed
abundance_based_binning 8.984 1.092 7.757
hierarchical_binning 4.897 0.793 3.821
composition_based_binning 4.373 0.775 2.082
* checking for unstated dependencies in ‘tests’ ... OK
* checking tests ...
Running ‘spelling.R’
Running ‘testthat.R’
OK
* checking for unstated dependencies in vignettes ... OK
* checking package vignettes in ‘inst/doc’ ... OK
* checking running R code from vignettes ... SKIPPED
* checking re-building of vignette outputs ... SKIPPED
* checking PDF version of manual ... OK
* DONE
Status: OK
metabinR.Rcheck/00install.out
############################################################################## ############################################################################## ### ### Running command: ### ### /Library/Frameworks/R.framework/Resources/bin/R CMD INSTALL metabinR ### ############################################################################## ############################################################################## * installing to library ‘/Library/Frameworks/R.framework/Versions/4.3-x86_64/Resources/library’ * installing *source* package ‘metabinR’ ... ** using staged installation ** R ** inst ** byte-compile and prepare package for lazy loading ** help *** installing help indices ** building package indices ** installing vignettes ** testing if installed package can be loaded from temporary location ** testing if installed package can be loaded from final location ** testing if installed package keeps a record of temporary installation path * DONE (metabinR)
metabinR.Rcheck/tests/spelling.Rout
R version 4.3.2 Patched (2023-11-01 r85457) -- "Eye Holes"
Copyright (C) 2023 The R Foundation for Statistical Computing
Platform: x86_64-apple-darwin20 (64-bit)
R is free software and comes with ABSOLUTELY NO WARRANTY.
You are welcome to redistribute it under certain conditions.
Type 'license()' or 'licence()' for distribution details.
R is a collaborative project with many contributors.
Type 'contributors()' for more information and
'citation()' on how to cite R or R packages in publications.
Type 'demo()' for some demos, 'help()' for on-line help, or
'help.start()' for an HTML browser interface to help.
Type 'q()' to quit R.
> if(requireNamespace('spelling', quietly = TRUE))
+ spelling::spell_check_test(vignettes = TRUE, error = FALSE,
+ skip_on_cran = TRUE)
NULL
>
> proc.time()
user system elapsed
0.215 0.081 0.282
metabinR.Rcheck/tests/testthat.Rout
R version 4.3.2 Patched (2023-11-01 r85457) -- "Eye Holes"
Copyright (C) 2023 The R Foundation for Statistical Computing
Platform: x86_64-apple-darwin20 (64-bit)
R is free software and comes with ABSOLUTELY NO WARRANTY.
You are welcome to redistribute it under certain conditions.
Type 'license()' or 'licence()' for distribution details.
R is a collaborative project with many contributors.
Type 'contributors()' for more information and
'citation()' on how to cite R or R packages in publications.
Type 'demo()' for some demos, 'help()' for on-line help, or
'help.start()' for an HTML browser interface to help.
Type 'q()' to quit R.
> library(testthat)
> library(metabinR)
>
> test_check("metabinR")
version MTxAB =Sun Mar 03 15:06:28 EST 2024
cpus=48
using=1
2024/03/03 21:40:41 Using Dictionary ORIGINAL
2024/03/03 21:40:41 START of AB Counting
2024/03/03 21:40:41 FastaManager: START READ
2024/03/03 21:40:41 SequenceProcessor: 0 AB_KMERCOUNT START
CHUNK_SIZE=67108864
2024/03/03 21:40:41 FastaManager: lines read 53328
2024/03/03 21:40:41 FastaManager: END READ
2024/03/03 21:40:41 FastaManager: FASTA
2024/03/03 21:40:44 SequenceProcessor: 0 AB_KMERCOUNT EXIT
2024/03/03 21:40:44 END of AB Counting
2024/03/03 21:40:44 Loaded sequences: 26664
2024/03/03 21:40:44 Total kmers(before remove): 65536
##### Heap utilization statistics [GB] #####
Max Memory=0.5
Current Total Memory=0.5
Current Used Memory=0.29
Current Free Memory=0.21
############################################
2024/03/03 21:40:44
Unique: 0
Distinct: 65536
Total: 7625904
MaxCount: 1574
2024/03/03 21:40:44 START of EMsync
Run=1
Run=2
Run=3
Run=4
Run=5
Run=6
Run=7
Run=8
Run=9
Run=10
Run=11
Run=12
Run=13
Run=14
Run=15
Run=16
Run=17
Run=18
Run=19
Run=20
Run=21
Run=22
Run=23
Run=24
Run=25
2024/03/03 21:40:44 Runs=25
2024/03/03 21:40:44 END of EMsync
2024/03/03 21:40:44 START of Creating AB Cluster Vectors
Cluster 1 Abundance=241.01134335779187 Length=16168.173737759438 LowLimit=163 HighLimit=318
Cluster 2 Abundance=75.53888858729701 Length=49367.826262240575 LowLimit=32 HighLimit=118
2024/03/03 21:40:44 Trove size/4=18022
2024/03/03 21:40:44 Trove size/4=18022
2024/03/03 21:40:44 Cluster 2 size in kmers=65536 norm=221.81983091435748
2024/03/03 21:40:44 Cluster 1 size in kmers=65536 norm=126.5058948513796
2024/03/03 21:40:44 END of Creating AB Cluster Vectors
cpus=48
using=1
2024/03/03 21:40:44 START of AB Binning
2024/03/03 21:40:44 FastaManager: START READ
2024/03/03 21:40:44 SequenceProcessor: 0 AB_BINNING START
2024/03/03 21:40:44 FastaManager: lines read 53328
2024/03/03 21:40:44 FastaManager: END READ
2024/03/03 21:40:44 FastaManager: FASTA
2024/03/03 21:40:47 SequenceProcessor: 0 AB_BINNING EXIT
2024/03/03 21:40:47 END of AB Binning
Clustered reads:
AB Cluster 1: 19871
AB Cluster 2: 6793
##### Heap utilization statistics [GB] #####
Max Memory=0.5
Current Total Memory=0.5
Current Used Memory=0.258
Current Free Memory=0.242
############################################
version MTxCB =Sun Mar 03 15:06:28 EST 2024
cpus=48
using=1
2024/03/03 21:40:47 START of CB Counting
2024/03/03 21:40:47 FastaManager: START READ
2024/03/03 21:40:47 SequenceProcessor: 0 CB_SEQUENCEVECTORBUILD START
2024/03/03 21:40:47 FastaManager: lines read 53328
2024/03/03 21:40:47 FastaManager: END READ
2024/03/03 21:40:47 FastaManager: FASTA
2024/03/03 21:40:48 SequenceProcessor: 0 CB_SEQUENCEVECTORBUILD EXIT
2024/03/03 21:40:48 END of CB Counting
2024/03/03 21:40:48 Loaded sequences: 26664
##### Heap utilization statistics [GB] #####
Max Memory=0.5
Current Total Memory=0.5
Current Used Memory=0.292
Current Free Memory=0.208
############################################
cpus=48
using=1
2024/03/03 21:40:48 START of Creating CB Clusters Size=26664
K-Means clustering started
... centers initialized
... concurrent processing mode with 1 subtask threads
... iteration 1 moves = 8188
... iteration 2 moves = 2953
... iteration 3 moves = 1013
... iteration 4 moves = 482
... iteration 5 moves = 270
... iteration 6 moves = 154
... iteration 7 moves = 176
... iteration 8 moves = 258
... iteration 9 moves = 264
... iteration 10 moves = 238
... iteration 11 moves = 316
... iteration 12 moves = 314
... iteration 13 moves = 387
... iteration 14 moves = 484
... iteration 15 moves = 497
... iteration 16 moves = 430
... iteration 17 moves = 362
... iteration 18 moves = 315
... iteration 19 moves = 286
... iteration 20 moves = 264
... iteration 21 moves = 242
... iteration 22 moves = 186
... iteration 23 moves = 116
... iteration 24 moves = 60
... iteration 25 moves = 62
...end. 7.251 seconds.
2024/03/03 21:40:55 : kMeans cleanup.
2024/03/03 21:40:55 END of Creating CB Clusters.
cpus=48
using=1
2024/03/03 21:40:55 START of CB Binning
2024/03/03 21:40:55 FastaManager: START READ
2024/03/03 21:40:55 SequenceProcessor: 0 CB_BINNING START
2024/03/03 21:40:55 FastaManager: lines read 53328
2024/03/03 21:40:55 FastaManager: END READ
2024/03/03 21:40:55 FastaManager: FASTA
2024/03/03 21:40:55 SequenceProcessor: 0 CB_BINNING EXIT
Clustered reads:
CB Cluster 1: 17287
CB Cluster 2: 9377
##### Heap utilization statistics [GB] #####
Max Memory=0.5
Current Total Memory=0.5
Current Used Memory=0.309
Current Free Memory=0.191
############################################
version MTxABxCB =Sun Mar 03 15:06:28 EST 2024
cpus=48
using=1
2024/03/03 21:40:56 Using Dictionary ORIGINAL
2024/03/03 21:40:56 START of AB Counting
2024/03/03 21:40:56 FastaManager: START READ
2024/03/03 21:40:56 SequenceProcessor: 0 AB_KMERCOUNT START
2024/03/03 21:40:56 FastaManager: lines read 53328
2024/03/03 21:40:56 FastaManager: END READ
2024/03/03 21:40:56 FastaManager: FASTA
2024/03/03 21:40:58 SequenceProcessor: 0 AB_KMERCOUNT EXIT
2024/03/03 21:40:58 END of AB Counting
2024/03/03 21:40:58 Loaded sequences: 26664
2024/03/03 21:40:58 Distinct kmers(before remove): 65536
##### Heap utilization statistics [GB] #####
Max Memory=0.5
Current Total Memory=0.5
Current Used Memory=0.156
Current Free Memory=0.344
############################################
2024/03/03 21:40:58
Unique: 0
Distinct: 65536
Total: 7625904
MaxCount: 1574
2024/03/03 21:40:58 START of EMsync
Run=1
Run=2
Run=3
Run=4
Run=5
Run=6
Run=7
Run=8
Run=9
Run=10
Run=11
Run=12
Run=13
Run=14
Run=15
Run=16
Run=17
Run=18
Run=19
Run=20
Run=21
Run=22
Run=23
Run=24
Run=25
2024/03/03 21:40:58 Runs=25
2024/03/03 21:40:58 END of EMsync
2024/03/03 21:40:58 Filter before=2
2024/03/03 21:40:58 Filter after=2
2024/03/03 21:40:58 START of Creating AB Cluster Vectors
Cluster 1 Abundance=75.53888858729701 Length=49367.826262240575 LowLimit=32 HighLimit=118
Cluster 2 Abundance=241.01134335779187 Length=16168.173737759438 LowLimit=163 HighLimit=318
2024/03/03 21:40:58 Trove size/4=18022
2024/03/03 21:40:58 Trove size/4=18022
2024/03/03 21:40:58 Cluster 1 size in kmers=65536 norm=221.81983091435748
2024/03/03 21:40:58 Cluster 2 size in kmers=65536 norm=126.5058948513796
2024/03/03 21:40:58 END of Creating AB Cluster Vectors
cpus=48
using=1
2024/03/03 21:40:58 START of AB Binning
2024/03/03 21:40:58 FastaManager: START READ
2024/03/03 21:40:58 SequenceProcessor: 0 AB_BINNING START
2024/03/03 21:40:58 FastaManager: lines read 53328
2024/03/03 21:40:58 FastaManager: END READ
2024/03/03 21:40:58 FastaManager: FASTA
2024/03/03 21:41:00 SequenceProcessor: 0 AB_BINNING EXIT
2024/03/03 21:41:00 END of AB Binning
cpus=48
using=1
2024/03/03 21:41:00 START of CB Counting
2024/03/03 21:41:00 FastaManager: START READ
2024/03/03 21:41:00 SequenceProcessor: 0 CB_SEQUENCEVECTORBUILD START
2024/03/03 21:41:00 FastaManager: lines read 53328
2024/03/03 21:41:00 FastaManager: END READ
2024/03/03 21:41:00 FastaManager: FASTA
2024/03/03 21:41:01 SequenceProcessor: 0 CB_SEQUENCEVECTORBUILD EXIT
2024/03/03 21:41:01 END of CB Counting
2024/03/03 21:41:01 Loaded sequences: 26664
##### Heap utilization statistics [GB] #####
Max Memory=0.5
Current Total Memory=0.5
Current Used Memory=0.268
Current Free Memory=0.232
############################################
2024/03/03 21:41:01 AB Cluster=1 Size=6793
2024/03/03 21:41:01 AB Cluster=2 Size=19871
cpus=48
using=1
ABid size abundance EMLength newLength EMspecies newspecies
----- ---- --------- -------- --------- --------- ----------
1 6,793 75.53889 49,367 13,489 1 1
2024/03/03 21:41:01 START of Creating CB Clusters for AB Cluster=1 Size=6793
K-Means clustering started
... centers initialized
... concurrent processing mode with 1 subtask threads
... iteration 1 moves = 0
...end. 0.805 seconds.
2024/03/03 21:41:02 : kMeans cleanup.
2024/03/03 21:41:02 END of Creating CB Clusters for AB Cluster=1
cpus=48
using=1
ABid size abundance EMLength newLength EMspecies newspecies
----- ---- --------- -------- --------- --------- ----------
2 19,871 241.01134 16,168 12,367 1 1
2024/03/03 21:41:02 START of Creating CB Clusters for AB Cluster=2 Size=19871
K-Means clustering started
... centers initialized
... concurrent processing mode with 1 subtask threads
... iteration 1 moves = 0
...end. 2.377 seconds.
2024/03/03 21:41:04 : kMeans cleanup.
2024/03/03 21:41:04 END of Creating CB Clusters for AB Cluster=2
##### Heap utilization statistics [GB] #####
Max Memory=0.5
Current Total Memory=0.5
Current Used Memory=0.401
Current Free Memory=0.099
############################################
cpus=48
using=1
2024/03/03 21:41:04 START of CB Binning
2024/03/03 21:41:04 FastaManager: START READ
2024/03/03 21:41:04 SequenceProcessor: 0 CB_BINNING START
2024/03/03 21:41:04 FastaManager: lines read 53328
2024/03/03 21:41:04 FastaManager: END READ
2024/03/03 21:41:04 FastaManager: FASTA
2024/03/03 21:41:05 SequenceProcessor: 0 CB_BINNING EXIT
Clustered reads:
ABxCB Cluster 1: 6793
ABxCB Cluster 2: 19871
##### Heap utilization statistics [GB] #####
Max Memory=0.5
Current Total Memory=0.5
Current Used Memory=0.437
Current Free Memory=0.063
############################################
[ FAIL 0 | WARN 0 | SKIP 0 | PASS 52 ]
>
> proc.time()
user system elapsed
32.469 1.380 25.374
metabinR.Rcheck/metabinR-Ex.timings
| name | user | system | elapsed | |
| abundance_based_binning | 8.984 | 1.092 | 7.757 | |
| composition_based_binning | 4.373 | 0.775 | 2.082 | |
| hierarchical_binning | 4.897 | 0.793 | 3.821 | |