| Back to Multiple platform build/check report for BioC 3.18: simplified long |
|
This page was generated on 2024-04-17 11:36:51 -0400 (Wed, 17 Apr 2024).
| Hostname | OS | Arch (*) | R version | Installed pkgs |
|---|---|---|---|---|
| nebbiolo2 | Linux (Ubuntu 22.04.3 LTS) | x86_64 | 4.3.3 (2024-02-29) -- "Angel Food Cake" | 4676 |
| palomino4 | Windows Server 2022 Datacenter | x64 | 4.3.3 (2024-02-29 ucrt) -- "Angel Food Cake" | 4414 |
| merida1 | macOS 12.7.1 Monterey | x86_64 | 4.3.3 (2024-02-29) -- "Angel Food Cake" | 4437 |
| Click on any hostname to see more info about the system (e.g. compilers) (*) as reported by 'uname -p', except on Windows and Mac OS X | ||||
| Package 896/2266 | Hostname | OS / Arch | INSTALL | BUILD | CHECK | BUILD BIN | ||||||||
| graper 1.18.0 (landing page) Britta Velten
| nebbiolo2 | Linux (Ubuntu 22.04.3 LTS) / x86_64 | OK | OK | OK | |||||||||
| palomino4 | Windows Server 2022 Datacenter / x64 | OK | OK | OK | OK | |||||||||
| merida1 | macOS 12.7.1 Monterey / x86_64 | OK | OK | WARNINGS | OK | |||||||||
| kjohnson1 | macOS 13.6.1 Ventura / arm64 | see weekly results here | ||||||||||||
|
To the developers/maintainers of the graper package: - Allow up to 24 hours (and sometimes 48 hours) for your latest push to git@git.bioconductor.org:packages/graper.git to reflect on this report. See Troubleshooting Build Report for more information. - Use the following Renviron settings to reproduce errors and warnings. - If 'R CMD check' started to fail recently on the Linux builder(s) over a missing dependency, add the missing dependency to 'Suggests:' in your DESCRIPTION file. See Renviron.bioc for more information. |
| Package: graper |
| Version: 1.18.0 |
| Command: F:\biocbuild\bbs-3.18-bioc\R\bin\R.exe CMD check --no-multiarch --install=check:graper.install-out.txt --library=F:\biocbuild\bbs-3.18-bioc\R\library --no-vignettes --timings graper_1.18.0.tar.gz |
| StartedAt: 2024-04-16 01:25:41 -0400 (Tue, 16 Apr 2024) |
| EndedAt: 2024-04-16 01:27:10 -0400 (Tue, 16 Apr 2024) |
| EllapsedTime: 88.5 seconds |
| RetCode: 0 |
| Status: OK |
| CheckDir: graper.Rcheck |
| Warnings: 0 |
##############################################################################
##############################################################################
###
### Running command:
###
### F:\biocbuild\bbs-3.18-bioc\R\bin\R.exe CMD check --no-multiarch --install=check:graper.install-out.txt --library=F:\biocbuild\bbs-3.18-bioc\R\library --no-vignettes --timings graper_1.18.0.tar.gz
###
##############################################################################
##############################################################################
* using log directory 'F:/biocbuild/bbs-3.18-bioc/meat/graper.Rcheck'
* using R version 4.3.3 (2024-02-29 ucrt)
* using platform: x86_64-w64-mingw32 (64-bit)
* R was compiled by
gcc.exe (GCC) 12.3.0
GNU Fortran (GCC) 12.3.0
* running under: Windows Server 2022 x64 (build 20348)
* using session charset: UTF-8
* using option '--no-vignettes'
* checking for file 'graper/DESCRIPTION' ... OK
* checking extension type ... Package
* this is package 'graper' version '1.18.0'
* package encoding: UTF-8
* checking package namespace information ... OK
* checking package dependencies ... OK
* checking if this is a source package ... OK
* checking if there is a namespace ... OK
* checking for hidden files and directories ... OK
* checking for portable file names ... OK
* checking whether package 'graper' can be installed ... OK
* used C++ compiler: 'G__~1.EXE (GCC) 12.3.0'
* checking C++ specification ... NOTE
Specified C++11: please drop specification unless essential
* checking installed package size ... OK
* checking package directory ... OK
* checking 'build' directory ... OK
* checking DESCRIPTION meta-information ... OK
* checking top-level files ... OK
* checking for left-over files ... OK
* checking index information ... OK
* checking package subdirectories ... OK
* checking R files for non-ASCII characters ... OK
* checking R files for syntax errors ... OK
* checking whether the package can be loaded ... OK
* checking whether the package can be loaded with stated dependencies ... OK
* checking whether the package can be unloaded cleanly ... OK
* checking whether the namespace can be loaded with stated dependencies ... OK
* checking whether the namespace can be unloaded cleanly ... OK
* checking dependencies in R code ... OK
* checking S3 generic/method consistency ... OK
* checking replacement functions ... OK
* checking foreign function calls ... OK
* checking R code for possible problems ... OK
* checking Rd files ... OK
* checking Rd metadata ... OK
* checking Rd cross-references ... OK
* checking for missing documentation entries ... OK
* checking for code/documentation mismatches ... OK
* checking Rd \usage sections ... OK
* checking Rd contents ... OK
* checking for unstated dependencies in examples ... OK
* checking line endings in C/C++/Fortran sources/headers ... OK
* checking line endings in Makefiles ... OK
* checking compilation flags in Makevars ... OK
* checking for GNU extensions in Makefiles ... OK
* checking for portable use of $(BLAS_LIBS) and $(LAPACK_LIBS) ... OK
* checking use of PKG_*FLAGS in Makefiles ... OK
* checking compiled code ... NOTE
Note: information on .o files for x64 is not available
File 'F:/biocbuild/bbs-3.18-bioc/R/library/graper/libs/x64/graper.dll':
Found 'abort', possibly from 'abort' (C), 'runtime' (Fortran)
Found 'exit', possibly from 'exit' (C), 'stop' (Fortran)
Compiled code should not call entry points which might terminate R nor
write to stdout/stderr instead of to the console, nor use Fortran I/O
nor system RNGs nor [v]sprintf. The detected symbols are linked into
the code but might come from libraries and not actually be called.
See 'Writing portable packages' in the 'Writing R Extensions' manual.
* checking files in 'vignettes' ... OK
* checking examples ... OK
* checking for unstated dependencies in 'tests' ... OK
* checking tests ...
Running 'testthat.R'
OK
* checking for unstated dependencies in vignettes ... OK
* checking package vignettes in 'inst/doc' ... OK
* checking running R code from vignettes ... SKIPPED
* checking re-building of vignette outputs ... SKIPPED
* checking PDF version of manual ... OK
* DONE
Status: 2 NOTEs
See
'F:/biocbuild/bbs-3.18-bioc/meat/graper.Rcheck/00check.log'
for details.
graper.Rcheck/00install.out
##############################################################################
##############################################################################
###
### Running command:
###
### F:\biocbuild\bbs-3.18-bioc\R\bin\R.exe CMD INSTALL graper
###
##############################################################################
##############################################################################
* installing to library 'F:/biocbuild/bbs-3.18-bioc/R/library'
* installing *source* package 'graper' ...
** using staged installation
** libs
using C++ compiler: 'G__~1.EXE (GCC) 12.3.0'
using C++11
g++ -std=gnu++11 -I"F:/biocbuild/bbs-3.18-bioc/R/include" -DNDEBUG -I'F:/biocbuild/bbs-3.18-bioc/R/library/Rcpp/include' -I'F:/biocbuild/bbs-3.18-bioc/R/library/RcppArmadillo/include' -I'F:/biocbuild/bbs-3.18-bioc/R/library/BH/include' -I"C:/rtools43/x86_64-w64-mingw32.static.posix/include" -O2 -Wall -mfpmath=sse -msse2 -mstackrealign -c RcppExports.cpp -o RcppExports.o
g++ -std=gnu++11 -I"F:/biocbuild/bbs-3.18-bioc/R/include" -DNDEBUG -I'F:/biocbuild/bbs-3.18-bioc/R/library/Rcpp/include' -I'F:/biocbuild/bbs-3.18-bioc/R/library/RcppArmadillo/include' -I'F:/biocbuild/bbs-3.18-bioc/R/library/BH/include' -I"C:/rtools43/x86_64-w64-mingw32.static.posix/include" -O2 -Wall -mfpmath=sse -msse2 -mstackrealign -c fit_graper.cpp -o fit_graper.o
In file included from F:/biocbuild/bbs-3.18-bioc/R/library/BH/include/boost/math/special_functions/detail/round_fwd.hpp:11,
from F:/biocbuild/bbs-3.18-bioc/R/library/BH/include/boost/math/special_functions/math_fwd.hpp:29,
from F:/biocbuild/bbs-3.18-bioc/R/library/BH/include/boost/math/special_functions/digamma.hpp:15,
from graper_linear_dense_ff.h:2,
from fit_graper.cpp:4:
F:/biocbuild/bbs-3.18-bioc/R/library/BH/include/boost/math/tools/config.hpp:23:6: warning: #warning "The minimum language standard to use Boost.Math will be C++14 starting in July 2023 (Boost 1.82 release)" [-Wcpp]
23 | # warning "The minimum language standard to use Boost.Math will be C++14 starting in July 2023 (Boost 1.82 release)"
| ^~~~~~~
g++ -shared -s -static-libgcc -o graper.dll tmp.def RcppExports.o fit_graper.o -LF:/biocbuild/bbs-3.18-bioc/R/bin/x64 -lRlapack -LF:/biocbuild/bbs-3.18-bioc/R/bin/x64 -lRblas -lgfortran -lm -lquadmath -LC:/rtools43/x86_64-w64-mingw32.static.posix/lib/x64 -LC:/rtools43/x86_64-w64-mingw32.static.posix/lib -LF:/biocbuild/bbs-3.18-bioc/R/bin/x64 -lR
installing to F:/biocbuild/bbs-3.18-bioc/R/library/00LOCK-graper/00new/graper/libs/x64
** R
** byte-compile and prepare package for lazy loading
** help
*** installing help indices
** building package indices
** installing vignettes
** testing if installed package can be loaded from temporary location
** testing if installed package can be loaded from final location
** testing if installed package keeps a record of temporary installation path
* DONE (graper)
graper.Rcheck/tests/testthat.Rout
R version 4.3.3 (2024-02-29 ucrt) -- "Angel Food Cake"
Copyright (C) 2024 The R Foundation for Statistical Computing
Platform: x86_64-w64-mingw32/x64 (64-bit)
R is free software and comes with ABSOLUTELY NO WARRANTY.
You are welcome to redistribute it under certain conditions.
Type 'license()' or 'licence()' for distribution details.
R is a collaborative project with many contributors.
Type 'contributors()' for more information and
'citation()' on how to cite R or R packages in publications.
Type 'demo()' for some demos, 'help()' for on-line help, or
'help.start()' for an HTML browser interface to help.
Type 'q()' to quit R.
> library(testthat)
> library(graper)
>
> test_check("graper")
iteration 1
Updating parameters of variational distributions...
Calculating ELB..
ELB=-888.883
ELB improved by inf
iteration 2
Updating parameters of variational distributions...
Calculating ELB..
ELB=-566.743
ELB improved by 322.14
iteration 3
Updating parameters of variational distributions...
Calculating ELB..
ELB=-509.155
ELB improved by 57.5878
iteration 4
Updating parameters of variational distributions...
Calculating ELB..
ELB=-475.067
ELB improved by 34.0878
iteration 5
Updating parameters of variational distributions...
Calculating ELB..
ELB=-460.408
ELB improved by 14.6596
iteration 6
Updating parameters of variational distributions...
Calculating ELB..
ELB=-453.673
ELB improved by 6.73514
iteration 7
Updating parameters of variational distributions...
Calculating ELB..
ELB=-448.676
ELB improved by 4.99682
iteration 8
Updating parameters of variational distributions...
Calculating ELB..
ELB=-443.848
ELB improved by 4.82771
iteration 9
Updating parameters of variational distributions...
Calculating ELB..
ELB=-438.687
ELB improved by 5.16115
iteration 10
Updating parameters of variational distributions...
Calculating ELB..
ELB=-432.999
ELB improved by 5.68802
iteration 11
Updating parameters of variational distributions...
Calculating ELB..
ELB=-426.885
ELB improved by 6.11351
iteration 12
Updating parameters of variational distributions...
Calculating ELB..
ELB=-420.852
ELB improved by 6.03318
iteration 13
Updating parameters of variational distributions...
Calculating ELB..
ELB=-415.672
ELB improved by 5.18029
iteration 14
Updating parameters of variational distributions...
Calculating ELB..
ELB=-411.811
ELB improved by 3.86103
iteration 15
Updating parameters of variational distributions...
Calculating ELB..
ELB=-409.191
ELB improved by 2.62003
iteration 16
Updating parameters of variational distributions...
Calculating ELB..
ELB=-407.462
ELB improved by 1.72916
iteration 17
Updating parameters of variational distributions...
Calculating ELB..
ELB=-406.287
ELB improved by 1.17442
iteration 18
Updating parameters of variational distributions...
Calculating ELB..
ELB=-405.44
ELB improved by 0.847601
iteration 19
Updating parameters of variational distributions...
Calculating ELB..
ELB=-404.784
ELB improved by 0.655553
iteration 20
Updating parameters of variational distributions...
Calculating ELB..
ELB=-404.245
ELB improved by 0.538973
iteration 21
Updating parameters of variational distributions...
Calculating ELB..
ELB=-403.781
ELB improved by 0.463855
iteration 22
Updating parameters of variational distributions...
Calculating ELB..
ELB=-403.37
ELB improved by 0.411498
iteration 23
Updating parameters of variational distributions...
Calculating ELB..
ELB=-402.998
ELB improved by 0.371747
iteration 24
Updating parameters of variational distributions...
Calculating ELB..
ELB=-402.659
ELB improved by 0.339089
iteration 25
Updating parameters of variational distributions...
Calculating ELB..
ELB=-402.348
ELB improved by 0.310562
iteration 26
Updating parameters of variational distributions...
Calculating ELB..
ELB=-402.064
ELB improved by 0.284643
iteration 27
Updating parameters of variational distributions...
Calculating ELB..
ELB=-401.803
ELB improved by 0.260638
iteration 28
Updating parameters of variational distributions...
Calculating ELB..
ELB=-401.565
ELB improved by 0.238315
iteration 29
Updating parameters of variational distributions...
Calculating ELB..
ELB=-401.347
ELB improved by 0.217672
iteration 30
Updating parameters of variational distributions...
Calculating ELB..
ELB=-401.148
ELB improved by 0.198792
iteration 31
Updating parameters of variational distributions...
Calculating ELB..
ELB=-400.967
ELB improved by 0.181758
iteration 32
Updating parameters of variational distributions...
Calculating ELB..
ELB=-400.8
ELB improved by 0.166615
iteration 33
Updating parameters of variational distributions...
Calculating ELB..
ELB=-400.647
ELB improved by 0.15336
iteration 34
Updating parameters of variational distributions...
Calculating ELB..
ELB=-400.505
ELB improved by 0.141959
iteration 35
Updating parameters of variational distributions...
Calculating ELB..
ELB=-400.372
ELB improved by 0.132358
iteration 36
Updating parameters of variational distributions...
Calculating ELB..
ELB=-400.248
ELB improved by 0.124514
iteration 37
Updating parameters of variational distributions...
Calculating ELB..
ELB=-400.129
ELB improved by 0.118416
iteration 38
Updating parameters of variational distributions...
Calculating ELB..
ELB=-400.015
ELB improved by 0.114113
iteration 39
Updating parameters of variational distributions...
Calculating ELB..
ELB=-399.903
ELB improved by 0.111761
iteration 40
Updating parameters of variational distributions...
Calculating ELB..
ELB=-399.792
ELB improved by 0.111679
iteration 41
Updating parameters of variational distributions...
Calculating ELB..
ELB=-399.677
ELB improved by 0.11445
iteration 42
Updating parameters of variational distributions...
Calculating ELB..
ELB=-399.556
ELB improved by 0.121105
iteration 43
Updating parameters of variational distributions...
Calculating ELB..
ELB=-399.423
ELB improved by 0.133441
iteration 44
Updating parameters of variational distributions...
Calculating ELB..
ELB=-399.268
ELB improved by 0.15461
iteration 45
Updating parameters of variational distributions...
Calculating ELB..
ELB=-399.078
ELB improved by 0.190182
iteration 46
Updating parameters of variational distributions...
Calculating ELB..
ELB=-398.828
ELB improved by 0.249772
iteration 47
Updating parameters of variational distributions...
Calculating ELB..
ELB=-398.482
ELB improved by 0.345967
iteration 48
Updating parameters of variational distributions...
Calculating ELB..
ELB=-398.01
ELB improved by 0.472089
iteration 49
Updating parameters of variational distributions...
Calculating ELB..
ELB=-397.447
ELB improved by 0.563638
iteration 50
Updating parameters of variational distributions...
Calculating ELB..
ELB=-396.867
ELB improved by 0.579084
iteration 51
Updating parameters of variational distributions...
Calculating ELB..
ELB=-396.303
ELB improved by 0.564812
iteration 52
Updating parameters of variational distributions...
Calculating ELB..
ELB=-395.753
ELB improved by 0.550031
iteration 53
Updating parameters of variational distributions...
Calculating ELB..
ELB=-395.22
ELB improved by 0.532344
iteration 54
Updating parameters of variational distributions...
Calculating ELB..
ELB=-394.717
ELB improved by 0.50366
iteration 55
Updating parameters of variational distributions...
Calculating ELB..
ELB=-394.258
ELB improved by 0.459078
iteration 56
Updating parameters of variational distributions...
Calculating ELB..
ELB=-393.857
ELB improved by 0.400436
iteration 57
Updating parameters of variational distributions...
Calculating ELB..
ELB=-393.521
ELB improved by 0.335845
iteration 58
Updating parameters of variational distributions...
Calculating ELB..
ELB=-393.246
ELB improved by 0.274847
iteration 59
Updating parameters of variational distributions...
Calculating ELB..
ELB=-393.023
ELB improved by 0.223382
iteration 60
Updating parameters of variational distributions...
Calculating ELB..
ELB=-392.84
ELB improved by 0.182592
iteration 61
Updating parameters of variational distributions...
Calculating ELB..
ELB=-392.689
ELB improved by 0.151093
iteration 62
Updating parameters of variational distributions...
Calculating ELB..
ELB=-392.562
ELB improved by 0.127437
iteration 63
Updating parameters of variational distributions...
Calculating ELB..
ELB=-392.451
ELB improved by 0.110552
iteration 64
Updating parameters of variational distributions...
Calculating ELB..
ELB=-392.352
ELB improved by 0.0989768
iteration 65
Updating parameters of variational distributions...
Calculating ELB..
ELB=-392.262
ELB improved by 0.0905491
iteration 66
Updating parameters of variational distributions...
Calculating ELB..
ELB=-392.179
ELB improved by 0.082931
iteration 67
Updating parameters of variational distributions...
Calculating ELB..
ELB=-392.104
ELB improved by 0.0745699
iteration 68
Updating parameters of variational distributions...
Calculating ELB..
ELB=-392.039
ELB improved by 0.0654822
iteration 69
Updating parameters of variational distributions...
Calculating ELB..
ELB=-391.982
ELB improved by 0.0571076
iteration 70
Updating parameters of variational distributions...
Calculating ELB..
ELB=-391.93
ELB improved by 0.051358
iteration 71
Updating parameters of variational distributions...
Calculating ELB..
ELB=-391.88
ELB improved by 0.0499268
iteration 72
Updating parameters of variational distributions...
Calculating ELB..
ELB=-391.826
ELB improved by 0.0543558
iteration 73
Updating parameters of variational distributions...
Calculating ELB..
ELB=-391.76
ELB improved by 0.0660368
iteration 74
Updating parameters of variational distributions...
Calculating ELB..
ELB=-391.676
ELB improved by 0.0841975
iteration 75
Updating parameters of variational distributions...
Calculating ELB..
ELB=-391.575
ELB improved by 0.100853
iteration 76
Updating parameters of variational distributions...
Calculating ELB..
ELB=-391.474
ELB improved by 0.101384
iteration 77
Updating parameters of variational distributions...
Calculating ELB..
ELB=-391.392
ELB improved by 0.0816012
iteration 78
Updating parameters of variational distributions...
Calculating ELB..
ELB=-391.337
ELB improved by 0.0548193
iteration 79
Updating parameters of variational distributions...
Calculating ELB..
ELB=-391.304
ELB improved by 0.0334518
iteration 80
Updating parameters of variational distributions...
Calculating ELB..
ELB=-391.284
ELB improved by 0.020091
iteration 81
Updating parameters of variational distributions...
Calculating ELB..
ELB=-391.271
ELB improved by 0.0126633
iteration 82
Updating parameters of variational distributions...
Calculating ELB..
ELB=-391.262
ELB improved by 0.00874163
ELB converged
iteration 1
Updating parameters of variational distributions...
Calculating ELB..
ELB=-857.922
ELB improved by inf
iteration 2
Updating parameters of variational distributions...
Calculating ELB..
ELB=-574.255
ELB improved by 283.667
iteration 3
Updating parameters of variational distributions...
Calculating ELB..
ELB=-514.537
ELB improved by 59.7176
iteration 4
Updating parameters of variational distributions...
Calculating ELB..
ELB=-474.323
ELB improved by 40.2139
iteration 5
Updating parameters of variational distributions...
Calculating ELB..
ELB=-455.581
ELB improved by 18.742
iteration 6
Updating parameters of variational distributions...
Calculating ELB..
ELB=-447.299
ELB improved by 8.28249
iteration 7
Updating parameters of variational distributions...
Calculating ELB..
ELB=-442.931
ELB improved by 4.3678
iteration 8
Updating parameters of variational distributions...
Calculating ELB..
ELB=-440.1
ELB improved by 2.83078
iteration 9
Updating parameters of variational distributions...
Calculating ELB..
ELB=-437.852
ELB improved by 2.24873
iteration 10
Updating parameters of variational distributions...
Calculating ELB..
ELB=-435.744
ELB improved by 2.10716
iteration 11
Updating parameters of variational distributions...
Calculating ELB..
ELB=-433.555
ELB improved by 2.18929
iteration 12
Updating parameters of variational distributions...
Calculating ELB..
ELB=-431.195
ELB improved by 2.36063
iteration 13
Updating parameters of variational distributions...
Calculating ELB..
ELB=-428.69
ELB improved by 2.50429
iteration 14
Updating parameters of variational distributions...
Calculating ELB..
ELB=-426.193
ELB improved by 2.49684
iteration 15
Updating parameters of variational distributions...
Calculating ELB..
ELB=-423.938
ELB improved by 2.25537
iteration 16
Updating parameters of variational distributions...
Calculating ELB..
ELB=-422.116
ELB improved by 1.8219
iteration 17
Updating parameters of variational distributions...
Calculating ELB..
ELB=-420.767
ELB improved by 1.34915
iteration 18
Updating parameters of variational distributions...
Calculating ELB..
ELB=-419.797
ELB improved by 0.970147
iteration 19
Updating parameters of variational distributions...
Calculating ELB..
ELB=-419.076
ELB improved by 0.720623
iteration 20
Updating parameters of variational distributions...
Calculating ELB..
ELB=-418.504
ELB improved by 0.572575
iteration 21
Updating parameters of variational distributions...
Calculating ELB..
ELB=-418.016
ELB improved by 0.487657
iteration 22
Updating parameters of variational distributions...
Calculating ELB..
ELB=-417.577
ELB improved by 0.438561
iteration 23
Updating parameters of variational distributions...
Calculating ELB..
ELB=-417.168
ELB improved by 0.409387
iteration 24
Updating parameters of variational distributions...
Calculating ELB..
ELB=-416.777
ELB improved by 0.391466
iteration 25
Updating parameters of variational distributions...
Calculating ELB..
ELB=-416.396
ELB improved by 0.38021
iteration 26
Updating parameters of variational distributions...
Calculating ELB..
ELB=-416.023
ELB improved by 0.373429
iteration 27
Updating parameters of variational distributions...
Calculating ELB..
ELB=-415.652
ELB improved by 0.370542
iteration 28
Updating parameters of variational distributions...
Calculating ELB..
ELB=-415.28
ELB improved by 0.372225
iteration 29
Updating parameters of variational distributions...
Calculating ELB..
ELB=-414.9
ELB improved by 0.380076
iteration 30
Updating parameters of variational distributions...
Calculating ELB..
ELB=-414.504
ELB improved by 0.395748
iteration 31
Updating parameters of variational distributions...
Calculating ELB..
ELB=-414.085
ELB improved by 0.419243
iteration 32
Updating parameters of variational distributions...
Calculating ELB..
ELB=-413.636
ELB improved by 0.448957
iteration 33
Updating parameters of variational distributions...
Calculating ELB..
ELB=-413.147
ELB improved by 0.489125
iteration 34
Updating parameters of variational distributions...
Calculating ELB..
ELB=-412.588
ELB improved by 0.559416
iteration 35
Updating parameters of variational distributions...
Calculating ELB..
ELB=-411.895
ELB improved by 0.692453
iteration 36
Updating parameters of variational distributions...
Calculating ELB..
ELB=-410.995
ELB improved by 0.900497
iteration 37
Updating parameters of variational distributions...
Calculating ELB..
ELB=-409.962
ELB improved by 1.03266
iteration 38
Updating parameters of variational distributions...
Calculating ELB..
ELB=-409.01
ELB improved by 0.952098
iteration 39
Updating parameters of variational distributions...
Calculating ELB..
ELB=-408.194
ELB improved by 0.816323
iteration 40
Updating parameters of variational distributions...
Calculating ELB..
ELB=-407.496
ELB improved by 0.697866
iteration 41
Updating parameters of variational distributions...
Calculating ELB..
ELB=-406.905
ELB improved by 0.590429
iteration 42
Updating parameters of variational distributions...
Calculating ELB..
ELB=-406.414
ELB improved by 0.491147
iteration 43
Updating parameters of variational distributions...
Calculating ELB..
ELB=-406.01
ELB improved by 0.404424
iteration 44
Updating parameters of variational distributions...
Calculating ELB..
ELB=-405.673
ELB improved by 0.337023
iteration 45
Updating parameters of variational distributions...
Calculating ELB..
ELB=-405.378
ELB improved by 0.294787
iteration 46
Updating parameters of variational distributions...
Calculating ELB..
ELB=-405.101
ELB improved by 0.277256
iteration 47
Updating parameters of variational distributions...
Calculating ELB..
ELB=-404.836
ELB improved by 0.264871
iteration 48
Updating parameters of variational distributions...
Calculating ELB..
ELB=-404.61
ELB improved by 0.22593
iteration 49
Updating parameters of variational distributions...
Calculating ELB..
ELB=-404.444
ELB improved by 0.166019
iteration 50
Updating parameters of variational distributions...
Calculating ELB..
ELB=-404.327
ELB improved by 0.116538
iteration 51
Updating parameters of variational distributions...
Calculating ELB..
ELB=-404.242
ELB improved by 0.0856906
iteration 52
Updating parameters of variational distributions...
Calculating ELB..
ELB=-404.175
ELB improved by 0.0667871
iteration 53
Updating parameters of variational distributions...
Calculating ELB..
ELB=-404.121
ELB improved by 0.0541788
iteration 54
Updating parameters of variational distributions...
Calculating ELB..
ELB=-404.076
ELB improved by 0.045103
iteration 55
Updating parameters of variational distributions...
Calculating ELB..
ELB=-404.037
ELB improved by 0.0382524
iteration 56
Updating parameters of variational distributions...
Calculating ELB..
ELB=-404.004
ELB improved by 0.032922
iteration 57
Updating parameters of variational distributions...
Calculating ELB..
ELB=-403.976
ELB improved by 0.0286787
iteration 58
Updating parameters of variational distributions...
Calculating ELB..
ELB=-403.95
ELB improved by 0.0252348
iteration 59
Updating parameters of variational distributions...
Calculating ELB..
ELB=-403.928
ELB improved by 0.0223921
iteration 60
Updating parameters of variational distributions...
Calculating ELB..
ELB=-403.908
ELB improved by 0.0200114
iteration 61
Updating parameters of variational distributions...
Calculating ELB..
ELB=-403.89
ELB improved by 0.017993
iteration 62
Updating parameters of variational distributions...
Calculating ELB..
ELB=-403.874
ELB improved by 0.0162638
iteration 63
Updating parameters of variational distributions...
Calculating ELB..
ELB=-403.859
ELB improved by 0.0147696
iteration 64
Updating parameters of variational distributions...
Calculating ELB..
ELB=-403.846
ELB improved by 0.0134688
iteration 65
Updating parameters of variational distributions...
Calculating ELB..
ELB=-403.833
ELB improved by 0.0123295
iteration 66
Updating parameters of variational distributions...
Calculating ELB..
ELB=-403.822
ELB improved by 0.0113262
iteration 67
Updating parameters of variational distributions...
Calculating ELB..
ELB=-403.811
ELB improved by 0.0104385
iteration 68
Updating parameters of variational distributions...
Calculating ELB..
ELB=-403.802
ELB improved by 0.00965005
ELB converged
iteration 1
Updating parameters of variational distributions...
Calculating ELB..
ELB=-810.33
ELB improved by inf
iteration 2
Updating parameters of variational distributions...
Calculating ELB..
ELB=-568.692
ELB improved by 241.637
iteration 3
Updating parameters of variational distributions...
Calculating ELB..
ELB=-508.86
ELB improved by 59.8319
iteration 4
Updating parameters of variational distributions...
Calculating ELB..
ELB=-466.498
ELB improved by 42.3623
iteration 5
Updating parameters of variational distributions...
Calculating ELB..
ELB=-445.16
ELB improved by 21.3381
iteration 6
Updating parameters of variational distributions...
Calculating ELB..
ELB=-435.9
ELB improved by 9.26035
iteration 7
Updating parameters of variational distributions...
Calculating ELB..
ELB=-431.467
ELB improved by 4.43266
iteration 8
Updating parameters of variational distributions...
Calculating ELB..
ELB=-428.554
ELB improved by 2.91309
iteration 9
Updating parameters of variational distributions...
Calculating ELB..
ELB=-426.139
ELB improved by 2.41542
iteration 10
Updating parameters of variational distributions...
Calculating ELB..
ELB=-423.88
ELB improved by 2.25807
iteration 11
Updating parameters of variational distributions...
Calculating ELB..
ELB=-421.679
ELB improved by 2.20128
iteration 12
Updating parameters of variational distributions...
Calculating ELB..
ELB=-419.573
ELB improved by 2.10658
iteration 13
Updating parameters of variational distributions...
Calculating ELB..
ELB=-417.674
ELB improved by 1.89809
iteration 14
Updating parameters of variational distributions...
Calculating ELB..
ELB=-416.09
ELB improved by 1.58498
iteration 15
Updating parameters of variational distributions...
Calculating ELB..
ELB=-414.846
ELB improved by 1.24385
iteration 16
Updating parameters of variational distributions...
Calculating ELB..
ELB=-413.897
ELB improved by 0.948637
iteration 17
Updating parameters of variational distributions...
Calculating ELB..
ELB=-413.175
ELB improved by 0.722266
iteration 18
Updating parameters of variational distributions...
Calculating ELB..
ELB=-412.623
ELB improved by 0.552176
iteration 19
Updating parameters of variational distributions...
Calculating ELB..
ELB=-412.196
ELB improved by 0.426296
iteration 20
Updating parameters of variational distributions...
Calculating ELB..
ELB=-411.857
ELB improved by 0.339005
iteration 21
Updating parameters of variational distributions...
Calculating ELB..
ELB=-411.575
ELB improved by 0.282721
iteration 22
Updating parameters of variational distributions...
Calculating ELB..
ELB=-411.326
ELB improved by 0.248392
iteration 23
Updating parameters of variational distributions...
Calculating ELB..
ELB=-411.098
ELB improved by 0.228578
iteration 24
Updating parameters of variational distributions...
Calculating ELB..
ELB=-410.879
ELB improved by 0.218259
iteration 25
Updating parameters of variational distributions...
Calculating ELB..
ELB=-410.665
ELB improved by 0.214459
iteration 26
Updating parameters of variational distributions...
Calculating ELB..
ELB=-410.449
ELB improved by 0.215653
iteration 27
Updating parameters of variational distributions...
Calculating ELB..
ELB=-410.228
ELB improved by 0.221268
iteration 28
Updating parameters of variational distributions...
Calculating ELB..
ELB=-409.997
ELB improved by 0.23111
iteration 29
Updating parameters of variational distributions...
Calculating ELB..
ELB=-409.752
ELB improved by 0.244381
iteration 30
Updating parameters of variational distributions...
Calculating ELB..
ELB=-409.494
ELB improved by 0.258284
iteration 31
Updating parameters of variational distributions...
Calculating ELB..
ELB=-409.226
ELB improved by 0.267728
iteration 32
Updating parameters of variational distributions...
Calculating ELB..
ELB=-408.958
ELB improved by 0.2683
iteration 33
Updating parameters of variational distributions...
Calculating ELB..
ELB=-408.698
ELB improved by 0.259819
iteration 34
Updating parameters of variational distributions...
Calculating ELB..
ELB=-408.453
ELB improved by 0.245253
iteration 35
Updating parameters of variational distributions...
Calculating ELB..
ELB=-408.226
ELB improved by 0.22748
iteration 36
Updating parameters of variational distributions...
Calculating ELB..
ELB=-408.017
ELB improved by 0.208309
iteration 37
Updating parameters of variational distributions...
Calculating ELB..
ELB=-407.828
ELB improved by 0.188932
iteration 38
Updating parameters of variational distributions...
Calculating ELB..
ELB=-407.658
ELB improved by 0.17022
iteration 39
Updating parameters of variational distributions...
Calculating ELB..
ELB=-407.505
ELB improved by 0.152784
iteration 40
Updating parameters of variational distributions...
Calculating ELB..
ELB=-407.368
ELB improved by 0.13698
iteration 41
Updating parameters of variational distributions...
Calculating ELB..
ELB=-407.245
ELB improved by 0.12296
iteration 42
Updating parameters of variational distributions...
Calculating ELB..
ELB=-407.135
ELB improved by 0.110731
iteration 43
Updating parameters of variational distributions...
Calculating ELB..
ELB=-407.034
ELB improved by 0.100211
iteration 44
Updating parameters of variational distributions...
Calculating ELB..
ELB=-406.943
ELB improved by 0.0912843
iteration 45
Updating parameters of variational distributions...
Calculating ELB..
ELB=-406.859
ELB improved by 0.0838395
iteration 46
Updating parameters of variational distributions...
Calculating ELB..
ELB=-406.782
ELB improved by 0.0778028
iteration 47
Updating parameters of variational distributions...
Calculating ELB..
ELB=-406.708
ELB improved by 0.0731714
iteration 48
Updating parameters of variational distributions...
Calculating ELB..
ELB=-406.638
ELB improved by 0.0700527
iteration 49
Updating parameters of variational distributions...
Calculating ELB..
ELB=-406.57
ELB improved by 0.068714
iteration 50
Updating parameters of variational distributions...
Calculating ELB..
ELB=-406.5
ELB improved by 0.0696259
iteration 51
Updating parameters of variational distributions...
Calculating ELB..
ELB=-406.427
ELB improved by 0.0734118
iteration 52
Updating parameters of variational distributions...
Calculating ELB..
ELB=-406.346
ELB improved by 0.0804404
iteration 53
Updating parameters of variational distributions...
Calculating ELB..
ELB=-406.256
ELB improved by 0.0896775
iteration 54
Updating parameters of variational distributions...
Calculating ELB..
ELB=-406.159
ELB improved by 0.0973099
iteration 55
Updating parameters of variational distributions...
Calculating ELB..
ELB=-406.061
ELB improved by 0.0981195
iteration 56
Updating parameters of variational distributions...
Calculating ELB..
ELB=-405.97
ELB improved by 0.090769
iteration 57
Updating parameters of variational distributions...
Calculating ELB..
ELB=-405.891
ELB improved by 0.0794464
iteration 58
Updating parameters of variational distributions...
Calculating ELB..
ELB=-405.822
ELB improved by 0.0687072
iteration 59
Updating parameters of variational distributions...
Calculating ELB..
ELB=-405.762
ELB improved by 0.0601794
iteration 60
Updating parameters of variational distributions...
Calculating ELB..
ELB=-405.708
ELB improved by 0.0536212
iteration 61
Updating parameters of variational distributions...
Calculating ELB..
ELB=-405.66
ELB improved by 0.0484175
iteration 62
Updating parameters of variational distributions...
Calculating ELB..
ELB=-405.616
ELB improved by 0.0441056
iteration 63
Updating parameters of variational distributions...
Calculating ELB..
ELB=-405.575
ELB improved by 0.0404066
iteration 64
Updating parameters of variational distributions...
Calculating ELB..
ELB=-405.538
ELB improved by 0.0371573
iteration 65
Updating parameters of variational distributions...
Calculating ELB..
ELB=-405.504
ELB improved by 0.0342584
iteration 66
Updating parameters of variational distributions...
Calculating ELB..
ELB=-405.472
ELB improved by 0.0316446
iteration 67
Updating parameters of variational distributions...
Calculating ELB..
ELB=-405.443
ELB improved by 0.0292706
iteration 68
Updating parameters of variational distributions...
Calculating ELB..
ELB=-405.416
ELB improved by 0.0271029
iteration 69
Updating parameters of variational distributions...
Calculating ELB..
ELB=-405.391
ELB improved by 0.0251162
iteration 70
Updating parameters of variational distributions...
Calculating ELB..
ELB=-405.368
ELB improved by 0.0232902
iteration 71
Updating parameters of variational distributions...
Calculating ELB..
ELB=-405.346
ELB improved by 0.021609
iteration 72
Updating parameters of variational distributions...
Calculating ELB..
ELB=-405.326
ELB improved by 0.020059
iteration 73
Updating parameters of variational distributions...
Calculating ELB..
ELB=-405.307
ELB improved by 0.0186289
iteration 74
Updating parameters of variational distributions...
Calculating ELB..
ELB=-405.29
ELB improved by 0.0173089
iteration 75
Updating parameters of variational distributions...
Calculating ELB..
ELB=-405.274
ELB improved by 0.0160902
iteration 76
Updating parameters of variational distributions...
Calculating ELB..
ELB=-405.259
ELB improved by 0.0149652
iteration 77
Updating parameters of variational distributions...
Calculating ELB..
ELB=-405.245
ELB improved by 0.0139267
iteration 78
Updating parameters of variational distributions...
Calculating ELB..
ELB=-405.232
ELB improved by 0.0129684
iteration 79
Updating parameters of variational distributions...
Calculating ELB..
ELB=-405.22
ELB improved by 0.0120841
iteration 80
Updating parameters of variational distributions...
Calculating ELB..
ELB=-405.209
ELB improved by 0.0112685
iteration 81
Updating parameters of variational distributions...
Calculating ELB..
ELB=-405.198
ELB improved by 0.0105163
iteration 82
Updating parameters of variational distributions...
Calculating ELB..
ELB=-405.188
ELB improved by 0.00982277
ELB converged
iteration 1
Updating parameters of variational distributions...
Calculating ELB..
ELB=-832.351
ELB improved by inf
iteration 2
Updating parameters of variational distributions...
Calculating ELB..
ELB=-570.597
ELB improved by 261.753
iteration 3
Updating parameters of variational distributions...
Calculating ELB..
ELB=-513.103
ELB improved by 57.4942
iteration 4
Updating parameters of variational distributions...
Calculating ELB..
ELB=-475.476
ELB improved by 37.6272
iteration 5
Updating parameters of variational distributions...
Calculating ELB..
ELB=-458.341
ELB improved by 17.1347
iteration 6
Updating parameters of variational distributions...
Calculating ELB..
ELB=-451.235
ELB improved by 7.10586
iteration 7
Updating parameters of variational distributions...
Calculating ELB..
ELB=-447.258
ELB improved by 3.97706
iteration 8
Updating parameters of variational distributions...
Calculating ELB..
ELB=-444.076
ELB improved by 3.18232
iteration 9
Updating parameters of variational distributions...
Calculating ELB..
ELB=-441.03
ELB improved by 3.04603
iteration 10
Updating parameters of variational distributions...
Calculating ELB..
ELB=-437.903
ELB improved by 3.12655
iteration 11
Updating parameters of variational distributions...
Calculating ELB..
ELB=-434.651
ELB improved by 3.25202
iteration 12
Updating parameters of variational distributions...
Calculating ELB..
ELB=-431.335
ELB improved by 3.31606
iteration 13
Updating parameters of variational distributions...
Calculating ELB..
ELB=-428.105
ELB improved by 3.23003
iteration 14
Updating parameters of variational distributions...
Calculating ELB..
ELB=-425.206
ELB improved by 2.89911
iteration 15
Updating parameters of variational distributions...
Calculating ELB..
ELB=-422.812
ELB improved by 2.39423
iteration 16
Updating parameters of variational distributions...
Calculating ELB..
ELB=-420.824
ELB improved by 1.98766
iteration 17
Updating parameters of variational distributions...
Calculating ELB..
ELB=-419.012
ELB improved by 1.81245
iteration 18
Updating parameters of variational distributions...
Calculating ELB..
ELB=-417.218
ELB improved by 1.79378
iteration 19
Updating parameters of variational distributions...
Calculating ELB..
ELB=-415.377
ELB improved by 1.84053
iteration 20
Updating parameters of variational distributions...
Calculating ELB..
ELB=-413.435
ELB improved by 1.94251
iteration 21
Updating parameters of variational distributions...
Calculating ELB..
ELB=-411.262
ELB improved by 2.17277
iteration 22
Updating parameters of variational distributions...
Calculating ELB..
ELB=-408.684
ELB improved by 2.57861
iteration 23
Updating parameters of variational distributions...
Calculating ELB..
ELB=-405.902
ELB improved by 2.78128
iteration 24
Updating parameters of variational distributions...
Calculating ELB..
ELB=-403.278
ELB improved by 2.62447
iteration 25
Updating parameters of variational distributions...
Calculating ELB..
ELB=-400.966
ELB improved by 2.31138
iteration 26
Updating parameters of variational distributions...
Calculating ELB..
ELB=-399.08
ELB improved by 1.88676
iteration 27
Updating parameters of variational distributions...
Calculating ELB..
ELB=-397.657
ELB improved by 1.42288
iteration 28
Updating parameters of variational distributions...
Calculating ELB..
ELB=-396.642
ELB improved by 1.01439
iteration 29
Updating parameters of variational distributions...
Calculating ELB..
ELB=-395.934
ELB improved by 0.708743
iteration 30
Updating parameters of variational distributions...
Calculating ELB..
ELB=-395.431
ELB improved by 0.502708
iteration 31
Updating parameters of variational distributions...
Calculating ELB..
ELB=-395.06
ELB improved by 0.371115
iteration 32
Updating parameters of variational distributions...
Calculating ELB..
ELB=-394.773
ELB improved by 0.286972
iteration 33
Updating parameters of variational distributions...
Calculating ELB..
ELB=-394.543
ELB improved by 0.229468
iteration 34
Updating parameters of variational distributions...
Calculating ELB..
ELB=-394.357
ELB improved by 0.18663
iteration 35
Updating parameters of variational distributions...
Calculating ELB..
ELB=-394.203
ELB improved by 0.15407
iteration 36
Updating parameters of variational distributions...
Calculating ELB..
ELB=-394.072
ELB improved by 0.130673
iteration 37
Updating parameters of variational distributions...
Calculating ELB..
ELB=-393.956
ELB improved by 0.11569
iteration 38
Updating parameters of variational distributions...
Calculating ELB..
ELB=-393.847
ELB improved by 0.108929
iteration 39
Updating parameters of variational distributions...
Calculating ELB..
ELB=-393.735
ELB improved by 0.112457
iteration 40
Updating parameters of variational distributions...
Calculating ELB..
ELB=-393.601
ELB improved by 0.133709
iteration 41
Updating parameters of variational distributions...
Calculating ELB..
ELB=-393.411
ELB improved by 0.190611
iteration 42
Updating parameters of variational distributions...
Calculating ELB..
ELB=-393.104
ELB improved by 0.306484
iteration 43
Updating parameters of variational distributions...
Calculating ELB..
ELB=-392.65
ELB improved by 0.454626
iteration 44
Updating parameters of variational distributions...
Calculating ELB..
ELB=-392.106
ELB improved by 0.543918
iteration 45
Updating parameters of variational distributions...
Calculating ELB..
ELB=-391.592
ELB improved by 0.513546
iteration 46
Updating parameters of variational distributions...
Calculating ELB..
ELB=-391.235
ELB improved by 0.357241
iteration 47
Updating parameters of variational distributions...
Calculating ELB..
ELB=-391.022
ELB improved by 0.212912
iteration 48
Updating parameters of variational distributions...
Calculating ELB..
ELB=-390.877
ELB improved by 0.144975
iteration 49
Updating parameters of variational distributions...
Calculating ELB..
ELB=-390.756
ELB improved by 0.121111
iteration 50
Updating parameters of variational distributions...
Calculating ELB..
ELB=-390.643
ELB improved by 0.11328
iteration 51
Updating parameters of variational distributions...
Calculating ELB..
ELB=-390.533
ELB improved by 0.109154
iteration 52
Updating parameters of variational distributions...
Calculating ELB..
ELB=-390.43
ELB improved by 0.103591
iteration 53
Updating parameters of variational distributions...
Calculating ELB..
ELB=-390.335
ELB improved by 0.0948613
iteration 54
Updating parameters of variational distributions...
Calculating ELB..
ELB=-390.251
ELB improved by 0.0835594
iteration 55
Updating parameters of variational distributions...
Calculating ELB..
ELB=-390.18
ELB improved by 0.0714735
iteration 56
Updating parameters of variational distributions...
Calculating ELB..
ELB=-390.12
ELB improved by 0.0602236
iteration 57
Updating parameters of variational distributions...
Calculating ELB..
ELB=-390.069
ELB improved by 0.0507228
iteration 58
Updating parameters of variational distributions...
Calculating ELB..
ELB=-390.026
ELB improved by 0.043406
iteration 59
Updating parameters of variational distributions...
Calculating ELB..
ELB=-389.987
ELB improved by 0.0384486
iteration 60
Updating parameters of variational distributions...
Calculating ELB..
ELB=-389.951
ELB improved by 0.0358191
iteration 61
Updating parameters of variational distributions...
Calculating ELB..
ELB=-389.916
ELB improved by 0.0353809
iteration 62
Updating parameters of variational distributions...
Calculating ELB..
ELB=-389.879
ELB improved by 0.0370514
iteration 63
Updating parameters of variational distributions...
Calculating ELB..
ELB=-389.838
ELB improved by 0.0408701
iteration 64
Updating parameters of variational distributions...
Calculating ELB..
ELB=-389.791
ELB improved by 0.0468518
iteration 65
Updating parameters of variational distributions...
Calculating ELB..
ELB=-389.737
ELB improved by 0.0545442
iteration 66
Updating parameters of variational distributions...
Calculating ELB..
ELB=-389.674
ELB improved by 0.062412
iteration 67
Updating parameters of variational distributions...
Calculating ELB..
ELB=-389.606
ELB improved by 0.0677458
iteration 68
Updating parameters of variational distributions...
Calculating ELB..
ELB=-389.538
ELB improved by 0.068017
iteration 69
Updating parameters of variational distributions...
Calculating ELB..
ELB=-389.475
ELB improved by 0.0629186
iteration 70
Updating parameters of variational distributions...
Calculating ELB..
ELB=-389.421
ELB improved by 0.0546106
iteration 71
Updating parameters of variational distributions...
Calculating ELB..
ELB=-389.375
ELB improved by 0.0458453
iteration 72
Updating parameters of variational distributions...
Calculating ELB..
ELB=-389.337
ELB improved by 0.0383316
iteration 73
Updating parameters of variational distributions...
Calculating ELB..
ELB=-389.304
ELB improved by 0.032533
iteration 74
Updating parameters of variational distributions...
Calculating ELB..
ELB=-389.276
ELB improved by 0.0282167
iteration 75
Updating parameters of variational distributions...
Calculating ELB..
ELB=-389.251
ELB improved by 0.0249585
iteration 76
Updating parameters of variational distributions...
Calculating ELB..
ELB=-389.229
ELB improved by 0.0223882
iteration 77
Updating parameters of variational distributions...
Calculating ELB..
ELB=-389.208
ELB improved by 0.0202532
iteration 78
Updating parameters of variational distributions...
Calculating ELB..
ELB=-389.19
ELB improved by 0.0184069
iteration 79
Updating parameters of variational distributions...
Calculating ELB..
ELB=-389.173
ELB improved by 0.0167739
iteration 80
Updating parameters of variational distributions...
Calculating ELB..
ELB=-389.158
ELB improved by 0.0153174
iteration 81
Updating parameters of variational distributions...
Calculating ELB..
ELB=-389.144
ELB improved by 0.0140145
iteration 82
Updating parameters of variational distributions...
Calculating ELB..
ELB=-389.131
ELB improved by 0.0128431
iteration 83
Updating parameters of variational distributions...
Calculating ELB..
ELB=-389.119
ELB improved by 0.0117787
iteration 84
Updating parameters of variational distributions...
Calculating ELB..
ELB=-389.108
ELB improved by 0.0107965
iteration 85
Updating parameters of variational distributions...
Calculating ELB..
ELB=-389.099
ELB improved by 0.00987648
ELB converged
[ FAIL 0 | WARN 0 | SKIP 0 | PASS 24 ]
>
> proc.time()
user system elapsed
2.48 0.34 2.79
graper.Rcheck/graper-Ex.timings
| name | user | system | elapsed | |
| coef.graper | 0.05 | 0.01 | 0.06 | |
| getPIPs | 0.06 | 0.00 | 0.06 | |
| graper | 0.08 | 0.02 | 0.10 | |
| makeExampleData | 0.01 | 0.00 | 0.01 | |
| makeExampleDataWithUnequalGroups | 0.02 | 0.00 | 0.02 | |
| plotELBO | 0.25 | 0.01 | 0.26 | |
| plotGroupPenalties | 1.33 | 0.05 | 1.38 | |
| plotPosterior | 0.65 | 0.03 | 0.69 | |
| predict.graper | 1.88 | 0.02 | 1.89 | |
| print.graper | 0.06 | 0.01 | 0.07 | |