| Back to Multiple platform build/check report for BioC 3.18: simplified long |
|
This page was generated on 2024-04-17 11:35:59 -0400 (Wed, 17 Apr 2024).
| Hostname | OS | Arch (*) | R version | Installed pkgs |
|---|---|---|---|---|
| nebbiolo2 | Linux (Ubuntu 22.04.3 LTS) | x86_64 | 4.3.3 (2024-02-29) -- "Angel Food Cake" | 4676 |
| palomino4 | Windows Server 2022 Datacenter | x64 | 4.3.3 (2024-02-29 ucrt) -- "Angel Food Cake" | 4414 |
| merida1 | macOS 12.7.1 Monterey | x86_64 | 4.3.3 (2024-02-29) -- "Angel Food Cake" | 4437 |
| Click on any hostname to see more info about the system (e.g. compilers) (*) as reported by 'uname -p', except on Windows and Mac OS X | ||||
| Package 813/2266 | Hostname | OS / Arch | INSTALL | BUILD | CHECK | BUILD BIN | ||||||||
| genoCN 1.54.0 (landing page) Wei Sun
| nebbiolo2 | Linux (Ubuntu 22.04.3 LTS) / x86_64 | OK | OK | WARNINGS | |||||||||
| palomino4 | Windows Server 2022 Datacenter / x64 | OK | OK | OK | OK | |||||||||
| merida1 | macOS 12.7.1 Monterey / x86_64 | OK | OK | OK | OK | |||||||||
| kjohnson1 | macOS 13.6.1 Ventura / arm64 | see weekly results here | ||||||||||||
|
To the developers/maintainers of the genoCN package: - Allow up to 24 hours (and sometimes 48 hours) for your latest push to git@git.bioconductor.org:packages/genoCN.git to reflect on this report. See Troubleshooting Build Report for more information. - Use the following Renviron settings to reproduce errors and warnings. - If 'R CMD check' started to fail recently on the Linux builder(s) over a missing dependency, add the missing dependency to 'Suggests:' in your DESCRIPTION file. See Renviron.bioc for more information. |
| Package: genoCN |
| Version: 1.54.0 |
| Command: /home/biocbuild/bbs-3.18-bioc/R/bin/R CMD INSTALL genoCN |
| StartedAt: 2024-04-15 15:15:43 -0400 (Mon, 15 Apr 2024) |
| EndedAt: 2024-04-15 15:15:49 -0400 (Mon, 15 Apr 2024) |
| EllapsedTime: 6.4 seconds |
| RetCode: 0 |
| Status: OK |
##############################################################################
##############################################################################
###
### Running command:
###
### /home/biocbuild/bbs-3.18-bioc/R/bin/R CMD INSTALL genoCN
###
##############################################################################
##############################################################################
* installing to library ‘/home/biocbuild/bbs-3.18-bioc/R/site-library’
* installing *source* package ‘genoCN’ ...
** using staged installation
** libs
using C compiler: ‘gcc (Ubuntu 11.4.0-1ubuntu1~22.04) 11.4.0’
gcc -I"/home/biocbuild/bbs-3.18-bioc/R/include" -DNDEBUG -I/usr/local/include -fpic -g -O2 -Wall -c tnorm_mle.c -o tnorm_mle.o
gcc -I"/home/biocbuild/bbs-3.18-bioc/R/include" -DNDEBUG -I/usr/local/include -fpic -g -O2 -Wall -c utility.c -o utility.o
utility.c: In function ‘readfile’:
utility.c:155:13: warning: ignoring return value of ‘fscanf’ declared with attribute ‘warn_unused_result’ [-Wunused-result]
155 | fscanf(file,"%s",temp);
| ^~~~~~~~~~~~~~~~~~~~~~
gcc -I"/home/biocbuild/bbs-3.18-bioc/R/include" -DNDEBUG -I/usr/local/include -fpic -g -O2 -Wall -c xCNV.c -o xCNV.o
xCNV.c: In function ‘emiss’:
xCNV.c:317:25: warning: unused variable ‘k’ [-Wunused-variable]
317 | int L, N, M, K, i, z, k, nGtp, contam=*contamR, CNA=*CNAR;
| ^
xCNV.c:317:16: warning: unused variable ‘K’ [-Wunused-variable]
317 | int L, N, M, K, i, z, k, nGtp, contam=*contamR, CNA=*CNAR;
| ^
xCNV.c: In function ‘baum_welch’:
xCNV.c:787:20: warning: unused variable ‘sd_b_tmp’ [-Wunused-variable]
787 | double mu_b_tmp, sd_b_tmp;
| ^~~~~~~~
xCNV.c:787:10: warning: unused variable ‘mu_b_tmp’ [-Wunused-variable]
787 | double mu_b_tmp, sd_b_tmp;
| ^~~~~~~~
xCNV.c:762:10: warning: variable ‘LL’ set but not used [-Wunused-but-set-variable]
762 | int L, LL, N, NN, M, MM, S, LS, CNA = *RCNA,
| ^~
xCNV.c:1839:17: warning: ‘pbf’ may be used uninitialized in this function [-Wmaybe-uninitialized]
1839 | weights(ws, pbf, z, CNA, contam, nGtp, *geno_error);
| ^~~~~~~~~~~~~~~~~~~~~~~~~~~~~~~~~~~~~~~~~~~~~~~~~~~
xCNV.c:1839:17: warning: ‘nGtp’ may be used uninitialized in this function [-Wmaybe-uninitialized]
gcc -shared -L/home/biocbuild/bbs-3.18-bioc/R/lib -L/usr/local/lib -o genoCN.so tnorm_mle.o utility.o xCNV.o -L/home/biocbuild/bbs-3.18-bioc/R/lib -lR
installing to /home/biocbuild/bbs-3.18-bioc/R/site-library/00LOCK-genoCN/00new/genoCN/libs
** R
** data
** inst
** byte-compile and prepare package for lazy loading
** help
*** installing help indices
** building package indices
** installing vignettes
** testing if installed package can be loaded from temporary location
** checking absolute paths in shared objects and dynamic libraries
** testing if installed package can be loaded from final location
** testing if installed package keeps a record of temporary installation path
* DONE (genoCN)