| Back to Multiple platform build/check report for BioC 3.18: simplified long |
|
This page was generated on 2024-01-17 11:36:39 -0500 (Wed, 17 Jan 2024).
| Hostname | OS | Arch (*) | R version | Installed pkgs |
|---|---|---|---|---|
| nebbiolo2 | Linux (Ubuntu 22.04.2 LTS) | x86_64 | 4.3.2 Patched (2023-11-13 r85521) -- "Eye Holes" | 4690 |
| palomino4 | Windows Server 2022 Datacenter | x64 | 4.3.2 (2023-10-31 ucrt) -- "Eye Holes" | 4443 |
| lconway | macOS 12.7.1 Monterey | x86_64 | 4.3.2 Patched (2023-11-01 r85457) -- "Eye Holes" | 4462 |
| Click on any hostname to see more info about the system (e.g. compilers) (*) as reported by 'uname -p', except on Windows and Mac OS X | ||||
| Package 786/2266 | Hostname | OS / Arch | INSTALL | BUILD | CHECK | BUILD BIN | ||||||||
| gemma.R 2.0.0 (landing page) Ogan Mancarci
| nebbiolo2 | Linux (Ubuntu 22.04.2 LTS) / x86_64 | OK | OK | OK | |||||||||
| palomino4 | Windows Server 2022 Datacenter / x64 | OK | OK | OK | OK | |||||||||
| lconway | macOS 12.7.1 Monterey / x86_64 | OK | OK | OK | OK | |||||||||
| kjohnson1 | macOS 13.6.1 Ventura / arm64 | see weekly results here | ||||||||||||
|
To the developers/maintainers of the gemma.R package: - Allow up to 24 hours (and sometimes 48 hours) for your latest push to git@git.bioconductor.org:packages/gemma.R.git to reflect on this report. See Troubleshooting Build Report for more information. - Use the following Renviron settings to reproduce errors and warnings. - If 'R CMD check' started to fail recently on the Linux builder(s) over a missing dependency, add the missing dependency to 'Suggests:' in your DESCRIPTION file. See Renviron.bioc for more information. |
| Package: gemma.R |
| Version: 2.0.0 |
| Command: F:\biocbuild\bbs-3.18-bioc\R\bin\R.exe CMD check --no-multiarch --install=check:gemma.R.install-out.txt --library=F:\biocbuild\bbs-3.18-bioc\R\library --no-vignettes --timings gemma.R_2.0.0.tar.gz |
| StartedAt: 2024-01-17 02:17:35 -0500 (Wed, 17 Jan 2024) |
| EndedAt: 2024-01-17 02:20:32 -0500 (Wed, 17 Jan 2024) |
| EllapsedTime: 177.8 seconds |
| RetCode: 0 |
| Status: OK |
| CheckDir: gemma.R.Rcheck |
| Warnings: 0 |
##############################################################################
##############################################################################
###
### Running command:
###
### F:\biocbuild\bbs-3.18-bioc\R\bin\R.exe CMD check --no-multiarch --install=check:gemma.R.install-out.txt --library=F:\biocbuild\bbs-3.18-bioc\R\library --no-vignettes --timings gemma.R_2.0.0.tar.gz
###
##############################################################################
##############################################################################
* using log directory 'F:/biocbuild/bbs-3.18-bioc/meat/gemma.R.Rcheck'
* using R version 4.3.2 (2023-10-31 ucrt)
* using platform: x86_64-w64-mingw32 (64-bit)
* R was compiled by
gcc.exe (GCC) 12.3.0
GNU Fortran (GCC) 12.3.0
* running under: Windows Server 2022 x64 (build 20348)
* using session charset: UTF-8
* using option '--no-vignettes'
* checking for file 'gemma.R/DESCRIPTION' ... OK
* this is package 'gemma.R' version '2.0.0'
* package encoding: UTF-8
* checking package namespace information ... OK
* checking package dependencies ... OK
* checking if this is a source package ... OK
* checking if there is a namespace ... OK
* checking for hidden files and directories ... OK
* checking for portable file names ... OK
* checking whether package 'gemma.R' can be installed ... OK
* checking installed package size ... OK
* checking package directory ... OK
* checking 'build' directory ... OK
* checking DESCRIPTION meta-information ... NOTE
Package listed in more than one of Depends, Imports, Suggests, Enhances:
'digest'
A package should be listed in only one of these fields.
* checking top-level files ... OK
* checking for left-over files ... OK
* checking index information ... OK
* checking package subdirectories ... OK
* checking R files for non-ASCII characters ... OK
* checking R files for syntax errors ... OK
* checking whether the package can be loaded ... OK
* checking whether the package can be loaded with stated dependencies ... OK
* checking whether the package can be unloaded cleanly ... OK
* checking whether the namespace can be loaded with stated dependencies ... OK
* checking whether the namespace can be unloaded cleanly ... OK
* checking dependencies in R code ... OK
* checking S3 generic/method consistency ... OK
* checking replacement functions ... OK
* checking foreign function calls ... OK
* checking R code for possible problems ... OK
* checking Rd files ... OK
* checking Rd metadata ... OK
* checking Rd cross-references ... OK
* checking for missing documentation entries ... OK
* checking for code/documentation mismatches ... OK
* checking Rd \usage sections ... OK
* checking Rd contents ... OK
* checking for unstated dependencies in examples ... OK
* checking files in 'vignettes' ... OK
* checking examples ... OK
Examples with CPU (user + system) or elapsed time > 5s
user system elapsed
get_dataset_object 7.03 0.41 11.33
get_dataset_processed_expression 1.03 0.05 5.49
get_dataset_differential_expression_analyses 0.69 0.06 7.25
get_dataset_expression 0.42 0.08 6.27
get_datasets 0.20 0.00 7.22
* checking for unstated dependencies in 'tests' ... OK
* checking tests ...
Running 'testthat.R'
OK
* checking for unstated dependencies in vignettes ... OK
* checking package vignettes in 'inst/doc' ... OK
* checking running R code from vignettes ... SKIPPED
* checking re-building of vignette outputs ... SKIPPED
* checking PDF version of manual ... OK
* DONE
Status: 1 NOTE
See
'F:/biocbuild/bbs-3.18-bioc/meat/gemma.R.Rcheck/00check.log'
for details.
gemma.R.Rcheck/00install.out
############################################################################## ############################################################################## ### ### Running command: ### ### F:\biocbuild\bbs-3.18-bioc\R\bin\R.exe CMD INSTALL gemma.R ### ############################################################################## ############################################################################## * installing to library 'F:/biocbuild/bbs-3.18-bioc/R/library' * installing *source* package 'gemma.R' ... ** using staged installation ** R ** inst ** byte-compile and prepare package for lazy loading ** help *** installing help indices *** copying figures ** building package indices ** installing vignettes ** testing if installed package can be loaded from temporary location ** testing if installed package can be loaded from final location ** testing if installed package keeps a record of temporary installation path * DONE (gemma.R)
gemma.R.Rcheck/tests/testthat.Rout
R version 4.3.2 (2023-10-31 ucrt) -- "Eye Holes"
Copyright (C) 2023 The R Foundation for Statistical Computing
Platform: x86_64-w64-mingw32/x64 (64-bit)
R is free software and comes with ABSOLUTELY NO WARRANTY.
You are welcome to redistribute it under certain conditions.
Type 'license()' or 'licence()' for distribution details.
R is a collaborative project with many contributors.
Type 'contributors()' for more information and
'citation()' on how to cite R or R packages in publications.
Type 'demo()' for some demos, 'help()' for on-line help, or
'help.start()' for an HTML browser interface to help.
Type 'q()' to quit R.
> library(testthat)
> library(dplyr)
Attaching package: 'dplyr'
The following object is masked from 'package:testthat':
matches
The following objects are masked from 'package:stats':
filter, lag
The following objects are masked from 'package:base':
intersect, setdiff, setequal, union
>
> # Prevent certificate issues for GitHub actions
> options(gemma.SSL = FALSE)
> # get gemma api path if it's set in the environment
> options(gemma.API = Sys.getenv('API_PATH','https://gemma.msl.ubc.ca/rest/v2/'))
> print(gemma.R:::gemmaPath())
[1] "https://gemma.msl.ubc.ca/rest/v2/"
> test_check("gemma.R")
Loading required package: gemma.R
[ FAIL 0 | WARN 0 | SKIP 4 | PASS 111 ]
══ Skipped tests (4) ═══════════════════════════════════════════════════════════
• On Bioconductor (4): 'testCaches.R:37:3', 'testConvenience.R:14:5',
'testConvenience.R:36:5', 'testDatasetEndpoints.R:84:5'
[ FAIL 0 | WARN 0 | SKIP 4 | PASS 111 ]
>
>
>
> proc.time()
user system elapsed
23.35 1.12 80.01
gemma.R.Rcheck/gemma.R-Ex.timings
| name | user | system | elapsed | |
| filter_properties | 0.06 | 0.00 | 0.06 | |
| forget_gemma_memoised | 0.02 | 0.02 | 0.05 | |
| gemma_call | 0.18 | 0.01 | 0.97 | |
| get_dataset_annotations | 0.06 | 0.02 | 0.15 | |
| get_dataset_design | 0.28 | 0.03 | 0.44 | |
| get_dataset_differential_expression_analyses | 0.69 | 0.06 | 7.25 | |
| get_dataset_expression | 0.42 | 0.08 | 6.27 | |
| get_dataset_expression_for_genes | 0.05 | 0.00 | 0.12 | |
| get_dataset_object | 7.03 | 0.41 | 11.33 | |
| get_dataset_platforms | 0.0 | 0.0 | 0.3 | |
| get_dataset_processed_expression | 1.03 | 0.05 | 5.49 | |
| get_dataset_quantitation_types | 0.02 | 0.00 | 0.22 | |
| get_dataset_raw_expression | 0.83 | 0.06 | 4.29 | |
| get_dataset_samples | 0.06 | 0.02 | 0.17 | |
| get_datasets | 0.20 | 0.00 | 7.22 | |
| get_datasets_by_ids | 0.08 | 0.00 | 0.21 | |
| get_differential_expression_values | 0.00 | 0.00 | 0.07 | |
| get_gene_go_terms | 0.05 | 0.00 | 0.19 | |
| get_gene_locations | 0.00 | 0.00 | 0.13 | |
| get_gene_probes | 0.04 | 0.00 | 0.14 | |
| get_genes | 0.00 | 0.00 | 0.15 | |
| get_platform_annotations | 0.88 | 0.04 | 1.46 | |
| get_platform_datasets | 0.05 | 0.00 | 0.22 | |
| get_platform_element_genes | 0.01 | 0.02 | 0.09 | |
| get_platforms_by_ids | 0.02 | 0.01 | 0.19 | |
| get_taxa | 0.01 | 0.00 | 0.07 | |
| get_taxa_by_ids | 0.00 | 0.00 | 0.08 | |
| get_taxon_datasets | 0.07 | 0.00 | 0.32 | |
| make_design | 0.40 | 0.04 | 0.65 | |
| search_annotations | 0.02 | 0.00 | 4.13 | |
| search_datasets | 0.03 | 0.03 | 1.40 | |
| search_gemma | 0.05 | 0.00 | 0.33 | |