| Back to Multiple platform build/check report for BioC 3.18: simplified long |
|
This page was generated on 2024-03-04 11:37:22 -0500 (Mon, 04 Mar 2024).
| Hostname | OS | Arch (*) | R version | Installed pkgs |
|---|---|---|---|---|
| nebbiolo2 | Linux (Ubuntu 22.04.3 LTS) | x86_64 | 4.3.2 Patched (2023-11-13 r85521) -- "Eye Holes" | 4692 |
| palomino4 | Windows Server 2022 Datacenter | x64 | 4.3.2 (2023-10-31 ucrt) -- "Eye Holes" | 4445 |
| lconway | macOS 12.7.1 Monterey | x86_64 | 4.3.2 Patched (2023-11-01 r85457) -- "Eye Holes" | 4466 |
| Click on any hostname to see more info about the system (e.g. compilers) (*) as reported by 'uname -p', except on Windows and Mac OS X | ||||
| Package 779/2266 | Hostname | OS / Arch | INSTALL | BUILD | CHECK | BUILD BIN | ||||||||
| gDRimport 1.0.0 (landing page) Arkadiusz Gladki
| nebbiolo2 | Linux (Ubuntu 22.04.3 LTS) / x86_64 | OK | OK | OK | |||||||||
| palomino4 | Windows Server 2022 Datacenter / x64 | OK | OK | OK | OK | |||||||||
| lconway | macOS 12.7.1 Monterey / x86_64 | OK | OK | OK | OK | |||||||||
| kjohnson1 | macOS 13.6.1 Ventura / arm64 | see weekly results here | ||||||||||||
|
To the developers/maintainers of the gDRimport package: - Allow up to 24 hours (and sometimes 48 hours) for your latest push to git@git.bioconductor.org:packages/gDRimport.git to reflect on this report. See Troubleshooting Build Report for more information. - Use the following Renviron settings to reproduce errors and warnings. - If 'R CMD check' started to fail recently on the Linux builder(s) over a missing dependency, add the missing dependency to 'Suggests:' in your DESCRIPTION file. See Renviron.bioc for more information. |
| Package: gDRimport |
| Version: 1.0.0 |
| Command: /Library/Frameworks/R.framework/Resources/bin/R CMD check --install=check:gDRimport.install-out.txt --library=/Library/Frameworks/R.framework/Resources/library --no-vignettes --timings gDRimport_1.0.0.tar.gz |
| StartedAt: 2024-03-03 20:43:57 -0500 (Sun, 03 Mar 2024) |
| EndedAt: 2024-03-03 20:47:25 -0500 (Sun, 03 Mar 2024) |
| EllapsedTime: 208.7 seconds |
| RetCode: 0 |
| Status: OK |
| CheckDir: gDRimport.Rcheck |
| Warnings: 0 |
##############################################################################
##############################################################################
###
### Running command:
###
### /Library/Frameworks/R.framework/Resources/bin/R CMD check --install=check:gDRimport.install-out.txt --library=/Library/Frameworks/R.framework/Resources/library --no-vignettes --timings gDRimport_1.0.0.tar.gz
###
##############################################################################
##############################################################################
* using log directory ‘/Users/biocbuild/bbs-3.18-bioc/meat/gDRimport.Rcheck’
* using R version 4.3.2 Patched (2023-11-01 r85457)
* using platform: x86_64-apple-darwin20 (64-bit)
* R was compiled by
Apple clang version 14.0.3 (clang-1403.0.22.14.1)
GNU Fortran (GCC) 12.2.0
* running under: macOS Monterey 12.7.1
* using session charset: UTF-8
* using option ‘--no-vignettes’
* checking for file ‘gDRimport/DESCRIPTION’ ... OK
* checking extension type ... Package
* this is package ‘gDRimport’ version ‘1.0.0’
* package encoding: UTF-8
* checking package namespace information ... OK
* checking package dependencies ... OK
* checking if this is a source package ... OK
* checking if there is a namespace ... OK
* checking for hidden files and directories ... OK
* checking for portable file names ... OK
* checking for sufficient/correct file permissions ... OK
* checking whether package ‘gDRimport’ can be installed ... OK
* checking installed package size ... OK
* checking package directory ... OK
* checking ‘build’ directory ... OK
* checking DESCRIPTION meta-information ... OK
* checking top-level files ... OK
* checking for left-over files ... OK
* checking index information ... OK
* checking package subdirectories ... OK
* checking R files for non-ASCII characters ... OK
* checking R files for syntax errors ... OK
* checking whether the package can be loaded ... OK
* checking whether the package can be loaded with stated dependencies ... OK
* checking whether the package can be unloaded cleanly ... OK
* checking whether the namespace can be loaded with stated dependencies ... OK
* checking whether the namespace can be unloaded cleanly ... OK
* checking dependencies in R code ... OK
* checking S3 generic/method consistency ... OK
* checking replacement functions ... OK
* checking foreign function calls ... OK
* checking R code for possible problems ... OK
* checking Rd files ... OK
* checking Rd metadata ... OK
* checking Rd cross-references ... OK
* checking for missing documentation entries ... OK
* checking for code/documentation mismatches ... OK
* checking Rd \usage sections ... OK
* checking Rd contents ... OK
* checking for unstated dependencies in examples ... OK
* checking files in ‘vignettes’ ... OK
* checking examples ... OK
Examples with CPU (user + system) or elapsed time > 5s
user system elapsed
convert_MAE_to_PSet 5.041 0.327 5.413
* checking for unstated dependencies in ‘tests’ ... OK
* checking tests ...
Running ‘testthat.R’
OK
* checking for unstated dependencies in vignettes ... OK
* checking package vignettes in ‘inst/doc’ ... OK
* checking running R code from vignettes ... SKIPPED
* checking re-building of vignette outputs ... SKIPPED
* checking PDF version of manual ... OK
* DONE
Status: OK
gDRimport.Rcheck/00install.out
############################################################################## ############################################################################## ### ### Running command: ### ### /Library/Frameworks/R.framework/Resources/bin/R CMD INSTALL gDRimport ### ############################################################################## ############################################################################## * installing to library ‘/Library/Frameworks/R.framework/Versions/4.3-x86_64/Resources/library’ * installing *source* package ‘gDRimport’ ... ** using staged installation ** R ** inst ** byte-compile and prepare package for lazy loading ** help *** installing help indices ** building package indices ** installing vignettes ** testing if installed package can be loaded from temporary location ** testing if installed package can be loaded from final location ** testing if installed package keeps a record of temporary installation path * DONE (gDRimport)
gDRimport.Rcheck/tests/testthat.Rout
R version 4.3.2 Patched (2023-11-01 r85457) -- "Eye Holes"
Copyright (C) 2023 The R Foundation for Statistical Computing
Platform: x86_64-apple-darwin20 (64-bit)
R is free software and comes with ABSOLUTELY NO WARRANTY.
You are welcome to redistribute it under certain conditions.
Type 'license()' or 'licence()' for distribution details.
R is a collaborative project with many contributors.
Type 'contributors()' for more information and
'citation()' on how to cite R or R packages in publications.
Type 'demo()' for some demos, 'help()' for on-line help, or
'help.start()' for an HTML browser interface to help.
Type 'q()' to quit R.
> library(testthat)
> library(gDRimport)
>
> test_check("gDRimport")
INFO [2024-03-03 20:46:59] Manifest loaded successfully
INFO [2024-03-03 20:46:59] Manifest loaded successfully
INFO [2024-03-03 20:46:59] Reading file /Library/Frameworks/R.framework/Versions/4.3-x86_64/Resources/library/gDRimport/extdata/data1/RawData_day0.xlsx, sheet Readout_0077vs0068_day7
INFO [2024-03-03 20:47:00] Plate 201904190a read; 384 wells
INFO [2024-03-03 20:47:00] Plate 201904190b read; 384 wells
INFO [2024-03-03 20:47:00] Plate 201904190c read; 384 wells
INFO [2024-03-03 20:47:00] Plate 201904190d read; 384 wells
INFO [2024-03-03 20:47:00] Plate 201904190e read; 384 wells
INFO [2024-03-03 20:47:00] Plate 201904190f read; 384 wells
INFO [2024-03-03 20:47:00] File done
INFO [2024-03-03 20:47:00] Reading file /Library/Frameworks/R.framework/Versions/4.3-x86_64/Resources/library/gDRimport/extdata/data1/RawData_day7.xlsx, sheet Readout_0077vs0068_day7
INFO [2024-03-03 20:47:00] Plate 201904197a read; 384 wells
INFO [2024-03-03 20:47:00] Plate 201904197b read; 384 wells
INFO [2024-03-03 20:47:00] Plate 201904197c read; 384 wells
INFO [2024-03-03 20:47:00] Plate 201904197d read; 384 wells
INFO [2024-03-03 20:47:00] Plate 201904197e read; 384 wells
INFO [2024-03-03 20:47:00] Plate 201904197f read; 384 wells
INFO [2024-03-03 20:47:00] File done
INFO [2024-03-03 20:47:00] Reading file /Library/Frameworks/R.framework/Versions/4.3-x86_64/Resources/library/gDRimport/extdata/data1/RawData_day0.xlsx, sheet Readout_0077vs0068_day7
INFO [2024-03-03 20:47:01] Plate 201904190a read; 384 wells
INFO [2024-03-03 20:47:01] Plate 201904190b read; 384 wells
INFO [2024-03-03 20:47:01] Plate 201904190c read; 384 wells
INFO [2024-03-03 20:47:01] Plate 201904190d read; 384 wells
INFO [2024-03-03 20:47:01] Plate 201904190e read; 384 wells
INFO [2024-03-03 20:47:01] Plate 201904190f read; 384 wells
INFO [2024-03-03 20:47:01] File done
INFO [2024-03-03 20:47:01] Reading file /Library/Frameworks/R.framework/Versions/4.3-x86_64/Resources/library/gDRimport/extdata/data1/RawData_day7.xlsx, sheet Readout_0077vs0068_day7
INFO [2024-03-03 20:47:01] Plate 201904197a read; 384 wells
INFO [2024-03-03 20:47:01] Plate 201904197b read; 384 wells
INFO [2024-03-03 20:47:01] Plate 201904197c read; 384 wells
INFO [2024-03-03 20:47:01] Plate 201904197d read; 384 wells
INFO [2024-03-03 20:47:01] Plate 201904197e read; 384 wells
INFO [2024-03-03 20:47:01] Plate 201904197f read; 384 wells
INFO [2024-03-03 20:47:01] File done
INFO [2024-03-03 20:47:01] Reading file /Library/Frameworks/R.framework/Versions/4.3-x86_64/Resources/library/gDRimport/extdata/data1/RawData_day0.xlsx, sheet Readout_0077vs0068_day7
INFO [2024-03-03 20:47:02] Plate 201904190a read; 384 wells
INFO [2024-03-03 20:47:02] Plate 201904190b read; 384 wells
INFO [2024-03-03 20:47:02] Plate 201904190c read; 384 wells
INFO [2024-03-03 20:47:02] Plate 201904190d read; 384 wells
INFO [2024-03-03 20:47:02] Plate 201904190e read; 384 wells
INFO [2024-03-03 20:47:02] Plate 201904190f read; 384 wells
INFO [2024-03-03 20:47:02] File done
INFO [2024-03-03 20:47:02] Reading file /Library/Frameworks/R.framework/Versions/4.3-x86_64/Resources/library/gDRimport/extdata/data2/RawData_Tecan_96_well_plates.xlsx, sheet H2122-2
INFO [2024-03-03 20:47:02] Reading file /Library/Frameworks/R.framework/Versions/4.3-x86_64/Resources/library/gDRimport/extdata/data2/RawData_Tecan_96_well_plates.xlsx, sheet H358-2
INFO [2024-03-03 20:47:02] Reading file /Library/Frameworks/R.framework/Versions/4.3-x86_64/Resources/library/gDRimport/extdata/data2/RawData_Tecan_96_well_plates.xlsx, sheet H358-1
INFO [2024-03-03 20:47:03] Reading file /Library/Frameworks/R.framework/Versions/4.3-x86_64/Resources/library/gDRimport/extdata/data2/RawData_Tecan_96_well_plates.xlsx, sheet H2122-1
INFO [2024-03-03 20:47:03] Reading Template_7daytreated.xlsx with load_templates_xlsx
INFO [2024-03-03 20:47:03] Loading Template_7daytreated.xlsx
INFO [2024-03-03 20:47:03] Loading Template_Untreated.xlsx
INFO [2024-03-03 20:47:03] Templates loaded successfully!
INFO [2024-03-03 20:47:03] Reading Template_7daytreated.xlsx with load_templates_xlsx
INFO [2024-03-03 20:47:03] Loading Template_7daytreated.xlsx
INFO [2024-03-03 20:47:04] Loading Template_Untreated.xlsx
INFO [2024-03-03 20:47:04] Templates loaded successfully!
INFO [2024-03-03 20:47:04] Reading D300_trt_Tecan_96_well_plates.xlsx with load_templates_xlsx
INFO [2024-03-03 20:47:04] Loading D300_trt_Tecan_96_well_plates.xlsx
INFO [2024-03-03 20:47:04] Templates loaded successfully!
INFO [2024-03-03 20:47:04] Reading Template_7daytreated.xlsx with load_templates_xlsx
INFO [2024-03-03 20:47:04] Loading Template_7daytreated.xlsx
INFO [2024-03-03 20:47:04] Templates loaded successfully!
INFO [2024-03-03 20:47:04] Manifest loaded successfully
INFO [2024-03-03 20:47:04] Reading Template_7daytreated.xlsx with load_templates_xlsx
INFO [2024-03-03 20:47:04] Loading Template_7daytreated.xlsx
INFO [2024-03-03 20:47:04] Loading Template_Untreated.xlsx
INFO [2024-03-03 20:47:04] Templates loaded successfully!
INFO [2024-03-03 20:47:04] Reading file /Library/Frameworks/R.framework/Versions/4.3-x86_64/Resources/library/gDRimport/extdata/data1/RawData_day0.xlsx, sheet Readout_0077vs0068_day7
INFO [2024-03-03 20:47:05] Plate 201904190a read; 384 wells
INFO [2024-03-03 20:47:05] Plate 201904190b read; 384 wells
INFO [2024-03-03 20:47:05] Plate 201904190c read; 384 wells
INFO [2024-03-03 20:47:05] Plate 201904190d read; 384 wells
INFO [2024-03-03 20:47:05] Plate 201904190e read; 384 wells
INFO [2024-03-03 20:47:05] Plate 201904190f read; 384 wells
INFO [2024-03-03 20:47:05] File done
INFO [2024-03-03 20:47:05] Reading file /Library/Frameworks/R.framework/Versions/4.3-x86_64/Resources/library/gDRimport/extdata/data1/RawData_day7.xlsx, sheet Readout_0077vs0068_day7
INFO [2024-03-03 20:47:05] Plate 201904197a read; 384 wells
INFO [2024-03-03 20:47:05] Plate 201904197b read; 384 wells
INFO [2024-03-03 20:47:05] Plate 201904197c read; 384 wells
INFO [2024-03-03 20:47:05] Plate 201904197d read; 384 wells
INFO [2024-03-03 20:47:05] Plate 201904197e read; 384 wells
INFO [2024-03-03 20:47:05] Plate 201904197f read; 384 wells
INFO [2024-03-03 20:47:05] File done
INFO [2024-03-03 20:47:05] Manifest loaded successfully
INFO [2024-03-03 20:47:05] Reading D300_trt_Tecan_96_well_plates.xlsx with load_templates_xlsx
INFO [2024-03-03 20:47:05] Loading D300_trt_Tecan_96_well_plates.xlsx
INFO [2024-03-03 20:47:05] Templates loaded successfully!
INFO [2024-03-03 20:47:05] Reading file /Library/Frameworks/R.framework/Versions/4.3-x86_64/Resources/library/gDRimport/extdata/data2/RawData_Tecan_96_well_plates.xlsx, sheet H2122-2
INFO [2024-03-03 20:47:06] Reading file /Library/Frameworks/R.framework/Versions/4.3-x86_64/Resources/library/gDRimport/extdata/data2/RawData_Tecan_96_well_plates.xlsx, sheet H358-2
INFO [2024-03-03 20:47:06] Reading file /Library/Frameworks/R.framework/Versions/4.3-x86_64/Resources/library/gDRimport/extdata/data2/RawData_Tecan_96_well_plates.xlsx, sheet H358-1
INFO [2024-03-03 20:47:06] Reading file /Library/Frameworks/R.framework/Versions/4.3-x86_64/Resources/library/gDRimport/extdata/data2/RawData_Tecan_96_well_plates.xlsx, sheet H2122-1
INFO [2024-03-03 20:47:06] Manifest loaded successfully
INFO [2024-03-03 20:47:06] Reading Project40.treated.template.xlsx with load_templates_xlsx
INFO [2024-03-03 20:47:06] Loading Project40.treated.template.xlsx
INFO [2024-03-03 20:47:06] Loading Project40.untreated.template.xlsx
INFO [2024-03-03 20:47:07] Templates loaded successfully!
INFO [2024-03-03 20:47:07] Reading file /Library/Frameworks/R.framework/Versions/4.3-x86_64/Resources/library/gDRimport/extdata/data4/H0109269D00.csv, sheet 0
INFO [2024-03-03 20:47:07] Plate H0109269D00 read; 384 wells
INFO [2024-03-03 20:47:07] File done
INFO [2024-03-03 20:47:07] Reading file /Library/Frameworks/R.framework/Versions/4.3-x86_64/Resources/library/gDRimport/extdata/data4/H0109269D01.csv, sheet 0
INFO [2024-03-03 20:47:07] Plate H0109269D01 read; 384 wells
INFO [2024-03-03 20:47:07] File done
INFO [2024-03-03 20:47:07] Reading file /Library/Frameworks/R.framework/Versions/4.3-x86_64/Resources/library/gDRimport/extdata/data4/H0309269D00.csv, sheet 0
INFO [2024-03-03 20:47:07] Plate H0309269D00 read; 384 wells
INFO [2024-03-03 20:47:07] File done
INFO [2024-03-03 20:47:07] Reading file /Library/Frameworks/R.framework/Versions/4.3-x86_64/Resources/library/gDRimport/extdata/data4/H0309269D01.csv, sheet 0
INFO [2024-03-03 20:47:07] Plate H0309269D01 read; 384 wells
INFO [2024-03-03 20:47:07] File done
INFO [2024-03-03 20:47:07] Reading file /Library/Frameworks/R.framework/Versions/4.3-x86_64/Resources/library/gDRimport/extdata/data4/H0409269D00.csv, sheet 0
INFO [2024-03-03 20:47:07] Plate H0409269D00 read; 384 wells
INFO [2024-03-03 20:47:07] File done
INFO [2024-03-03 20:47:07] Reading file /Library/Frameworks/R.framework/Versions/4.3-x86_64/Resources/library/gDRimport/extdata/data4/H0409269D01.csv, sheet 0
INFO [2024-03-03 20:47:07] Plate H0409269D01 read; 384 wells
INFO [2024-03-03 20:47:07] File done
INFO [2024-03-03 20:47:07] Reading file /Library/Frameworks/R.framework/Versions/4.3-x86_64/Resources/library/gDRimport/extdata/data4/H0509269D00.csv, sheet 0
INFO [2024-03-03 20:47:07] Plate H0509269D00 read; 384 wells
INFO [2024-03-03 20:47:07] File done
INFO [2024-03-03 20:47:07] Reading file /Library/Frameworks/R.framework/Versions/4.3-x86_64/Resources/library/gDRimport/extdata/data4/H0509269D01.csv, sheet 0
INFO [2024-03-03 20:47:07] Plate H0509269D01 read; 384 wells
INFO [2024-03-03 20:47:07] File done
INFO [2024-03-03 20:47:07] Reading file /Library/Frameworks/R.framework/Versions/4.3-x86_64/Resources/library/gDRimport/extdata/data4/H0609269D00.csv, sheet 0
INFO [2024-03-03 20:47:07] Plate H0609269D00 read; 384 wells
INFO [2024-03-03 20:47:07] File done
INFO [2024-03-03 20:47:07] Reading file /Library/Frameworks/R.framework/Versions/4.3-x86_64/Resources/library/gDRimport/extdata/data4/H0609269D01.csv, sheet 0
INFO [2024-03-03 20:47:07] Plate H0609269D01 read; 384 wells
INFO [2024-03-03 20:47:07] File done
INFO [2024-03-03 20:47:07] Reading file /Library/Frameworks/R.framework/Versions/4.3-x86_64/Resources/library/gDRimport/extdata/data4/H0709269D00.csv, sheet 0
INFO [2024-03-03 20:47:07] Plate H0709269D00 read; 384 wells
INFO [2024-03-03 20:47:07] File done
INFO [2024-03-03 20:47:07] Reading file /Library/Frameworks/R.framework/Versions/4.3-x86_64/Resources/library/gDRimport/extdata/data4/H0709269D01.csv, sheet 0
INFO [2024-03-03 20:47:07] Plate H0709269D01 read; 384 wells
INFO [2024-03-03 20:47:07] File done
INFO [2024-03-03 20:47:07] Reading file /Library/Frameworks/R.framework/Versions/4.3-x86_64/Resources/library/gDRimport/extdata/data4/H0809269D00.csv, sheet 0
INFO [2024-03-03 20:47:07] Plate H0809269D00 read; 384 wells
INFO [2024-03-03 20:47:07] File done
INFO [2024-03-03 20:47:07] Reading file /Library/Frameworks/R.framework/Versions/4.3-x86_64/Resources/library/gDRimport/extdata/data4/H0809269D01.csv, sheet 0
INFO [2024-03-03 20:47:07] Plate H0809269D01 read; 384 wells
INFO [2024-03-03 20:47:07] File done
INFO [2024-03-03 20:47:07] Reading file /Library/Frameworks/R.framework/Versions/4.3-x86_64/Resources/library/gDRimport/extdata/data4/H0909269D00.csv, sheet 0
INFO [2024-03-03 20:47:07] Plate H0909269D00 read; 384 wells
INFO [2024-03-03 20:47:07] File done
INFO [2024-03-03 20:47:07] Reading file /Library/Frameworks/R.framework/Versions/4.3-x86_64/Resources/library/gDRimport/extdata/data4/H0909269D01.csv, sheet 0
INFO [2024-03-03 20:47:07] Plate H0909269D01 read; 384 wells
INFO [2024-03-03 20:47:07] File done
INFO [2024-03-03 20:47:07] Reading file /Library/Frameworks/R.framework/Versions/4.3-x86_64/Resources/library/gDRimport/extdata/data4/H1109269D00.csv, sheet 0
INFO [2024-03-03 20:47:07] Plate H1109269D00 read; 384 wells
INFO [2024-03-03 20:47:07] File done
INFO [2024-03-03 20:47:07] Reading file /Library/Frameworks/R.framework/Versions/4.3-x86_64/Resources/library/gDRimport/extdata/data4/H1109269D01.csv, sheet 0
INFO [2024-03-03 20:47:07] Plate H1109269D01 read; 384 wells
INFO [2024-03-03 20:47:07] File done
INFO [2024-03-03 20:47:07] Reading file /Library/Frameworks/R.framework/Versions/4.3-x86_64/Resources/library/gDRimport/extdata/data4/H1209269D00.csv, sheet 0
INFO [2024-03-03 20:47:07] Plate H1209269D00 read; 384 wells
INFO [2024-03-03 20:47:07] File done
INFO [2024-03-03 20:47:07] Reading file /Library/Frameworks/R.framework/Versions/4.3-x86_64/Resources/library/gDRimport/extdata/data4/H1209269D01.csv, sheet 0
INFO [2024-03-03 20:47:07] Plate H1209269D01 read; 384 wells
INFO [2024-03-03 20:47:07] File done
INFO [2024-03-03 20:47:07] Reading file /Library/Frameworks/R.framework/Versions/4.3-x86_64/Resources/library/gDRimport/extdata/data4/H1409269D00.csv, sheet 0
INFO [2024-03-03 20:47:07] Plate H1409269D00 read; 384 wells
INFO [2024-03-03 20:47:07] File done
INFO [2024-03-03 20:47:07] Reading file /Library/Frameworks/R.framework/Versions/4.3-x86_64/Resources/library/gDRimport/extdata/data4/H1409269D01.csv, sheet 0
INFO [2024-03-03 20:47:07] Plate H1409269D01 read; 384 wells
INFO [2024-03-03 20:47:07] File done
INFO [2024-03-03 20:47:07] Reading file /Library/Frameworks/R.framework/Versions/4.3-x86_64/Resources/library/gDRimport/extdata/data4/K0209269D00.csv, sheet 0
INFO [2024-03-03 20:47:07] Plate K0209269D00 read; 384 wells
INFO [2024-03-03 20:47:07] File done
INFO [2024-03-03 20:47:07] Reading file /Library/Frameworks/R.framework/Versions/4.3-x86_64/Resources/library/gDRimport/extdata/data4/K0209269D01.csv, sheet 0
INFO [2024-03-03 20:47:07] Plate K0209269D01 read; 384 wells
INFO [2024-03-03 20:47:07] File done
INFO [2024-03-03 20:47:07] Reading file /Library/Frameworks/R.framework/Versions/4.3-x86_64/Resources/library/gDRimport/extdata/data4/K0809269D00.csv, sheet 0
INFO [2024-03-03 20:47:07] Plate K0809269D00 read; 384 wells
INFO [2024-03-03 20:47:07] File done
INFO [2024-03-03 20:47:07] Reading file /Library/Frameworks/R.framework/Versions/4.3-x86_64/Resources/library/gDRimport/extdata/data4/K0809269D01.csv, sheet 0
INFO [2024-03-03 20:47:07] Plate K0809269D01 read; 384 wells
INFO [2024-03-03 20:47:07] File done
INFO [2024-03-03 20:47:07] Reading file /Library/Frameworks/R.framework/Versions/4.3-x86_64/Resources/library/gDRimport/extdata/data4/K1009269D00.csv, sheet 0
INFO [2024-03-03 20:47:07] Plate K1009269D00 read; 384 wells
INFO [2024-03-03 20:47:07] File done
INFO [2024-03-03 20:47:07] Reading file /Library/Frameworks/R.framework/Versions/4.3-x86_64/Resources/library/gDRimport/extdata/data4/K1009269D01.csv, sheet 0
INFO [2024-03-03 20:47:07] Plate K1009269D01 read; 384 wells
INFO [2024-03-03 20:47:07] File done
INFO [2024-03-03 20:47:07] Manifest loaded successfully
INFO [2024-03-03 20:47:07] Reading Template_7daytreated.xlsx with load_templates_xlsx
INFO [2024-03-03 20:47:07] Loading Template_7daytreated.xlsx
INFO [2024-03-03 20:47:08] Loading Template_Untreated.xlsx
INFO [2024-03-03 20:47:08] Templates loaded successfully!
INFO [2024-03-03 20:47:08] Manifest loaded successfully
INFO [2024-03-03 20:47:08] Reading Template_7daytreated.xlsx with load_templates_xlsx
INFO [2024-03-03 20:47:08] Loading Template_7daytreated.xlsx
INFO [2024-03-03 20:47:08] Loading Template_Untreated.xlsx
INFO [2024-03-03 20:47:08] Templates loaded successfully!
WARN [2024-03-03 20:47:10] Metadata field names for cannot contain spaces --> corrected to: Gnumber
WARN [2024-03-03 20:47:10] Header Gnumber in corrected to Gnumber
[ FAIL 0 | WARN 0 | SKIP 0 | PASS 126 ]
>
>
> proc.time()
user system elapsed
45.213 4.014 50.027
gDRimport.Rcheck/gDRimport-Ex.timings
| name | user | system | elapsed | |
| check_metadata_names | 0.068 | 0.016 | 0.086 | |
| convert_MAE_to_PSet | 5.041 | 0.327 | 5.413 | |
| convert_pset_to_df | 0.140 | 0.020 | 0.165 | |
| detect_file_format | 0.272 | 0.015 | 0.291 | |
| getPSet | 0.139 | 0.011 | 0.153 | |
| get_exception_data | 0.058 | 0.001 | 0.059 | |
| get_test_D300_data | 0.002 | 0.000 | 0.002 | |
| get_test_EnVision_data | 0.002 | 0.001 | 0.004 | |
| get_test_Tecan_data | 0.001 | 0.000 | 0.001 | |
| get_test_data | 0.004 | 0.001 | 0.003 | |
| import_D300 | 2.930 | 0.552 | 3.643 | |
| is_readable_v | 0.002 | 0.000 | 0.003 | |
| load_data | 2.137 | 0.123 | 2.300 | |
| load_manifest | 0.034 | 0.005 | 0.039 | |
| load_results | 1.177 | 0.104 | 1.291 | |
| load_templates | 0.211 | 0.048 | 0.268 | |
| manifest_path-method | 0.002 | 0.001 | 0.002 | |
| parse_D300_xml | 1.237 | 0.035 | 1.283 | |
| read_excel_to_dt | 0.027 | 0.015 | 0.047 | |
| result_path-method | 0.002 | 0.001 | 0.003 | |
| setEnvForPSet | 0.001 | 0.000 | 0.001 | |
| standardize_record_values | 0 | 0 | 0 | |
| template_path-method | 0.002 | 0.001 | 0.003 | |