| Back to Multiple platform build/check report for BioC 3.18: simplified long |
|
This page was generated on 2024-04-17 11:37:45 -0400 (Wed, 17 Apr 2024).
| Hostname | OS | Arch (*) | R version | Installed pkgs |
|---|---|---|---|---|
| nebbiolo2 | Linux (Ubuntu 22.04.3 LTS) | x86_64 | 4.3.3 (2024-02-29) -- "Angel Food Cake" | 4676 |
| palomino4 | Windows Server 2022 Datacenter | x64 | 4.3.3 (2024-02-29 ucrt) -- "Angel Food Cake" | 4414 |
| merida1 | macOS 12.7.1 Monterey | x86_64 | 4.3.3 (2024-02-29) -- "Angel Food Cake" | 4437 |
| Click on any hostname to see more info about the system (e.g. compilers) (*) as reported by 'uname -p', except on Windows and Mac OS X | ||||
| Package 778/2266 | Hostname | OS / Arch | INSTALL | BUILD | CHECK | BUILD BIN | ||||||||
| gDRcore 1.0.1 (landing page) Arkadiusz Gladki
| nebbiolo2 | Linux (Ubuntu 22.04.3 LTS) / x86_64 | OK | OK | OK | |||||||||
| palomino4 | Windows Server 2022 Datacenter / x64 | OK | OK | OK | OK | |||||||||
| merida1 | macOS 12.7.1 Monterey / x86_64 | OK | OK | OK | OK | |||||||||
| kjohnson1 | macOS 13.6.1 Ventura / arm64 | see weekly results here | ||||||||||||
|
To the developers/maintainers of the gDRcore package: - Allow up to 24 hours (and sometimes 48 hours) for your latest push to git@git.bioconductor.org:packages/gDRcore.git to reflect on this report. See Troubleshooting Build Report for more information. - Use the following Renviron settings to reproduce errors and warnings. - If 'R CMD check' started to fail recently on the Linux builder(s) over a missing dependency, add the missing dependency to 'Suggests:' in your DESCRIPTION file. See Renviron.bioc for more information. |
| Package: gDRcore |
| Version: 1.0.1 |
| Command: /Library/Frameworks/R.framework/Resources/bin/R CMD check --install=check:gDRcore.install-out.txt --library=/Library/Frameworks/R.framework/Resources/library --no-vignettes --timings gDRcore_1.0.1.tar.gz |
| StartedAt: 2024-04-16 03:03:52 -0400 (Tue, 16 Apr 2024) |
| EndedAt: 2024-04-16 03:15:48 -0400 (Tue, 16 Apr 2024) |
| EllapsedTime: 716.3 seconds |
| RetCode: 0 |
| Status: OK |
| CheckDir: gDRcore.Rcheck |
| Warnings: 0 |
##############################################################################
##############################################################################
###
### Running command:
###
### /Library/Frameworks/R.framework/Resources/bin/R CMD check --install=check:gDRcore.install-out.txt --library=/Library/Frameworks/R.framework/Resources/library --no-vignettes --timings gDRcore_1.0.1.tar.gz
###
##############################################################################
##############################################################################
* using log directory ‘/Users/biocbuild/bbs-3.18-bioc/meat/gDRcore.Rcheck’
* using R version 4.3.3 (2024-02-29)
* using platform: x86_64-apple-darwin20 (64-bit)
* R was compiled by
Apple clang version 14.0.0 (clang-1400.0.29.202)
GNU Fortran (GCC) 12.2.0
* running under: macOS Monterey 12.7.1
* using session charset: UTF-8
* using option ‘--no-vignettes’
* checking for file ‘gDRcore/DESCRIPTION’ ... OK
* checking extension type ... Package
* this is package ‘gDRcore’ version ‘1.0.1’
* package encoding: UTF-8
* checking package namespace information ... OK
* checking package dependencies ... OK
* checking if this is a source package ... OK
* checking if there is a namespace ... OK
* checking for hidden files and directories ... OK
* checking for portable file names ... OK
* checking for sufficient/correct file permissions ... OK
* checking whether package ‘gDRcore’ can be installed ... OK
* used C++ compiler: ‘Apple clang version 14.0.0 (clang-1400.0.29.202)’
* used SDK: ‘MacOSX11.3.sdk’
* checking installed package size ... OK
* checking package directory ... OK
* checking ‘build’ directory ... OK
* checking DESCRIPTION meta-information ... OK
* checking top-level files ... OK
* checking for left-over files ... OK
* checking index information ... OK
* checking package subdirectories ... OK
* checking R files for non-ASCII characters ... OK
* checking R files for syntax errors ... OK
* checking whether the package can be loaded ... OK
* checking whether the package can be loaded with stated dependencies ... OK
* checking whether the package can be unloaded cleanly ... OK
* checking whether the namespace can be loaded with stated dependencies ... OK
* checking whether the namespace can be unloaded cleanly ... OK
* checking startup messages can be suppressed ... OK
* checking dependencies in R code ... OK
* checking S3 generic/method consistency ... OK
* checking replacement functions ... OK
* checking foreign function calls ... OK
* checking R code for possible problems ... OK
* checking Rd files ... OK
* checking Rd metadata ... OK
* checking Rd cross-references ... OK
* checking for missing documentation entries ... OK
* checking for code/documentation mismatches ... OK
* checking Rd \usage sections ... OK
* checking Rd contents ... OK
* checking for unstated dependencies in examples ... OK
* checking line endings in C/C++/Fortran sources/headers ... OK
* checking compiled code ... NOTE
Note: information on .o files is not available
* checking files in ‘vignettes’ ... OK
* checking examples ... OK
Examples with CPU (user + system) or elapsed time > 5s
user system elapsed
runDrugResponseProcessingPipelineFxns 40.073 1.051 43.650
add_CellLine_annotation 10.498 0.532 11.461
fit_SE.combinations 6.522 0.243 7.325
* checking for unstated dependencies in ‘tests’ ... OK
* checking tests ...
Running ‘testthat.R’
OK
* checking for unstated dependencies in vignettes ... OK
* checking package vignettes in ‘inst/doc’ ... OK
* checking running R code from vignettes ... SKIPPED
* checking re-building of vignette outputs ... SKIPPED
* checking PDF version of manual ... OK
* DONE
Status: 1 NOTE
See
‘/Users/biocbuild/bbs-3.18-bioc/meat/gDRcore.Rcheck/00check.log’
for details.
gDRcore.Rcheck/00install.out
############################################################################## ############################################################################## ### ### Running command: ### ### /Library/Frameworks/R.framework/Resources/bin/R CMD INSTALL gDRcore ### ############################################################################## ############################################################################## * installing to library ‘/Library/Frameworks/R.framework/Versions/4.3-x86_64/Resources/library’ * installing *source* package ‘gDRcore’ ... ** using staged installation ** libs using C++ compiler: ‘Apple clang version 14.0.0 (clang-1400.0.29.202)’ using SDK: ‘MacOSX11.3.sdk’ clang++ -arch x86_64 -std=gnu++17 -I"/Library/Frameworks/R.framework/Resources/include" -DNDEBUG -I/opt/R/x86_64/include -fPIC -falign-functions=64 -Wall -g -O2 -c gDRcore.cpp -o gDRcore.o clang++ -arch x86_64 -std=gnu++17 -dynamiclib -Wl,-headerpad_max_install_names -undefined dynamic_lookup -L/Library/Frameworks/R.framework/Resources/lib -L/opt/R/x86_64/lib -o gDRcore.so gDRcore.o -F/Library/Frameworks/R.framework/.. -framework R -Wl,-framework -Wl,CoreFoundation installing to /Library/Frameworks/R.framework/Versions/4.3-x86_64/Resources/library/00LOCK-gDRcore/00new/gDRcore/libs ** R ** byte-compile and prepare package for lazy loading ** help *** installing help indices ** building package indices ** installing vignettes ** testing if installed package can be loaded from temporary location ** checking absolute paths in shared objects and dynamic libraries ** testing if installed package can be loaded from final location ** testing if installed package keeps a record of temporary installation path * DONE (gDRcore)
gDRcore.Rcheck/tests/testthat.Rout
R version 4.3.3 (2024-02-29) -- "Angel Food Cake"
Copyright (C) 2024 The R Foundation for Statistical Computing
Platform: x86_64-apple-darwin20 (64-bit)
R is free software and comes with ABSOLUTELY NO WARRANTY.
You are welcome to redistribute it under certain conditions.
Type 'license()' or 'licence()' for distribution details.
R is a collaborative project with many contributors.
Type 'contributors()' for more information and
'citation()' on how to cite R or R packages in publications.
Type 'demo()' for some demos, 'help()' for on-line help, or
'help.start()' for an HTML browser interface to help.
Type 'q()' to quit R.
> library("gDRcore")
> library("testthat")
Attaching package: 'testthat'
The following object is masked from 'package:gDRcore':
matches
>
> test_check("gDRcore")
INFO [2024-04-16 03:07:19] Merge with Cell line info
INFO [2024-04-16 03:07:19] Merge with Cell line info
INFO [2024-04-16 03:14:39]
INFO [2024-04-16 03:15:15] Manifest loaded successfully
INFO [2024-04-16 03:15:15] Reading Template_7daytreated.xlsx with load_templates_xlsx
INFO [2024-04-16 03:15:15] Loading Template_7daytreated.xlsx
INFO [2024-04-16 03:15:15] Loading Template_Untreated.xlsx
INFO [2024-04-16 03:15:15] Templates loaded successfully!
INFO [2024-04-16 03:15:16] Reading file /Library/Frameworks/R.framework/Versions/4.3-x86_64/Resources/library/gDRimport/extdata/data1/RawData_day0.xlsx, sheet Readout_0077vs0068_day7
INFO [2024-04-16 03:15:16] Plate 201904190a read; 384 wells
INFO [2024-04-16 03:15:16] Plate 201904190b read; 384 wells
INFO [2024-04-16 03:15:16] Plate 201904190c read; 384 wells
INFO [2024-04-16 03:15:16] Plate 201904190d read; 384 wells
INFO [2024-04-16 03:15:16] Plate 201904190e read; 384 wells
INFO [2024-04-16 03:15:16] Plate 201904190f read; 384 wells
INFO [2024-04-16 03:15:16] File done
INFO [2024-04-16 03:15:16] Reading file /Library/Frameworks/R.framework/Versions/4.3-x86_64/Resources/library/gDRimport/extdata/data1/RawData_day7.xlsx, sheet Readout_0077vs0068_day7
INFO [2024-04-16 03:15:17] Plate 201904197a read; 384 wells
INFO [2024-04-16 03:15:17] Plate 201904197b read; 384 wells
INFO [2024-04-16 03:15:17] Plate 201904197c read; 384 wells
INFO [2024-04-16 03:15:17] Plate 201904197d read; 384 wells
INFO [2024-04-16 03:15:17] Plate 201904197e read; 384 wells
INFO [2024-04-16 03:15:17] Plate 201904197f read; 384 wells
INFO [2024-04-16 03:15:17] File done
INFO [2024-04-16 03:15:18] Manifest loaded successfully
INFO [2024-04-16 03:15:18] Reading Template_7daytreated.xlsx with load_templates_xlsx
INFO [2024-04-16 03:15:18] Loading Template_7daytreated.xlsx
INFO [2024-04-16 03:15:18] Loading Template_Untreated.xlsx
INFO [2024-04-16 03:15:18] Templates loaded successfully!
INFO [2024-04-16 03:15:18] Reading file /Library/Frameworks/R.framework/Versions/4.3-x86_64/Resources/library/gDRimport/extdata/data1/RawData_day0.xlsx, sheet Readout_0077vs0068_day7
INFO [2024-04-16 03:15:19] Plate 201904190a read; 384 wells
INFO [2024-04-16 03:15:19] Plate 201904190b read; 384 wells
INFO [2024-04-16 03:15:19] Plate 201904190c read; 384 wells
INFO [2024-04-16 03:15:19] Plate 201904190d read; 384 wells
INFO [2024-04-16 03:15:19] Plate 201904190e read; 384 wells
INFO [2024-04-16 03:15:19] Plate 201904190f read; 384 wells
INFO [2024-04-16 03:15:19] File done
INFO [2024-04-16 03:15:19] Reading file /Library/Frameworks/R.framework/Versions/4.3-x86_64/Resources/library/gDRimport/extdata/data1/RawData_day7.xlsx, sheet Readout_0077vs0068_day7
INFO [2024-04-16 03:15:20] Plate 201904197a read; 384 wells
INFO [2024-04-16 03:15:20] Plate 201904197b read; 384 wells
INFO [2024-04-16 03:15:20] Plate 201904197c read; 384 wells
INFO [2024-04-16 03:15:20] Plate 201904197d read; 384 wells
INFO [2024-04-16 03:15:20] Plate 201904197e read; 384 wells
INFO [2024-04-16 03:15:20] Plate 201904197f read; 384 wells
INFO [2024-04-16 03:15:20] File done
[ FAIL 0 | WARN 0 | SKIP 0 | PASS 177 ]
>
> proc.time()
user system elapsed
474.655 5.854 510.141
gDRcore.Rcheck/gDRcore-Ex.timings
| name | user | system | elapsed | |
| add_CellLine_annotation | 10.498 | 0.532 | 11.461 | |
| add_Drug_annotation | 1.191 | 0.125 | 1.372 | |
| calculate_GR_value | 0.004 | 0.003 | 0.007 | |
| calculate_excess | 0.145 | 0.018 | 0.172 | |
| calculate_matrix_metric | 0.041 | 0.023 | 0.066 | |
| cleanup_metadata | 0.081 | 0.112 | 0.200 | |
| convert_mae_to_raw_data | 3.282 | 0.161 | 3.536 | |
| convert_se_to_raw_data | 0.201 | 0.010 | 0.212 | |
| data_model | 0.001 | 0.001 | 0.002 | |
| dot-standardize_conc | 0.001 | 0.001 | 0.002 | |
| fit_SE.combinations | 6.522 | 0.243 | 7.325 | |
| get_default_nested_identifiers | 0.002 | 0.001 | 0.002 | |
| identify_data_type | 0.095 | 0.013 | 0.109 | |
| identify_keys | 0.124 | 0.020 | 0.146 | |
| map_conc_to_standardized_conc | 0.007 | 0.002 | 0.009 | |
| map_df | 0.132 | 0.020 | 0.153 | |
| map_ids_to_fits | 0.003 | 0.001 | 0.005 | |
| matches | 0.029 | 0.006 | 0.036 | |
| merge_data | 3.146 | 0.268 | 3.588 | |
| prepare_input | 2.830 | 0.240 | 3.202 | |
| remove_drug_batch | 0.001 | 0.000 | 0.001 | |
| replace_conc_with_standardized_conc | 0.002 | 0.001 | 0.002 | |
| round_concentration | 0.001 | 0.001 | 0.001 | |
| runDrugResponseProcessingPipelineFxns | 40.073 | 1.051 | 43.650 | |
| split_raw_data | 0.604 | 0.022 | 0.657 | |
| test_synthetic_data | 2.057 | 0.036 | 2.226 | |