| Back to Multiple platform build/check report for BioC 3.18: simplified long |
|
This page was generated on 2024-04-17 11:37:44 -0400 (Wed, 17 Apr 2024).
| Hostname | OS | Arch (*) | R version | Installed pkgs |
|---|---|---|---|---|
| nebbiolo2 | Linux (Ubuntu 22.04.3 LTS) | x86_64 | 4.3.3 (2024-02-29) -- "Angel Food Cake" | 4676 |
| palomino4 | Windows Server 2022 Datacenter | x64 | 4.3.3 (2024-02-29 ucrt) -- "Angel Food Cake" | 4414 |
| merida1 | macOS 12.7.1 Monterey | x86_64 | 4.3.3 (2024-02-29) -- "Angel Food Cake" | 4437 |
| Click on any hostname to see more info about the system (e.g. compilers) (*) as reported by 'uname -p', except on Windows and Mac OS X | ||||
| Package 736/2266 | Hostname | OS / Arch | INSTALL | BUILD | CHECK | BUILD BIN | ||||||||
| flowPloidy 1.28.0 (landing page) Tyler Smith
| nebbiolo2 | Linux (Ubuntu 22.04.3 LTS) / x86_64 | OK | OK | OK | |||||||||
| palomino4 | Windows Server 2022 Datacenter / x64 | OK | OK | OK | OK | |||||||||
| merida1 | macOS 12.7.1 Monterey / x86_64 | OK | OK | OK | OK | |||||||||
| kjohnson1 | macOS 13.6.1 Ventura / arm64 | see weekly results here | ||||||||||||
|
To the developers/maintainers of the flowPloidy package: - Allow up to 24 hours (and sometimes 48 hours) for your latest push to git@git.bioconductor.org:packages/flowPloidy.git to reflect on this report. See Troubleshooting Build Report for more information. - Use the following Renviron settings to reproduce errors and warnings. - If 'R CMD check' started to fail recently on the Linux builder(s) over a missing dependency, add the missing dependency to 'Suggests:' in your DESCRIPTION file. See Renviron.bioc for more information. |
| Package: flowPloidy |
| Version: 1.28.0 |
| Command: /Library/Frameworks/R.framework/Resources/bin/R CMD check --install=check:flowPloidy.install-out.txt --library=/Library/Frameworks/R.framework/Resources/library --no-vignettes --timings flowPloidy_1.28.0.tar.gz |
| StartedAt: 2024-04-16 02:55:42 -0400 (Tue, 16 Apr 2024) |
| EndedAt: 2024-04-16 02:58:10 -0400 (Tue, 16 Apr 2024) |
| EllapsedTime: 148.3 seconds |
| RetCode: 0 |
| Status: OK |
| CheckDir: flowPloidy.Rcheck |
| Warnings: 0 |
##############################################################################
##############################################################################
###
### Running command:
###
### /Library/Frameworks/R.framework/Resources/bin/R CMD check --install=check:flowPloidy.install-out.txt --library=/Library/Frameworks/R.framework/Resources/library --no-vignettes --timings flowPloidy_1.28.0.tar.gz
###
##############################################################################
##############################################################################
* using log directory ‘/Users/biocbuild/bbs-3.18-bioc/meat/flowPloidy.Rcheck’
* using R version 4.3.3 (2024-02-29)
* using platform: x86_64-apple-darwin20 (64-bit)
* R was compiled by
Apple clang version 14.0.0 (clang-1400.0.29.202)
GNU Fortran (GCC) 12.2.0
* running under: macOS Monterey 12.7.1
* using session charset: UTF-8
* using option ‘--no-vignettes’
* checking for file ‘flowPloidy/DESCRIPTION’ ... OK
* this is package ‘flowPloidy’ version ‘1.28.0’
* package encoding: UTF-8
* checking package namespace information ... OK
* checking package dependencies ... OK
* checking if this is a source package ... OK
* checking if there is a namespace ... OK
* checking for hidden files and directories ... OK
* checking for portable file names ... OK
* checking for sufficient/correct file permissions ... OK
* checking whether package ‘flowPloidy’ can be installed ... OK
* checking installed package size ... OK
* checking package directory ... OK
* checking ‘build’ directory ... OK
* checking DESCRIPTION meta-information ... OK
* checking top-level files ... OK
* checking for left-over files ... OK
* checking index information ... OK
* checking package subdirectories ... OK
* checking R files for non-ASCII characters ... OK
* checking R files for syntax errors ... OK
* checking whether the package can be loaded ... OK
* checking whether the package can be loaded with stated dependencies ... OK
* checking whether the package can be unloaded cleanly ... OK
* checking whether the namespace can be loaded with stated dependencies ... OK
* checking whether the namespace can be unloaded cleanly ... OK
* checking dependencies in R code ... OK
* checking S3 generic/method consistency ... OK
* checking replacement functions ... OK
* checking foreign function calls ... OK
* checking R code for possible problems ... OK
* checking Rd files ... OK
* checking Rd metadata ... OK
* checking Rd cross-references ... OK
* checking for missing documentation entries ... OK
* checking for code/documentation mismatches ... OK
* checking Rd \usage sections ... OK
* checking Rd contents ... OK
* checking for unstated dependencies in examples ... OK
* checking sizes of PDF files under ‘inst/doc’ ... OK
* checking files in ‘vignettes’ ... OK
* checking examples ... OK
* checking for unstated dependencies in ‘tests’ ... OK
* checking tests ...
Running ‘testthat.R’
OK
* checking for unstated dependencies in vignettes ... OK
* checking package vignettes in ‘inst/doc’ ... OK
* checking running R code from vignettes ... SKIPPED
* checking re-building of vignette outputs ... SKIPPED
* checking PDF version of manual ... OK
* DONE
Status: OK
flowPloidy.Rcheck/00install.out
############################################################################## ############################################################################## ### ### Running command: ### ### /Library/Frameworks/R.framework/Resources/bin/R CMD INSTALL flowPloidy ### ############################################################################## ############################################################################## * installing to library ‘/Library/Frameworks/R.framework/Versions/4.3-x86_64/Resources/library’ * installing *source* package ‘flowPloidy’ ... ** using staged installation ** R ** inst ** byte-compile and prepare package for lazy loading ** help *** installing help indices ** building package indices ** installing vignettes ** testing if installed package can be loaded from temporary location ** testing if installed package can be loaded from final location ** testing if installed package keeps a record of temporary installation path * DONE (flowPloidy)
flowPloidy.Rcheck/tests/testthat.Rout
R version 4.3.3 (2024-02-29) -- "Angel Food Cake"
Copyright (C) 2024 The R Foundation for Statistical Computing
Platform: x86_64-apple-darwin20 (64-bit)
R is free software and comes with ABSOLUTELY NO WARRANTY.
You are welcome to redistribute it under certain conditions.
Type 'license()' or 'licence()' for distribution details.
R is a collaborative project with many contributors.
Type 'contributors()' for more information and
'citation()' on how to cite R or R packages in publications.
Type 'demo()' for some demos, 'help()' for on-line help, or
'help.start()' for an HTML browser interface to help.
Type 'q()' to quit R.
> library(testthat)
> library(flowPloidy)
>
> test_check("flowPloidy")
FlowHist object '188-15.LMD'
channel: FL3.INT.LIN
2 samples
bins: 256
linearity: variable
debris: SC
7 model components: a1, a2, a_s, b1, b_s, SC, AG
12 parameters: a1P, a_mean, a_stddev, a2P, linearity, a_sP, b1P, b_mean, b_stddev, b_sP, SCaP, AP
5 special parameters: xx, SCvals, DBvals, TRvals, QDvals
Model fit
Analysis
========
Counts
------
a1_count a2_count a_s_count b1_count b_s_count
1442.99 336.58 0.00 2820.64 405.87
Peak Sizes
----------
a_mean b_mean
99.04 136.12
CVs
---
a_CV b_CV
2.2 2.0
RCS: 1.589
FlowHist object '222.LMD'
channel: FL3.INT.LIN
2 samples
bins: 256
linearity: variable
debris: SC
8 model components: a1, a2, a_s, b1, b2, b_s, SC, AG
13 parameters: a1P, a_mean, a_stddev, a2P, linearity, a_sP, b1P, b_mean, b_stddev, b2P, b_sP, SCaP, AP
5 special parameters: xx, SCvals, DBvals, TRvals, QDvals
Model fitting not complete
RCS: NA
FlowHist object '240+S.LMD'
channel: FL3.INT.LIN
2 samples
bins: 256
linearity: variable
debris: MC
7 model components: a1, a2, a_s, b1, b_s, MC, AG
13 parameters: a1P, a_mean, a_stddev, a2P, linearity, a_sP, b1P, b_mean, b_stddev, b_sP, MCaP, k, AP
5 special parameters: xx, MCvals, DBvals, TRvals, QDvals
Model fit
Analysis
========
Counts
------
a1_count a2_count a_s_count b1_count b_s_count
664.23 0.00 195.73 3269.65 0.00
Peak Sizes
----------
a_mean b_mean
77.10 160.79
CVs
---
a_CV b_CV
4.8 7.7
RCS: 2.22
FlowHist object '08.328'
channel: FL2.A
2 samples
bins: 256
linearity: variable
debris: SC
0 model components:
0 parameters:
0 special parameters:
Model fitting not complete
RCS: NA
[ FAIL 0 | WARN 0 | SKIP 0 | PASS 26 ]
>
> proc.time()
user system elapsed
6.563 0.506 7.319
flowPloidy.Rcheck/flowPloidy-Ex.timings
| name | user | system | elapsed | |
| DebrisModels | 0.000 | 0.001 | 0.001 | |
| FlowHist | 4.318 | 0.216 | 4.731 | |
| FlowStandards | 0.228 | 0.006 | 0.239 | |
| ModelComponent | 0.006 | 0.006 | 0.011 | |
| browseFlowHist | 3.513 | 0.098 | 3.713 | |
| fhAccessors | 0.233 | 0.005 | 0.242 | |
| fhAnalyze | 0.386 | 0.019 | 0.411 | |
| findPeaks | 0.000 | 0.001 | 0.001 | |
| pickInit | 0.292 | 0.007 | 0.302 | |
| plotFH | 0.407 | 0.009 | 0.423 | |
| setBins | 0.322 | 0.011 | 0.335 | |
| tabulateFlowHist | 0.363 | 0.010 | 0.375 | |
| updateFlowHist | 0.526 | 0.007 | 0.537 | |
| viewFlowChannels | 0.048 | 0.003 | 0.052 | |