| Back to Multiple platform build/check report for BioC 3.18: simplified long |
|
This page was generated on 2024-04-17 11:36:47 -0400 (Wed, 17 Apr 2024).
| Hostname | OS | Arch (*) | R version | Installed pkgs |
|---|---|---|---|---|
| nebbiolo2 | Linux (Ubuntu 22.04.3 LTS) | x86_64 | 4.3.3 (2024-02-29) -- "Angel Food Cake" | 4676 |
| palomino4 | Windows Server 2022 Datacenter | x64 | 4.3.3 (2024-02-29 ucrt) -- "Angel Food Cake" | 4414 |
| merida1 | macOS 12.7.1 Monterey | x86_64 | 4.3.3 (2024-02-29) -- "Angel Food Cake" | 4437 |
| Click on any hostname to see more info about the system (e.g. compilers) (*) as reported by 'uname -p', except on Windows and Mac OS X | ||||
| Package 730/2266 | Hostname | OS / Arch | INSTALL | BUILD | CHECK | BUILD BIN | ||||||||
| flowGraph 1.10.0 (landing page) Alice Yue
| nebbiolo2 | Linux (Ubuntu 22.04.3 LTS) / x86_64 | OK | OK | OK | |||||||||
| palomino4 | Windows Server 2022 Datacenter / x64 | OK | OK | OK | OK | |||||||||
| merida1 | macOS 12.7.1 Monterey / x86_64 | OK | OK | OK | OK | |||||||||
| kjohnson1 | macOS 13.6.1 Ventura / arm64 | see weekly results here | ||||||||||||
|
To the developers/maintainers of the flowGraph package: - Allow up to 24 hours (and sometimes 48 hours) for your latest push to git@git.bioconductor.org:packages/flowGraph.git to reflect on this report. See Troubleshooting Build Report for more information. - Use the following Renviron settings to reproduce errors and warnings. - If 'R CMD check' started to fail recently on the Linux builder(s) over a missing dependency, add the missing dependency to 'Suggests:' in your DESCRIPTION file. See Renviron.bioc for more information. |
| Package: flowGraph |
| Version: 1.10.0 |
| Command: F:\biocbuild\bbs-3.18-bioc\R\bin\R.exe CMD check --no-multiarch --install=check:flowGraph.install-out.txt --library=F:\biocbuild\bbs-3.18-bioc\R\library --no-vignettes --timings flowGraph_1.10.0.tar.gz |
| StartedAt: 2024-04-16 00:51:05 -0400 (Tue, 16 Apr 2024) |
| EndedAt: 2024-04-16 00:55:21 -0400 (Tue, 16 Apr 2024) |
| EllapsedTime: 255.4 seconds |
| RetCode: 0 |
| Status: OK |
| CheckDir: flowGraph.Rcheck |
| Warnings: 0 |
##############################################################################
##############################################################################
###
### Running command:
###
### F:\biocbuild\bbs-3.18-bioc\R\bin\R.exe CMD check --no-multiarch --install=check:flowGraph.install-out.txt --library=F:\biocbuild\bbs-3.18-bioc\R\library --no-vignettes --timings flowGraph_1.10.0.tar.gz
###
##############################################################################
##############################################################################
* using log directory 'F:/biocbuild/bbs-3.18-bioc/meat/flowGraph.Rcheck'
* using R version 4.3.3 (2024-02-29 ucrt)
* using platform: x86_64-w64-mingw32 (64-bit)
* R was compiled by
gcc.exe (GCC) 12.3.0
GNU Fortran (GCC) 12.3.0
* running under: Windows Server 2022 x64 (build 20348)
* using session charset: UTF-8
* using option '--no-vignettes'
* checking for file 'flowGraph/DESCRIPTION' ... OK
* checking extension type ... Package
* this is package 'flowGraph' version '1.10.0'
* checking package namespace information ... OK
* checking package dependencies ... OK
* checking if this is a source package ... OK
* checking if there is a namespace ... OK
* checking for hidden files and directories ... OK
* checking for portable file names ... OK
* checking whether package 'flowGraph' can be installed ... OK
* checking installed package size ... OK
* checking package directory ... OK
* checking 'build' directory ... OK
* checking DESCRIPTION meta-information ... OK
* checking top-level files ... OK
* checking for left-over files ... OK
* checking index information ... OK
* checking package subdirectories ... OK
* checking R files for non-ASCII characters ... OK
* checking R files for syntax errors ... OK
* checking whether the package can be loaded ... OK
* checking whether the package can be loaded with stated dependencies ... OK
* checking whether the package can be unloaded cleanly ... OK
* checking whether the namespace can be loaded with stated dependencies ... OK
* checking whether the namespace can be unloaded cleanly ... OK
* checking dependencies in R code ... OK
* checking S3 generic/method consistency ... OK
* checking replacement functions ... OK
* checking foreign function calls ... OK
* checking R code for possible problems ... NOTE
get_child: no visible binding for global variable 'no_cores'
get_paren: no visible binding for global variable 'no_cores'
ms_psig: no visible binding for global variable 'meta'
Undefined global functions or variables:
meta no_cores
* checking Rd files ... OK
* checking Rd metadata ... OK
* checking Rd cross-references ... OK
* checking for missing documentation entries ... OK
* checking for code/documentation mismatches ... OK
* checking Rd \usage sections ... OK
* checking Rd contents ... OK
* checking for unstated dependencies in examples ... OK
* checking contents of 'data' directory ... OK
* checking data for non-ASCII characters ... OK
* checking data for ASCII and uncompressed saves ... OK
* checking files in 'vignettes' ... OK
* checking examples ... OK
Examples with CPU (user + system) or elapsed time > 5s
user system elapsed
fg_save 44.42 0.87 45.30
fg_save_plots 43.33 0.95 44.31
fg_load 40.47 1.07 41.53
* checking for unstated dependencies in 'tests' ... OK
* checking tests ...
Running 'testthat.R'
OK
* checking for unstated dependencies in vignettes ... OK
* checking package vignettes in 'inst/doc' ... OK
* checking running R code from vignettes ... SKIPPED
* checking re-building of vignette outputs ... SKIPPED
* checking PDF version of manual ... OK
* DONE
Status: 1 NOTE
See
'F:/biocbuild/bbs-3.18-bioc/meat/flowGraph.Rcheck/00check.log'
for details.
flowGraph.Rcheck/00install.out
############################################################################## ############################################################################## ### ### Running command: ### ### F:\biocbuild\bbs-3.18-bioc\R\bin\R.exe CMD INSTALL flowGraph ### ############################################################################## ############################################################################## * installing to library 'F:/biocbuild/bbs-3.18-bioc/R/library' * installing *source* package 'flowGraph' ... ** using staged installation ** R ** data ** inst ** byte-compile and prepare package for lazy loading ** help Loading required namespace: flowGraph *** installing help indices ** building package indices ** installing vignettes ** testing if installed package can be loaded from temporary location ** testing if installed package can be loaded from final location ** testing if installed package keeps a record of temporary installation path * DONE (flowGraph)
flowGraph.Rcheck/tests/testthat.Rout
R version 4.3.3 (2024-02-29 ucrt) -- "Angel Food Cake"
Copyright (C) 2024 The R Foundation for Statistical Computing
Platform: x86_64-w64-mingw32/x64 (64-bit)
R is free software and comes with ABSOLUTELY NO WARRANTY.
You are welcome to redistribute it under certain conditions.
Type 'license()' or 'licence()' for distribution details.
R is a collaborative project with many contributors.
Type 'contributors()' for more information and
'citation()' on how to cite R or R packages in publications.
Type 'demo()' for some demos, 'help()' for on-line help, or
'help.start()' for an HTML browser interface to help.
Type 'q()' to quit R.
> library(testthat)
> library(flowGraph)
>
> test_check("flowGraph")
[ FAIL 0 | WARN 0 | SKIP 0 | PASS 34 ]
>
> proc.time()
user system elapsed
5.46 0.37 6.40
flowGraph.Rcheck/flowGraph-Ex.timings
| name | user | system | elapsed | |
| cell_type_layers | 0 | 0 | 0 | |
| fg_add_feature | 0.44 | 0.05 | 0.48 | |
| fg_add_summary | 1.18 | 0.05 | 1.23 | |
| fg_clean_phen | 0 | 0 | 0 | |
| fg_clear_features | 1.24 | 0.01 | 1.25 | |
| fg_clear_summary | 0.45 | 0.02 | 0.47 | |
| fg_extract_phenotypes | 0.41 | 0.01 | 0.42 | |
| fg_extract_raw | 1.23 | 0.03 | 1.26 | |
| fg_extract_samples | 0.28 | 0.03 | 0.32 | |
| fg_feat_cumsum | 0.24 | 0.02 | 0.25 | |
| fg_feat_edge_specenr | 0.44 | 0.01 | 0.45 | |
| fg_feat_mean_class | 0.34 | 0.02 | 0.36 | |
| fg_feat_node_prop | 0.31 | 0.00 | 0.31 | |
| fg_feat_node_specenr | 0.36 | 0.00 | 0.36 | |
| fg_feat_prop_edge | 0.24 | 0.00 | 0.23 | |
| fg_get_feature | 0.25 | 0.00 | 0.25 | |
| fg_get_feature_desc | 1.06 | 0.01 | 1.08 | |
| fg_get_feature_means | 1.25 | 0.08 | 1.33 | |
| fg_get_graph | 0.33 | 0.00 | 0.33 | |
| fg_get_markers | 0.4 | 0.0 | 0.4 | |
| fg_get_meta | 0.27 | 0.02 | 0.29 | |
| fg_get_summary | 1.89 | 0.04 | 1.93 | |
| fg_get_summary_desc | 1.01 | 0.02 | 1.03 | |
| fg_get_summary_index | 1.86 | 0.02 | 1.88 | |
| fg_get_summary_tables | 1.29 | 0.03 | 1.31 | |
| fg_gsub_ids | 0.21 | 0.00 | 0.22 | |
| fg_gsub_markers | 0.38 | 0.00 | 0.37 | |
| fg_load | 40.47 | 1.07 | 41.53 | |
| fg_merge | 0.36 | 0.00 | 0.36 | |
| fg_merge_samples | 0.29 | 0.00 | 0.30 | |
| fg_plot | 0.5 | 0.0 | 0.5 | |
| fg_plot_box | 0.68 | 0.03 | 0.70 | |
| fg_plot_pVSdiff | 0.53 | 0.03 | 0.56 | |
| fg_plot_qq | 1.04 | 0.04 | 1.36 | |
| fg_replace_meta | 0.44 | 0.02 | 0.46 | |
| fg_rm_feature | 0.99 | 0.02 | 1.00 | |
| fg_rm_summary | 0.4 | 0.0 | 0.4 | |
| fg_save | 44.42 | 0.87 | 45.30 | |
| fg_save_plots | 43.33 | 0.95 | 44.31 | |
| fg_set_layout | 0.25 | 0.00 | 0.27 | |
| fg_summary | 0.50 | 0.02 | 0.51 | |
| flowGraph-class | 0 | 0 | 0 | |
| flowGraph | 1.38 | 0.05 | 1.43 | |
| flowGraphSubset | 0 | 0 | 0 | |
| flowGraphSubset_summary_adjust | 0 | 0 | 0 | |
| flowGraphSubset_summary_pars | 0 | 0 | 0 | |
| get_phen_list | 0.02 | 0.00 | 0.02 | |
| get_phen_meta | 0 | 0 | 0 | |
| ggdf | 0.34 | 0.00 | 0.34 | |
| loop_ind_f | 0 | 0 | 0 | |
| meandiff | 0 | 0 | 0 | |
| plot_gr | 1.58 | 0.06 | 2.05 | |
| set_layout_graph | 0.26 | 0.03 | 0.30 | |
| summary_table | 0 | 0 | 0 | |
| time_output | 0 | 0 | 0 | |
| tstr | 0 | 0 | 0 | |