| Back to Multiple platform build/check report for BioC 3.18: simplified long |
|
This page was generated on 2024-04-17 11:35:54 -0400 (Wed, 17 Apr 2024).
| Hostname | OS | Arch (*) | R version | Installed pkgs |
|---|---|---|---|---|
| nebbiolo2 | Linux (Ubuntu 22.04.3 LTS) | x86_64 | 4.3.3 (2024-02-29) -- "Angel Food Cake" | 4676 |
| palomino4 | Windows Server 2022 Datacenter | x64 | 4.3.3 (2024-02-29 ucrt) -- "Angel Food Cake" | 4414 |
| merida1 | macOS 12.7.1 Monterey | x86_64 | 4.3.3 (2024-02-29) -- "Angel Food Cake" | 4437 |
| Click on any hostname to see more info about the system (e.g. compilers) (*) as reported by 'uname -p', except on Windows and Mac OS X | ||||
| Package 566/2266 | Hostname | OS / Arch | INSTALL | BUILD | CHECK | BUILD BIN | ||||||||
| diffUTR 1.10.0 (landing page) Pierre-Luc Germain
| nebbiolo2 | Linux (Ubuntu 22.04.3 LTS) / x86_64 | OK | OK | OK | |||||||||
| palomino4 | Windows Server 2022 Datacenter / x64 | OK | OK | OK | OK | |||||||||
| merida1 | macOS 12.7.1 Monterey / x86_64 | OK | OK | OK | OK | |||||||||
| kjohnson1 | macOS 13.6.1 Ventura / arm64 | see weekly results here | ||||||||||||
|
To the developers/maintainers of the diffUTR package: - Allow up to 24 hours (and sometimes 48 hours) for your latest push to git@git.bioconductor.org:packages/diffUTR.git to reflect on this report. See Troubleshooting Build Report for more information. - Use the following Renviron settings to reproduce errors and warnings. - If 'R CMD check' started to fail recently on the Linux builder(s) over a missing dependency, add the missing dependency to 'Suggests:' in your DESCRIPTION file. See Renviron.bioc for more information. |
| Package: diffUTR |
| Version: 1.10.0 |
| Command: /home/biocbuild/bbs-3.18-bioc/R/bin/R CMD check --install=check:diffUTR.install-out.txt --library=/home/biocbuild/bbs-3.18-bioc/R/site-library --timings diffUTR_1.10.0.tar.gz |
| StartedAt: 2024-04-15 22:11:00 -0400 (Mon, 15 Apr 2024) |
| EndedAt: 2024-04-15 22:17:09 -0400 (Mon, 15 Apr 2024) |
| EllapsedTime: 368.5 seconds |
| RetCode: 0 |
| Status: OK |
| CheckDir: diffUTR.Rcheck |
| Warnings: 0 |
##############################################################################
##############################################################################
###
### Running command:
###
### /home/biocbuild/bbs-3.18-bioc/R/bin/R CMD check --install=check:diffUTR.install-out.txt --library=/home/biocbuild/bbs-3.18-bioc/R/site-library --timings diffUTR_1.10.0.tar.gz
###
##############################################################################
##############################################################################
* using log directory ‘/home/biocbuild/bbs-3.18-bioc/meat/diffUTR.Rcheck’
* using R version 4.3.3 (2024-02-29)
* using platform: x86_64-pc-linux-gnu (64-bit)
* R was compiled by
gcc (Ubuntu 11.4.0-1ubuntu1~22.04) 11.4.0
GNU Fortran (Ubuntu 11.4.0-1ubuntu1~22.04) 11.4.0
* running under: Ubuntu 22.04.4 LTS
* using session charset: UTF-8
* checking for file ‘diffUTR/DESCRIPTION’ ... OK
* checking extension type ... Package
* this is package ‘diffUTR’ version ‘1.10.0’
* package encoding: UTF-8
* checking package namespace information ... OK
* checking package dependencies ... OK
* checking if this is a source package ... OK
* checking if there is a namespace ... OK
* checking for hidden files and directories ... OK
* checking for portable file names ... OK
* checking for sufficient/correct file permissions ... OK
* checking whether package ‘diffUTR’ can be installed ... OK
* checking installed package size ... OK
* checking package directory ... OK
* checking ‘build’ directory ... OK
* checking DESCRIPTION meta-information ... OK
* checking top-level files ... OK
* checking for left-over files ... OK
* checking index information ... OK
* checking package subdirectories ... OK
* checking R files for non-ASCII characters ... OK
* checking R files for syntax errors ... OK
* checking whether the package can be loaded ... OK
* checking whether the package can be loaded with stated dependencies ... OK
* checking whether the package can be unloaded cleanly ... OK
* checking whether the namespace can be loaded with stated dependencies ... OK
* checking whether the namespace can be unloaded cleanly ... OK
* checking loading without being on the library search path ... OK
* checking dependencies in R code ... OK
* checking S3 generic/method consistency ... OK
* checking replacement functions ... OK
* checking foreign function calls ... OK
* checking R code for possible problems ... NOTE
deuBinPlot: no visible binding for global variable 'x_start'
deuBinPlot: no visible binding for global variable 'x_end'
deuBinPlot: no visible binding for global variable 'y_start'
deuBinPlot: no visible binding for global variable 'y_end'
plotTopGenes: no visible binding for global variable 'sizeScore'
plotTopGenes: no visible binding for global variable 'q.value'
plotTopGenes: no visible binding for global variable 'density.ratio'
plotTopGenes: no visible binding for global variable 'geneMeanDensity'
plotTopGenes: no visible binding for global variable 'w.abs.coef'
plotTopGenes: no visible binding for global variable 'tmp'
plotTopGenes: no visible binding for global variable 'name'
Undefined global functions or variables:
density.ratio geneMeanDensity name q.value sizeScore tmp w.abs.coef
x_end x_start y_end y_start
* checking Rd files ... OK
* checking Rd metadata ... OK
* checking Rd cross-references ... OK
* checking for missing documentation entries ... OK
* checking for code/documentation mismatches ... OK
* checking Rd \usage sections ... OK
* checking Rd contents ... OK
* checking for unstated dependencies in examples ... OK
* checking contents of ‘data’ directory ... OK
* checking data for non-ASCII characters ... OK
* checking data for ASCII and uncompressed saves ... OK
* checking files in ‘vignettes’ ... OK
* checking examples ... OK
* checking for unstated dependencies in vignettes ... OK
* checking package vignettes in ‘inst/doc’ ... OK
* checking running R code from vignettes ...
‘diffSplice2.Rmd’ using ‘UTF-8’... OK
‘diffUTR.Rmd’ using ‘UTF-8’... OK
OK
* checking re-building of vignette outputs ... OK
* checking PDF version of manual ... OK
* DONE
Status: 1 NOTE
See
‘/home/biocbuild/bbs-3.18-bioc/meat/diffUTR.Rcheck/00check.log’
for details.
diffUTR.Rcheck/00install.out
############################################################################## ############################################################################## ### ### Running command: ### ### /home/biocbuild/bbs-3.18-bioc/R/bin/R CMD INSTALL diffUTR ### ############################################################################## ############################################################################## * installing to library ‘/home/biocbuild/bbs-3.18-bioc/R/site-library’ * installing *source* package ‘diffUTR’ ... ** using staged installation ** R ** data ** inst ** byte-compile and prepare package for lazy loading ** help *** installing help indices ** building package indices ** installing vignettes ** testing if installed package can be loaded from temporary location ** testing if installed package can be loaded from final location ** testing if installed package keeps a record of temporary installation path * DONE (diffUTR)
diffUTR.Rcheck/diffUTR-Ex.timings
| name | user | system | elapsed | |
| DEUwrappers | 1.184 | 0.044 | 1.228 | |
| addNormalizedAssays | 0.062 | 0.000 | 0.062 | |
| countFeatures | 2.259 | 0.195 | 2.485 | |
| deuBinPlot | 1.137 | 0.081 | 1.217 | |
| diffSplice2 | 0.221 | 0.004 | 0.224 | |
| geneBinHeatmap | 2.092 | 0.028 | 2.120 | |
| geneLevelStats | 0.765 | 0.019 | 0.785 | |
| plotTopGenes | 0.690 | 0.008 | 0.698 | |
| prepareBins | 0.999 | 0.005 | 1.003 | |
| simesAggregation | 0.002 | 0.000 | 0.001 | |