| Back to Multiple platform build/check report for BioC 3.18: simplified long |
|
This page was generated on 2024-04-17 11:35:54 -0400 (Wed, 17 Apr 2024).
| Hostname | OS | Arch (*) | R version | Installed pkgs |
|---|---|---|---|---|
| nebbiolo2 | Linux (Ubuntu 22.04.3 LTS) | x86_64 | 4.3.3 (2024-02-29) -- "Angel Food Cake" | 4676 |
| palomino4 | Windows Server 2022 Datacenter | x64 | 4.3.3 (2024-02-29 ucrt) -- "Angel Food Cake" | 4414 |
| merida1 | macOS 12.7.1 Monterey | x86_64 | 4.3.3 (2024-02-29) -- "Angel Food Cake" | 4437 |
| Click on any hostname to see more info about the system (e.g. compilers) (*) as reported by 'uname -p', except on Windows and Mac OS X | ||||
| Package 551/2266 | Hostname | OS / Arch | INSTALL | BUILD | CHECK | BUILD BIN | ||||||||
| destiny 3.16.0 (landing page) Philipp Angerer
| nebbiolo2 | Linux (Ubuntu 22.04.3 LTS) / x86_64 | OK | OK | OK | |||||||||
| palomino4 | Windows Server 2022 Datacenter / x64 | OK | OK | OK | OK | |||||||||
| merida1 | macOS 12.7.1 Monterey / x86_64 | OK | OK | OK | OK | |||||||||
| kjohnson1 | macOS 13.6.1 Ventura / arm64 | see weekly results here | ||||||||||||
|
To the developers/maintainers of the destiny package: - Allow up to 24 hours (and sometimes 48 hours) for your latest push to git@git.bioconductor.org:packages/destiny.git to reflect on this report. See Troubleshooting Build Report for more information. - Use the following Renviron settings to reproduce errors and warnings. - If 'R CMD check' started to fail recently on the Linux builder(s) over a missing dependency, add the missing dependency to 'Suggests:' in your DESCRIPTION file. See Renviron.bioc for more information. |
| Package: destiny |
| Version: 3.16.0 |
| Command: /home/biocbuild/bbs-3.18-bioc/R/bin/R CMD check --install=check:destiny.install-out.txt --library=/home/biocbuild/bbs-3.18-bioc/R/site-library --timings destiny_3.16.0.tar.gz |
| StartedAt: 2024-04-15 22:06:29 -0400 (Mon, 15 Apr 2024) |
| EndedAt: 2024-04-15 22:22:41 -0400 (Mon, 15 Apr 2024) |
| EllapsedTime: 971.7 seconds |
| RetCode: 0 |
| Status: OK |
| CheckDir: destiny.Rcheck |
| Warnings: 0 |
##############################################################################
##############################################################################
###
### Running command:
###
### /home/biocbuild/bbs-3.18-bioc/R/bin/R CMD check --install=check:destiny.install-out.txt --library=/home/biocbuild/bbs-3.18-bioc/R/site-library --timings destiny_3.16.0.tar.gz
###
##############################################################################
##############################################################################
* using log directory ‘/home/biocbuild/bbs-3.18-bioc/meat/destiny.Rcheck’
* using R version 4.3.3 (2024-02-29)
* using platform: x86_64-pc-linux-gnu (64-bit)
* R was compiled by
gcc (Ubuntu 11.4.0-1ubuntu1~22.04) 11.4.0
GNU Fortran (Ubuntu 11.4.0-1ubuntu1~22.04) 11.4.0
* running under: Ubuntu 22.04.4 LTS
* using session charset: UTF-8
* checking for file ‘destiny/DESCRIPTION’ ... OK
* checking extension type ... Package
* this is package ‘destiny’ version ‘3.16.0’
* package encoding: UTF-8
* checking package namespace information ... OK
* checking package dependencies ... OK
* checking if this is a source package ... OK
* checking if there is a namespace ... OK
* checking for hidden files and directories ... OK
* checking for portable file names ... OK
* checking for sufficient/correct file permissions ... OK
* checking whether package ‘destiny’ can be installed ... OK
* used C++ compiler: ‘g++ (Ubuntu 11.4.0-1ubuntu1~22.04) 11.4.0’
* checking C++ specification ... NOTE
Specified C++11: please drop specification unless essential
* checking installed package size ... OK
* checking package directory ... OK
* checking DESCRIPTION meta-information ... NOTE
Packages listed in more than one of Depends, Imports, Suggests, Enhances:
‘rgl’ ‘SingleCellExperiment’
A package should be listed in only one of these fields.
'LinkingTo' for ‘grDevices’ is unused as it has no 'include' directory
* checking top-level files ... OK
* checking for left-over files ... OK
* checking index information ... OK
* checking package subdirectories ... OK
* checking R files for non-ASCII characters ... OK
* checking R files for syntax errors ... OK
* checking whether the package can be loaded ... OK
* checking whether the package can be loaded with stated dependencies ... OK
* checking whether the package can be unloaded cleanly ... OK
* checking whether the namespace can be loaded with stated dependencies ... OK
* checking whether the namespace can be unloaded cleanly ... OK
* checking loading without being on the library search path ... OK
* checking startup messages can be suppressed ... OK
* checking dependencies in R code ... OK
* checking S3 generic/method consistency ... OK
* checking replacement functions ... OK
* checking foreign function calls ... OK
* checking R code for possible problems ... OK
* checking Rd files ... NOTE
checkRd: (-1) Gene-Relevance.Rd:94: Escaped LaTeX specials: \_
* checking Rd metadata ... OK
* checking Rd cross-references ... OK
* checking for missing documentation entries ... OK
* checking for code/documentation mismatches ... OK
* checking Rd \usage sections ... NOTE
S3 methods shown with full name in documentation object 'Coercion methods':
‘fortify.DiffusionMap’ ‘fortify.DPT’
S3 methods shown with full name in documentation object 'plot.DPT':
‘plot.DPT’
S3 methods shown with full name in documentation object 'plot.DiffusionMap':
‘plot.DiffusionMap’
The \usage entries for S3 methods should use the \method markup and not
their full name.
See chapter ‘Writing R documentation files’ in the ‘Writing R
Extensions’ manual.
* checking Rd contents ... OK
* checking for unstated dependencies in examples ... OK
* checking contents of ‘data’ directory ... OK
* checking data for non-ASCII characters ... OK
* checking data for ASCII and uncompressed saves ... OK
* checking line endings in C/C++/Fortran sources/headers ... OK
* checking line endings in Makefiles ... OK
* checking compilation flags in Makevars ... OK
* checking for GNU extensions in Makefiles ... OK
* checking for portable use of $(BLAS_LIBS) and $(LAPACK_LIBS) ... OK
* checking use of PKG_*FLAGS in Makefiles ... OK
* checking compiled code ... NOTE
Note: information on .o files is not available
* checking files in ‘vignettes’ ... OK
* checking examples ... OK
Examples with CPU (user + system) or elapsed time > 5s
user system elapsed
Gene-Relevance-plotting 5.388 0.111 5.5
* checking for unstated dependencies in ‘tests’ ... OK
* checking tests ...
Running ‘testthat.R’
OK
* checking for unstated dependencies in vignettes ... OK
* checking package vignettes in ‘inst/doc’ ... OK
* checking running R code from vignettes ...
‘DPT.Rmd’ using ‘UTF-8’... OK
‘Diffusion-Map-recap.Rmd’ using ‘UTF-8’... OK
‘Diffusion-Maps.Rmd’ using ‘UTF-8’... OK
‘Gene-Relevance.Rmd’ using ‘UTF-8’... OK
‘Global-Sigma.Rmd’ using ‘UTF-8’... OK
‘tidyverse.Rmd’ using ‘UTF-8’... OK
OK
* checking re-building of vignette outputs ... OK
* checking PDF version of manual ... OK
* DONE
Status: 5 NOTEs
See
‘/home/biocbuild/bbs-3.18-bioc/meat/destiny.Rcheck/00check.log’
for details.
destiny.Rcheck/00install.out
##############################################################################
##############################################################################
###
### Running command:
###
### /home/biocbuild/bbs-3.18-bioc/R/bin/R CMD INSTALL destiny
###
##############################################################################
##############################################################################
* installing to library ‘/home/biocbuild/bbs-3.18-bioc/R/site-library’
* installing *source* package ‘destiny’ ...
** using staged installation
** libs
using C++ compiler: ‘g++ (Ubuntu 11.4.0-1ubuntu1~22.04) 11.4.0’
using C++11
g++ -std=gnu++11 -I"/home/biocbuild/bbs-3.18-bioc/R/include" -DNDEBUG -I'/home/biocbuild/bbs-3.18-bioc/R/site-library/Rcpp/include' -I'/home/biocbuild/bbs-3.18-bioc/R/site-library/RcppEigen/include' -I'/home/biocbuild/bbs-3.18-bioc/R/library/grDevices/include' -I/usr/local/include -ggdb -fpic -g -O2 -Wall -c RcppExports.cpp -o RcppExports.o
In file included from /home/biocbuild/bbs-3.18-bioc/R/site-library/RcppEigen/include/Eigen/Core:205,
from /home/biocbuild/bbs-3.18-bioc/R/site-library/RcppEigen/include/Eigen/Dense:1,
from /home/biocbuild/bbs-3.18-bioc/R/site-library/RcppEigen/include/RcppEigenForward.h:28,
from /home/biocbuild/bbs-3.18-bioc/R/site-library/RcppEigen/include/RcppEigen.h:25,
from RcppExports.cpp:4:
/home/biocbuild/bbs-3.18-bioc/R/site-library/RcppEigen/include/Eigen/src/Core/arch/SSE/PacketMath.h:46:40: warning: ignoring attributes on template argument ‘__m128i’ [-Wignored-attributes]
46 | typedef eigen_packet_wrapper<__m128i, 0> Packet4i;
| ^
/home/biocbuild/bbs-3.18-bioc/R/site-library/RcppEigen/include/Eigen/src/Core/arch/SSE/PacketMath.h:47:40: warning: ignoring attributes on template argument ‘__m128i’ [-Wignored-attributes]
47 | typedef eigen_packet_wrapper<__m128i, 1> Packet16b;
| ^
/home/biocbuild/bbs-3.18-bioc/R/site-library/RcppEigen/include/Eigen/src/Core/arch/SSE/PacketMath.h:49:39: warning: ignoring attributes on template argument ‘__m128’ [-Wignored-attributes]
49 | template<> struct is_arithmetic<__m128> { enum { value = true }; };
| ^
/home/biocbuild/bbs-3.18-bioc/R/site-library/RcppEigen/include/Eigen/src/Core/arch/SSE/PacketMath.h:50:40: warning: ignoring attributes on template argument ‘__m128i’ [-Wignored-attributes]
50 | template<> struct is_arithmetic<__m128i> { enum { value = true }; };
| ^
/home/biocbuild/bbs-3.18-bioc/R/site-library/RcppEigen/include/Eigen/src/Core/arch/SSE/PacketMath.h:51:40: warning: ignoring attributes on template argument ‘__m128d’ [-Wignored-attributes]
51 | template<> struct is_arithmetic<__m128d> { enum { value = true }; };
| ^
/home/biocbuild/bbs-3.18-bioc/R/site-library/RcppEigen/include/Eigen/src/Core/arch/SSE/PacketMath.h:222:43: warning: ignoring attributes on template argument ‘Eigen::internal::Packet4f’ {aka ‘__m128’} [-Wignored-attributes]
222 | template<> struct unpacket_traits<Packet4f> {
| ^
/home/biocbuild/bbs-3.18-bioc/R/site-library/RcppEigen/include/Eigen/src/Core/arch/SSE/PacketMath.h:228:43: warning: ignoring attributes on template argument ‘Eigen::internal::Packet2d’ {aka ‘__m128d’} [-Wignored-attributes]
228 | template<> struct unpacket_traits<Packet2d> {
| ^
/home/biocbuild/bbs-3.18-bioc/R/site-library/RcppEigen/include/Eigen/src/Core/arch/SSE/PacketMath.h:1124:34: warning: ignoring attributes on template argument ‘Eigen::internal::Packet4f’ {aka ‘__m128’} [-Wignored-attributes]
1124 | ptranspose(PacketBlock<Packet4f,4>& kernel) {
| ^
/home/biocbuild/bbs-3.18-bioc/R/site-library/RcppEigen/include/Eigen/src/Core/arch/SSE/PacketMath.h:1129:34: warning: ignoring attributes on template argument ‘Eigen::internal::Packet2d’ {aka ‘__m128d’} [-Wignored-attributes]
1129 | ptranspose(PacketBlock<Packet2d,2>& kernel) {
| ^
In file included from /home/biocbuild/bbs-3.18-bioc/R/site-library/RcppEigen/include/Eigen/Core:174,
from /home/biocbuild/bbs-3.18-bioc/R/site-library/RcppEigen/include/Eigen/Dense:1,
from /home/biocbuild/bbs-3.18-bioc/R/site-library/RcppEigen/include/RcppEigenForward.h:28,
from /home/biocbuild/bbs-3.18-bioc/R/site-library/RcppEigen/include/RcppEigen.h:25,
from RcppExports.cpp:4:
/home/biocbuild/bbs-3.18-bioc/R/site-library/RcppEigen/include/Eigen/src/Core/arch/Default/ConjHelper.h:16:60: warning: ignoring attributes on template argument ‘Eigen::internal::Packet4f’ {aka ‘__m128’} [-Wignored-attributes]
16 | struct conj_helper<PACKET_REAL, PACKET_CPLX, false, false> { \
| ^
/home/biocbuild/bbs-3.18-bioc/R/site-library/RcppEigen/include/Eigen/src/Core/arch/SSE/Complex.h:173:1: note: in expansion of macro ‘EIGEN_MAKE_CONJ_HELPER_CPLX_REAL’
173 | EIGEN_MAKE_CONJ_HELPER_CPLX_REAL(Packet2cf,Packet4f)
| ^~~~~~~~~~~~~~~~~~~~~~~~~~~~~~~~
/home/biocbuild/bbs-3.18-bioc/R/site-library/RcppEigen/include/Eigen/src/Core/arch/Default/ConjHelper.h:29:60: warning: ignoring attributes on template argument ‘Eigen::internal::Packet4f’ {aka ‘__m128’} [-Wignored-attributes]
29 | struct conj_helper<PACKET_CPLX, PACKET_REAL, false, false> { \
| ^
/home/biocbuild/bbs-3.18-bioc/R/site-library/RcppEigen/include/Eigen/src/Core/arch/SSE/Complex.h:173:1: note: in expansion of macro ‘EIGEN_MAKE_CONJ_HELPER_CPLX_REAL’
173 | EIGEN_MAKE_CONJ_HELPER_CPLX_REAL(Packet2cf,Packet4f)
| ^~~~~~~~~~~~~~~~~~~~~~~~~~~~~~~~
/home/biocbuild/bbs-3.18-bioc/R/site-library/RcppEigen/include/Eigen/src/Core/arch/Default/ConjHelper.h:16:60: warning: ignoring attributes on template argument ‘Eigen::internal::Packet2d’ {aka ‘__m128d’} [-Wignored-attributes]
16 | struct conj_helper<PACKET_REAL, PACKET_CPLX, false, false> { \
| ^
/home/biocbuild/bbs-3.18-bioc/R/site-library/RcppEigen/include/Eigen/src/Core/arch/SSE/Complex.h:298:1: note: in expansion of macro ‘EIGEN_MAKE_CONJ_HELPER_CPLX_REAL’
298 | EIGEN_MAKE_CONJ_HELPER_CPLX_REAL(Packet1cd,Packet2d)
| ^~~~~~~~~~~~~~~~~~~~~~~~~~~~~~~~
/home/biocbuild/bbs-3.18-bioc/R/site-library/RcppEigen/include/Eigen/src/Core/arch/Default/ConjHelper.h:29:60: warning: ignoring attributes on template argument ‘Eigen::internal::Packet2d’ {aka ‘__m128d’} [-Wignored-attributes]
29 | struct conj_helper<PACKET_CPLX, PACKET_REAL, false, false> { \
| ^
/home/biocbuild/bbs-3.18-bioc/R/site-library/RcppEigen/include/Eigen/src/Core/arch/SSE/Complex.h:298:1: note: in expansion of macro ‘EIGEN_MAKE_CONJ_HELPER_CPLX_REAL’
298 | EIGEN_MAKE_CONJ_HELPER_CPLX_REAL(Packet1cd,Packet2d)
| ^~~~~~~~~~~~~~~~~~~~~~~~~~~~~~~~
In file included from /home/biocbuild/bbs-3.18-bioc/R/site-library/RcppEigen/include/Eigen/Core:165,
from /home/biocbuild/bbs-3.18-bioc/R/site-library/RcppEigen/include/Eigen/Dense:1,
from /home/biocbuild/bbs-3.18-bioc/R/site-library/RcppEigen/include/RcppEigenForward.h:28,
from /home/biocbuild/bbs-3.18-bioc/R/site-library/RcppEigen/include/RcppEigen.h:25,
from RcppExports.cpp:4:
/home/biocbuild/bbs-3.18-bioc/R/site-library/RcppEigen/include/Eigen/src/Core/util/XprHelper.h: In instantiation of ‘struct Eigen::internal::find_best_packet<float, 4>’:
/home/biocbuild/bbs-3.18-bioc/R/site-library/RcppEigen/include/Eigen/src/Core/Matrix.h:22:57: required from ‘struct Eigen::internal::traits<Eigen::Matrix<float, 4, 1> >’
/home/biocbuild/bbs-3.18-bioc/R/site-library/RcppEigen/include/Eigen/src/Geometry/Quaternion.h:266:49: required from ‘struct Eigen::internal::traits<Eigen::Quaternion<float> >’
/home/biocbuild/bbs-3.18-bioc/R/site-library/RcppEigen/include/Eigen/src/Geometry/arch/Geometry_SIMD.h:24:46: required from here
/home/biocbuild/bbs-3.18-bioc/R/site-library/RcppEigen/include/Eigen/src/Core/util/XprHelper.h:190:44: warning: ignoring attributes on template argument ‘Eigen::internal::packet_traits<float>::type’ {aka ‘__m128’} [-Wignored-attributes]
190 | bool Stop = Size==Dynamic || (Size%unpacket_traits<PacketType>::size)==0 || is_same<PacketType,typename unpacket_traits<PacketType>::half>::value>
| ~~~~~^~~~~~~~~~~~~~~~~~~~~~~~~~~~~~~~~~~
/home/biocbuild/bbs-3.18-bioc/R/site-library/RcppEigen/include/Eigen/src/Core/util/XprHelper.h:190:83: warning: ignoring attributes on template argument ‘Eigen::internal::packet_traits<float>::type’ {aka ‘__m128’} [-Wignored-attributes]
190 | bool Stop = Size==Dynamic || (Size%unpacket_traits<PacketType>::size)==0 || is_same<PacketType,typename unpacket_traits<PacketType>::half>::value>
| ~~~~~~~~~~~~~~~~~~~~~~~~~~~~~~~~~~~~~~~~~~~~~~~~~~~~~~~~~~~~~^~~~~~~~~~~~~~~~~~~~~~~~~~~~~~~~~~~~~~~~~~~~~~~~~~~~~~~~~~~~~~~~~~~~~~~~
/home/biocbuild/bbs-3.18-bioc/R/site-library/RcppEigen/include/Eigen/src/Core/util/XprHelper.h:190:83: warning: ignoring attributes on template argument ‘Eigen::internal::packet_traits<float>::type’ {aka ‘__m128’} [-Wignored-attributes]
/home/biocbuild/bbs-3.18-bioc/R/site-library/RcppEigen/include/Eigen/src/Core/util/XprHelper.h:190:83: warning: ignoring attributes on template argument ‘Eigen::internal::unpacket_traits<__vector(4) float>::half’ {aka ‘__m128’} [-Wignored-attributes]
/home/biocbuild/bbs-3.18-bioc/R/site-library/RcppEigen/include/Eigen/src/Core/util/XprHelper.h:208:88: warning: ignoring attributes on template argument ‘Eigen::internal::packet_traits<float>::type’ {aka ‘__m128’} [-Wignored-attributes]
208 | typedef typename find_best_packet_helper<Size,typename packet_traits<T>::type>::type type;
| ^~~~
In file included from /home/biocbuild/bbs-3.18-bioc/R/site-library/RcppEigen/include/Eigen/Core:271,
from /home/biocbuild/bbs-3.18-bioc/R/site-library/RcppEigen/include/Eigen/Dense:1,
from /home/biocbuild/bbs-3.18-bioc/R/site-library/RcppEigen/include/RcppEigenForward.h:28,
from /home/biocbuild/bbs-3.18-bioc/R/site-library/RcppEigen/include/RcppEigen.h:25,
from RcppExports.cpp:4:
/home/biocbuild/bbs-3.18-bioc/R/site-library/RcppEigen/include/Eigen/src/Core/DenseCoeffsBase.h: In instantiation of ‘class Eigen::DenseCoeffsBase<Eigen::Matrix<float, 4, 1>, 0>’:
/home/biocbuild/bbs-3.18-bioc/R/site-library/RcppEigen/include/Eigen/src/Core/DenseCoeffsBase.h:302:7: required from ‘class Eigen::DenseCoeffsBase<Eigen::Matrix<float, 4, 1>, 1>’
/home/biocbuild/bbs-3.18-bioc/R/site-library/RcppEigen/include/Eigen/src/Core/DenseCoeffsBase.h:555:7: required from ‘class Eigen::DenseCoeffsBase<Eigen::Matrix<float, 4, 1>, 3>’
/home/biocbuild/bbs-3.18-bioc/R/site-library/RcppEigen/include/Eigen/src/Core/DenseBase.h:41:34: required from ‘class Eigen::DenseBase<Eigen::Matrix<float, 4, 1> >’
/home/biocbuild/bbs-3.18-bioc/R/site-library/RcppEigen/include/Eigen/src/Core/MatrixBase.h:48:34: required from ‘class Eigen::MatrixBase<Eigen::Matrix<float, 4, 1> >’
/home/biocbuild/bbs-3.18-bioc/R/site-library/RcppEigen/include/Eigen/src/Core/PlainObjectBase.h:98:7: required from ‘class Eigen::PlainObjectBase<Eigen::Matrix<float, 4, 1> >’
/home/biocbuild/bbs-3.18-bioc/R/site-library/RcppEigen/include/Eigen/src/Core/Matrix.h:178:7: required from ‘class Eigen::Matrix<float, 4, 1>’
/home/biocbuild/bbs-3.18-bioc/R/site-library/RcppEigen/include/Eigen/src/Geometry/Quaternion.h:46:50: required from ‘class Eigen::QuaternionBase<Eigen::Quaternion<float> >’
/home/biocbuild/bbs-3.18-bioc/R/site-library/RcppEigen/include/Eigen/src/Geometry/Quaternion.h:273:7: required from ‘class Eigen::Quaternion<float>’
/home/biocbuild/bbs-3.18-bioc/R/site-library/RcppEigen/include/Eigen/src/Geometry/arch/Geometry_SIMD.h:27:3: required from here
/home/biocbuild/bbs-3.18-bioc/R/site-library/RcppEigen/include/Eigen/src/Core/DenseCoeffsBase.h:56:30: warning: ignoring attributes on template argument ‘Eigen::internal::packet_traits<float>::type’ {aka ‘__m128’} [-Wignored-attributes]
56 | >::type PacketReturnType;
| ^~~~~~~~~~~~~~~~
In file included from /home/biocbuild/bbs-3.18-bioc/R/site-library/RcppEigen/include/Eigen/Core:165,
from /home/biocbuild/bbs-3.18-bioc/R/site-library/RcppEigen/include/Eigen/Dense:1,
from /home/biocbuild/bbs-3.18-bioc/R/site-library/RcppEigen/include/RcppEigenForward.h:28,
from /home/biocbuild/bbs-3.18-bioc/R/site-library/RcppEigen/include/RcppEigen.h:25,
from RcppExports.cpp:4:
/home/biocbuild/bbs-3.18-bioc/R/site-library/RcppEigen/include/Eigen/src/Core/util/XprHelper.h: In instantiation of ‘struct Eigen::internal::find_best_packet<double, 4>’:
/home/biocbuild/bbs-3.18-bioc/R/site-library/RcppEigen/include/Eigen/src/Core/Matrix.h:22:57: required from ‘struct Eigen::internal::traits<Eigen::Matrix<double, 4, 1> >’
/home/biocbuild/bbs-3.18-bioc/R/site-library/RcppEigen/include/Eigen/src/Geometry/Quaternion.h:266:49: required from ‘struct Eigen::internal::traits<Eigen::Quaternion<double> >’
/home/biocbuild/bbs-3.18-bioc/R/site-library/RcppEigen/include/Eigen/src/Geometry/arch/Geometry_SIMD.h:98:47: required from here
/home/biocbuild/bbs-3.18-bioc/R/site-library/RcppEigen/include/Eigen/src/Core/util/XprHelper.h:190:44: warning: ignoring attributes on template argument ‘Eigen::internal::packet_traits<double>::type’ {aka ‘__m128d’} [-Wignored-attributes]
190 | bool Stop = Size==Dynamic || (Size%unpacket_traits<PacketType>::size)==0 || is_same<PacketType,typename unpacket_traits<PacketType>::half>::value>
| ~~~~~^~~~~~~~~~~~~~~~~~~~~~~~~~~~~~~~~~~
/home/biocbuild/bbs-3.18-bioc/R/site-library/RcppEigen/include/Eigen/src/Core/util/XprHelper.h:190:83: warning: ignoring attributes on template argument ‘Eigen::internal::packet_traits<double>::type’ {aka ‘__m128d’} [-Wignored-attributes]
190 | bool Stop = Size==Dynamic || (Size%unpacket_traits<PacketType>::size)==0 || is_same<PacketType,typename unpacket_traits<PacketType>::half>::value>
| ~~~~~~~~~~~~~~~~~~~~~~~~~~~~~~~~~~~~~~~~~~~~~~~~~~~~~~~~~~~~~^~~~~~~~~~~~~~~~~~~~~~~~~~~~~~~~~~~~~~~~~~~~~~~~~~~~~~~~~~~~~~~~~~~~~~~~
/home/biocbuild/bbs-3.18-bioc/R/site-library/RcppEigen/include/Eigen/src/Core/util/XprHelper.h:190:83: warning: ignoring attributes on template argument ‘Eigen::internal::packet_traits<double>::type’ {aka ‘__m128d’} [-Wignored-attributes]
/home/biocbuild/bbs-3.18-bioc/R/site-library/RcppEigen/include/Eigen/src/Core/util/XprHelper.h:190:83: warning: ignoring attributes on template argument ‘Eigen::internal::unpacket_traits<__vector(2) double>::half’ {aka ‘__m128d’} [-Wignored-attributes]
/home/biocbuild/bbs-3.18-bioc/R/site-library/RcppEigen/include/Eigen/src/Core/util/XprHelper.h:208:88: warning: ignoring attributes on template argument ‘Eigen::internal::packet_traits<double>::type’ {aka ‘__m128d’} [-Wignored-attributes]
208 | typedef typename find_best_packet_helper<Size,typename packet_traits<T>::type>::type type;
| ^~~~
In file included from /home/biocbuild/bbs-3.18-bioc/R/site-library/RcppEigen/include/Eigen/Core:271,
from /home/biocbuild/bbs-3.18-bioc/R/site-library/RcppEigen/include/Eigen/Dense:1,
from /home/biocbuild/bbs-3.18-bioc/R/site-library/RcppEigen/include/RcppEigenForward.h:28,
from /home/biocbuild/bbs-3.18-bioc/R/site-library/RcppEigen/include/RcppEigen.h:25,
from RcppExports.cpp:4:
/home/biocbuild/bbs-3.18-bioc/R/site-library/RcppEigen/include/Eigen/src/Core/DenseCoeffsBase.h: In instantiation of ‘class Eigen::DenseCoeffsBase<Eigen::Matrix<double, 4, 1>, 0>’:
/home/biocbuild/bbs-3.18-bioc/R/site-library/RcppEigen/include/Eigen/src/Core/DenseCoeffsBase.h:302:7: required from ‘class Eigen::DenseCoeffsBase<Eigen::Matrix<double, 4, 1>, 1>’
/home/biocbuild/bbs-3.18-bioc/R/site-library/RcppEigen/include/Eigen/src/Core/DenseCoeffsBase.h:555:7: required from ‘class Eigen::DenseCoeffsBase<Eigen::Matrix<double, 4, 1>, 3>’
/home/biocbuild/bbs-3.18-bioc/R/site-library/RcppEigen/include/Eigen/src/Core/DenseBase.h:41:34: required from ‘class Eigen::DenseBase<Eigen::Matrix<double, 4, 1> >’
/home/biocbuild/bbs-3.18-bioc/R/site-library/RcppEigen/include/Eigen/src/Core/MatrixBase.h:48:34: required from ‘class Eigen::MatrixBase<Eigen::Matrix<double, 4, 1> >’
/home/biocbuild/bbs-3.18-bioc/R/site-library/RcppEigen/include/Eigen/src/Core/PlainObjectBase.h:98:7: required from ‘class Eigen::PlainObjectBase<Eigen::Matrix<double, 4, 1> >’
/home/biocbuild/bbs-3.18-bioc/R/site-library/RcppEigen/include/Eigen/src/Core/Matrix.h:178:7: required from ‘class Eigen::Matrix<double, 4, 1>’
/home/biocbuild/bbs-3.18-bioc/R/site-library/RcppEigen/include/Eigen/src/Geometry/Quaternion.h:46:50: required from ‘class Eigen::QuaternionBase<Eigen::Quaternion<double> >’
/home/biocbuild/bbs-3.18-bioc/R/site-library/RcppEigen/include/Eigen/src/Geometry/Quaternion.h:273:7: required from ‘class Eigen::Quaternion<double>’
/home/biocbuild/bbs-3.18-bioc/R/site-library/RcppEigen/include/Eigen/src/Geometry/arch/Geometry_SIMD.h:102:3: required from here
/home/biocbuild/bbs-3.18-bioc/R/site-library/RcppEigen/include/Eigen/src/Core/DenseCoeffsBase.h:56:30: warning: ignoring attributes on template argument ‘Eigen::internal::packet_traits<double>::type’ {aka ‘__m128d’} [-Wignored-attributes]
56 | >::type PacketReturnType;
| ^~~~~~~~~~~~~~~~
In file included from /home/biocbuild/bbs-3.18-bioc/R/site-library/RcppEigen/include/Eigen/SparseCore:37,
from /home/biocbuild/bbs-3.18-bioc/R/site-library/RcppEigen/include/Eigen/Sparse:26,
from /home/biocbuild/bbs-3.18-bioc/R/site-library/RcppEigen/include/RcppEigenForward.h:29,
from /home/biocbuild/bbs-3.18-bioc/R/site-library/RcppEigen/include/RcppEigen.h:25,
from RcppExports.cpp:4:
/home/biocbuild/bbs-3.18-bioc/R/site-library/RcppEigen/include/Eigen/src/SparseCore/SparseMatrixBase.h: In instantiation of ‘class Eigen::SparseMatrixBase<Eigen::SparseMatrix<double, 0, int> >’:
/home/biocbuild/bbs-3.18-bioc/R/site-library/RcppEigen/include/Eigen/src/SparseCore/SparseCompressedBase.h:36:7: required from ‘class Eigen::SparseCompressedBase<Eigen::SparseMatrix<double, 0, int> >’
/home/biocbuild/bbs-3.18-bioc/R/site-library/RcppEigen/include/Eigen/src/SparseCore/SparseMatrix.h:96:7: required from ‘class Eigen::SparseMatrix<double, 0, int>’
/home/biocbuild/bbs-3.18-bioc/R/site-library/RcppEigen/include/unsupported/Eigen/src/IterativeSolvers/ConstrainedConjGrad.h:61:25: required from here
/home/biocbuild/bbs-3.18-bioc/R/site-library/RcppEigen/include/Eigen/src/SparseCore/SparseMatrixBase.h:47:30: warning: ignoring attributes on template argument ‘Eigen::internal::packet_traits<double>::type’ {aka ‘__m128d’} [-Wignored-attributes]
47 | >::type PacketReturnType;
| ^~~~~~~~~~~~~~~~
In file included from /home/biocbuild/bbs-3.18-bioc/R/site-library/RcppEigen/include/Eigen/Core:271,
from /home/biocbuild/bbs-3.18-bioc/R/site-library/RcppEigen/include/Eigen/Dense:1,
from /home/biocbuild/bbs-3.18-bioc/R/site-library/RcppEigen/include/RcppEigenForward.h:28,
from /home/biocbuild/bbs-3.18-bioc/R/site-library/RcppEigen/include/RcppEigen.h:25,
from RcppExports.cpp:4:
/home/biocbuild/bbs-3.18-bioc/R/site-library/RcppEigen/include/Eigen/src/Core/DenseCoeffsBase.h: In instantiation of ‘class Eigen::DenseCoeffsBase<Eigen::SparseMatrix<double, 0, int>, 0>’:
/home/biocbuild/bbs-3.18-bioc/R/site-library/RcppEigen/include/Eigen/src/SparseCore/SparseCompressedBase.h:336:80: required from ‘struct Eigen::internal::evaluator<Eigen::SparseCompressedBase<Eigen::SparseMatrix<double, 0, int> > >’
/home/biocbuild/bbs-3.18-bioc/R/site-library/RcppEigen/include/Eigen/src/SparseCore/SparseMatrix.h:1505:8: required from ‘struct Eigen::internal::evaluator<Eigen::SparseMatrix<double, 0, int> >’
/home/biocbuild/bbs-3.18-bioc/R/site-library/RcppEigen/include/Eigen/src/SparseCore/SparseAssign.h:77:20: required from ‘void Eigen::internal::assign_sparse_to_sparse(DstXprType&, const SrcXprType&) [with DstXprType = Eigen::SparseMatrix<double, 0, int>; SrcXprType = Eigen::SparseMatrix<double, 0, int>]’
/home/biocbuild/bbs-3.18-bioc/R/site-library/RcppEigen/include/Eigen/src/SparseCore/SparseAssign.h:132:28: required from ‘static void Eigen::internal::Assignment<DstXprType, SrcXprType, Functor, Eigen::internal::Sparse2Sparse>::run(DstXprType&, const SrcXprType&, const Eigen::internal::assign_op<typename DstXprType::Scalar, typename SrcXprType::Scalar>&) [with DstXprType = Eigen::SparseMatrix<double, 0, int>; SrcXprType = Eigen::SparseMatrix<double, 0, int>; Functor = Eigen::internal::assign_op<double, double>; typename SrcXprType::Scalar = double; typename DstXprType::Scalar = double]’
/home/biocbuild/bbs-3.18-bioc/R/site-library/RcppEigen/include/Eigen/src/Core/AssignEvaluator.h:890:49: required from ‘void Eigen::internal::call_assignment_no_alias(Dst&, const Src&, const Func&) [with Dst = Eigen::SparseMatrix<double, 0, int>; Src = Eigen::SparseMatrix<double, 0, int>; Func = Eigen::internal::assign_op<double, double>]’
/home/biocbuild/bbs-3.18-bioc/R/site-library/RcppEigen/include/Eigen/src/Core/AssignEvaluator.h:917:27: required from ‘void Eigen::internal::call_assignment_no_alias(Dst&, const Src&) [with Dst = Eigen::SparseMatrix<double, 0, int>; Src = Eigen::SparseMatrix<double, 0, int>]’
/home/biocbuild/bbs-3.18-bioc/R/site-library/RcppEigen/include/Eigen/src/SparseCore/SparseAssign.h:45:37: required from ‘Derived& Eigen::SparseMatrixBase<Derived>::operator=(const Derived&) [with Derived = Eigen::SparseMatrix<double, 0, int>]’
/home/biocbuild/bbs-3.18-bioc/R/site-library/RcppEigen/include/Eigen/src/SparseCore/SparseMatrix.h:778:26: required from ‘Eigen::SparseMatrix<_Scalar, _Flags, _StorageIndex>& Eigen::SparseMatrix<_Scalar, _Flags, _StorageIndex>::operator=(const Eigen::SparseMatrix<_Scalar, _Flags, _StorageIndex>&) [with _Scalar = double; int _Options = 0; _StorageIndex = int]’
/home/biocbuild/bbs-3.18-bioc/R/site-library/RcppEigen/include/Eigen/src/SparseCore/SparseMatrix.h:713:13: required from ‘Eigen::SparseMatrix<_Scalar, _Flags, _StorageIndex>::SparseMatrix(const Eigen::SparseMatrix<_Scalar, _Flags, _StorageIndex>&) [with _Scalar = double; int _Options = 0; _StorageIndex = int]’
RcppExports.cpp:27:48: required from here
/home/biocbuild/bbs-3.18-bioc/R/site-library/RcppEigen/include/Eigen/src/Core/DenseCoeffsBase.h:56:30: warning: ignoring attributes on template argument ‘Eigen::internal::packet_traits<double>::type’ {aka ‘__m128d’} [-Wignored-attributes]
56 | >::type PacketReturnType;
| ^~~~~~~~~~~~~~~~
g++ -std=gnu++11 -I"/home/biocbuild/bbs-3.18-bioc/R/include" -DNDEBUG -I'/home/biocbuild/bbs-3.18-bioc/R/site-library/Rcpp/include' -I'/home/biocbuild/bbs-3.18-bioc/R/site-library/RcppEigen/include' -I'/home/biocbuild/bbs-3.18-bioc/R/library/grDevices/include' -I/usr/local/include -ggdb -fpic -g -O2 -Wall -c censoring.cpp -o censoring.o
In file included from /home/biocbuild/bbs-3.18-bioc/R/site-library/RcppEigen/include/Eigen/Core:205,
from /home/biocbuild/bbs-3.18-bioc/R/site-library/RcppEigen/include/Eigen/Dense:1,
from /home/biocbuild/bbs-3.18-bioc/R/site-library/RcppEigen/include/RcppEigenForward.h:28,
from /home/biocbuild/bbs-3.18-bioc/R/site-library/RcppEigen/include/RcppEigen.h:25,
from censoring.cpp:7:
/home/biocbuild/bbs-3.18-bioc/R/site-library/RcppEigen/include/Eigen/src/Core/arch/SSE/PacketMath.h:46:40: warning: ignoring attributes on template argument ‘__m128i’ [-Wignored-attributes]
46 | typedef eigen_packet_wrapper<__m128i, 0> Packet4i;
| ^
/home/biocbuild/bbs-3.18-bioc/R/site-library/RcppEigen/include/Eigen/src/Core/arch/SSE/PacketMath.h:47:40: warning: ignoring attributes on template argument ‘__m128i’ [-Wignored-attributes]
47 | typedef eigen_packet_wrapper<__m128i, 1> Packet16b;
| ^
/home/biocbuild/bbs-3.18-bioc/R/site-library/RcppEigen/include/Eigen/src/Core/arch/SSE/PacketMath.h:49:39: warning: ignoring attributes on template argument ‘__m128’ [-Wignored-attributes]
49 | template<> struct is_arithmetic<__m128> { enum { value = true }; };
| ^
/home/biocbuild/bbs-3.18-bioc/R/site-library/RcppEigen/include/Eigen/src/Core/arch/SSE/PacketMath.h:50:40: warning: ignoring attributes on template argument ‘__m128i’ [-Wignored-attributes]
50 | template<> struct is_arithmetic<__m128i> { enum { value = true }; };
| ^
/home/biocbuild/bbs-3.18-bioc/R/site-library/RcppEigen/include/Eigen/src/Core/arch/SSE/PacketMath.h:51:40: warning: ignoring attributes on template argument ‘__m128d’ [-Wignored-attributes]
51 | template<> struct is_arithmetic<__m128d> { enum { value = true }; };
| ^
/home/biocbuild/bbs-3.18-bioc/R/site-library/RcppEigen/include/Eigen/src/Core/arch/SSE/PacketMath.h:222:43: warning: ignoring attributes on template argument ‘Eigen::internal::Packet4f’ {aka ‘__m128’} [-Wignored-attributes]
222 | template<> struct unpacket_traits<Packet4f> {
| ^
/home/biocbuild/bbs-3.18-bioc/R/site-library/RcppEigen/include/Eigen/src/Core/arch/SSE/PacketMath.h:228:43: warning: ignoring attributes on template argument ‘Eigen::internal::Packet2d’ {aka ‘__m128d’} [-Wignored-attributes]
228 | template<> struct unpacket_traits<Packet2d> {
| ^
/home/biocbuild/bbs-3.18-bioc/R/site-library/RcppEigen/include/Eigen/src/Core/arch/SSE/PacketMath.h:1124:34: warning: ignoring attributes on template argument ‘Eigen::internal::Packet4f’ {aka ‘__m128’} [-Wignored-attributes]
1124 | ptranspose(PacketBlock<Packet4f,4>& kernel) {
| ^
/home/biocbuild/bbs-3.18-bioc/R/site-library/RcppEigen/include/Eigen/src/Core/arch/SSE/PacketMath.h:1129:34: warning: ignoring attributes on template argument ‘Eigen::internal::Packet2d’ {aka ‘__m128d’} [-Wignored-attributes]
1129 | ptranspose(PacketBlock<Packet2d,2>& kernel) {
| ^
In file included from /home/biocbuild/bbs-3.18-bioc/R/site-library/RcppEigen/include/Eigen/Core:174,
from /home/biocbuild/bbs-3.18-bioc/R/site-library/RcppEigen/include/Eigen/Dense:1,
from /home/biocbuild/bbs-3.18-bioc/R/site-library/RcppEigen/include/RcppEigenForward.h:28,
from /home/biocbuild/bbs-3.18-bioc/R/site-library/RcppEigen/include/RcppEigen.h:25,
from censoring.cpp:7:
/home/biocbuild/bbs-3.18-bioc/R/site-library/RcppEigen/include/Eigen/src/Core/arch/Default/ConjHelper.h:16:60: warning: ignoring attributes on template argument ‘Eigen::internal::Packet4f’ {aka ‘__m128’} [-Wignored-attributes]
16 | struct conj_helper<PACKET_REAL, PACKET_CPLX, false, false> { \
| ^
/home/biocbuild/bbs-3.18-bioc/R/site-library/RcppEigen/include/Eigen/src/Core/arch/SSE/Complex.h:173:1: note: in expansion of macro ‘EIGEN_MAKE_CONJ_HELPER_CPLX_REAL’
173 | EIGEN_MAKE_CONJ_HELPER_CPLX_REAL(Packet2cf,Packet4f)
| ^~~~~~~~~~~~~~~~~~~~~~~~~~~~~~~~
/home/biocbuild/bbs-3.18-bioc/R/site-library/RcppEigen/include/Eigen/src/Core/arch/Default/ConjHelper.h:29:60: warning: ignoring attributes on template argument ‘Eigen::internal::Packet4f’ {aka ‘__m128’} [-Wignored-attributes]
29 | struct conj_helper<PACKET_CPLX, PACKET_REAL, false, false> { \
| ^
/home/biocbuild/bbs-3.18-bioc/R/site-library/RcppEigen/include/Eigen/src/Core/arch/SSE/Complex.h:173:1: note: in expansion of macro ‘EIGEN_MAKE_CONJ_HELPER_CPLX_REAL’
173 | EIGEN_MAKE_CONJ_HELPER_CPLX_REAL(Packet2cf,Packet4f)
| ^~~~~~~~~~~~~~~~~~~~~~~~~~~~~~~~
/home/biocbuild/bbs-3.18-bioc/R/site-library/RcppEigen/include/Eigen/src/Core/arch/Default/ConjHelper.h:16:60: warning: ignoring attributes on template argument ‘Eigen::internal::Packet2d’ {aka ‘__m128d’} [-Wignored-attributes]
16 | struct conj_helper<PACKET_REAL, PACKET_CPLX, false, false> { \
| ^
/home/biocbuild/bbs-3.18-bioc/R/site-library/RcppEigen/include/Eigen/src/Core/arch/SSE/Complex.h:298:1: note: in expansion of macro ‘EIGEN_MAKE_CONJ_HELPER_CPLX_REAL’
298 | EIGEN_MAKE_CONJ_HELPER_CPLX_REAL(Packet1cd,Packet2d)
| ^~~~~~~~~~~~~~~~~~~~~~~~~~~~~~~~
/home/biocbuild/bbs-3.18-bioc/R/site-library/RcppEigen/include/Eigen/src/Core/arch/Default/ConjHelper.h:29:60: warning: ignoring attributes on template argument ‘Eigen::internal::Packet2d’ {aka ‘__m128d’} [-Wignored-attributes]
29 | struct conj_helper<PACKET_CPLX, PACKET_REAL, false, false> { \
| ^
/home/biocbuild/bbs-3.18-bioc/R/site-library/RcppEigen/include/Eigen/src/Core/arch/SSE/Complex.h:298:1: note: in expansion of macro ‘EIGEN_MAKE_CONJ_HELPER_CPLX_REAL’
298 | EIGEN_MAKE_CONJ_HELPER_CPLX_REAL(Packet1cd,Packet2d)
| ^~~~~~~~~~~~~~~~~~~~~~~~~~~~~~~~
In file included from /home/biocbuild/bbs-3.18-bioc/R/site-library/RcppEigen/include/Eigen/Core:165,
from /home/biocbuild/bbs-3.18-bioc/R/site-library/RcppEigen/include/Eigen/Dense:1,
from /home/biocbuild/bbs-3.18-bioc/R/site-library/RcppEigen/include/RcppEigenForward.h:28,
from /home/biocbuild/bbs-3.18-bioc/R/site-library/RcppEigen/include/RcppEigen.h:25,
from censoring.cpp:7:
/home/biocbuild/bbs-3.18-bioc/R/site-library/RcppEigen/include/Eigen/src/Core/util/XprHelper.h: In instantiation of ‘struct Eigen::internal::find_best_packet<float, 4>’:
/home/biocbuild/bbs-3.18-bioc/R/site-library/RcppEigen/include/Eigen/src/Core/Matrix.h:22:57: required from ‘struct Eigen::internal::traits<Eigen::Matrix<float, 4, 1> >’
/home/biocbuild/bbs-3.18-bioc/R/site-library/RcppEigen/include/Eigen/src/Geometry/Quaternion.h:266:49: required from ‘struct Eigen::internal::traits<Eigen::Quaternion<float> >’
/home/biocbuild/bbs-3.18-bioc/R/site-library/RcppEigen/include/Eigen/src/Geometry/arch/Geometry_SIMD.h:24:46: required from here
/home/biocbuild/bbs-3.18-bioc/R/site-library/RcppEigen/include/Eigen/src/Core/util/XprHelper.h:190:44: warning: ignoring attributes on template argument ‘Eigen::internal::packet_traits<float>::type’ {aka ‘__m128’} [-Wignored-attributes]
190 | bool Stop = Size==Dynamic || (Size%unpacket_traits<PacketType>::size)==0 || is_same<PacketType,typename unpacket_traits<PacketType>::half>::value>
| ~~~~~^~~~~~~~~~~~~~~~~~~~~~~~~~~~~~~~~~~
/home/biocbuild/bbs-3.18-bioc/R/site-library/RcppEigen/include/Eigen/src/Core/util/XprHelper.h:190:83: warning: ignoring attributes on template argument ‘Eigen::internal::packet_traits<float>::type’ {aka ‘__m128’} [-Wignored-attributes]
190 | bool Stop = Size==Dynamic || (Size%unpacket_traits<PacketType>::size)==0 || is_same<PacketType,typename unpacket_traits<PacketType>::half>::value>
| ~~~~~~~~~~~~~~~~~~~~~~~~~~~~~~~~~~~~~~~~~~~~~~~~~~~~~~~~~~~~~^~~~~~~~~~~~~~~~~~~~~~~~~~~~~~~~~~~~~~~~~~~~~~~~~~~~~~~~~~~~~~~~~~~~~~~~
/home/biocbuild/bbs-3.18-bioc/R/site-library/RcppEigen/include/Eigen/src/Core/util/XprHelper.h:190:83: warning: ignoring attributes on template argument ‘Eigen::internal::packet_traits<float>::type’ {aka ‘__m128’} [-Wignored-attributes]
/home/biocbuild/bbs-3.18-bioc/R/site-library/RcppEigen/include/Eigen/src/Core/util/XprHelper.h:190:83: warning: ignoring attributes on template argument ‘Eigen::internal::unpacket_traits<__vector(4) float>::half’ {aka ‘__m128’} [-Wignored-attributes]
/home/biocbuild/bbs-3.18-bioc/R/site-library/RcppEigen/include/Eigen/src/Core/util/XprHelper.h:208:88: warning: ignoring attributes on template argument ‘Eigen::internal::packet_traits<float>::type’ {aka ‘__m128’} [-Wignored-attributes]
208 | typedef typename find_best_packet_helper<Size,typename packet_traits<T>::type>::type type;
| ^~~~
In file included from /home/biocbuild/bbs-3.18-bioc/R/site-library/RcppEigen/include/Eigen/Core:271,
from /home/biocbuild/bbs-3.18-bioc/R/site-library/RcppEigen/include/Eigen/Dense:1,
from /home/biocbuild/bbs-3.18-bioc/R/site-library/RcppEigen/include/RcppEigenForward.h:28,
from /home/biocbuild/bbs-3.18-bioc/R/site-library/RcppEigen/include/RcppEigen.h:25,
from censoring.cpp:7:
/home/biocbuild/bbs-3.18-bioc/R/site-library/RcppEigen/include/Eigen/src/Core/DenseCoeffsBase.h: In instantiation of ‘class Eigen::DenseCoeffsBase<Eigen::Matrix<float, 4, 1>, 0>’:
/home/biocbuild/bbs-3.18-bioc/R/site-library/RcppEigen/include/Eigen/src/Core/DenseCoeffsBase.h:302:7: required from ‘class Eigen::DenseCoeffsBase<Eigen::Matrix<float, 4, 1>, 1>’
/home/biocbuild/bbs-3.18-bioc/R/site-library/RcppEigen/include/Eigen/src/Core/DenseCoeffsBase.h:555:7: required from ‘class Eigen::DenseCoeffsBase<Eigen::Matrix<float, 4, 1>, 3>’
/home/biocbuild/bbs-3.18-bioc/R/site-library/RcppEigen/include/Eigen/src/Core/DenseBase.h:41:34: required from ‘class Eigen::DenseBase<Eigen::Matrix<float, 4, 1> >’
/home/biocbuild/bbs-3.18-bioc/R/site-library/RcppEigen/include/Eigen/src/Core/MatrixBase.h:48:34: required from ‘class Eigen::MatrixBase<Eigen::Matrix<float, 4, 1> >’
/home/biocbuild/bbs-3.18-bioc/R/site-library/RcppEigen/include/Eigen/src/Core/PlainObjectBase.h:98:7: required from ‘class Eigen::PlainObjectBase<Eigen::Matrix<float, 4, 1> >’
/home/biocbuild/bbs-3.18-bioc/R/site-library/RcppEigen/include/Eigen/src/Core/Matrix.h:178:7: required from ‘class Eigen::Matrix<float, 4, 1>’
/home/biocbuild/bbs-3.18-bioc/R/site-library/RcppEigen/include/Eigen/src/Geometry/Quaternion.h:46:50: required from ‘class Eigen::QuaternionBase<Eigen::Quaternion<float> >’
/home/biocbuild/bbs-3.18-bioc/R/site-library/RcppEigen/include/Eigen/src/Geometry/Quaternion.h:273:7: required from ‘class Eigen::Quaternion<float>’
/home/biocbuild/bbs-3.18-bioc/R/site-library/RcppEigen/include/Eigen/src/Geometry/arch/Geometry_SIMD.h:27:3: required from here
/home/biocbuild/bbs-3.18-bioc/R/site-library/RcppEigen/include/Eigen/src/Core/DenseCoeffsBase.h:56:30: warning: ignoring attributes on template argument ‘Eigen::internal::packet_traits<float>::type’ {aka ‘__m128’} [-Wignored-attributes]
56 | >::type PacketReturnType;
| ^~~~~~~~~~~~~~~~
In file included from /home/biocbuild/bbs-3.18-bioc/R/site-library/RcppEigen/include/Eigen/Core:165,
from /home/biocbuild/bbs-3.18-bioc/R/site-library/RcppEigen/include/Eigen/Dense:1,
from /home/biocbuild/bbs-3.18-bioc/R/site-library/RcppEigen/include/RcppEigenForward.h:28,
from /home/biocbuild/bbs-3.18-bioc/R/site-library/RcppEigen/include/RcppEigen.h:25,
from censoring.cpp:7:
/home/biocbuild/bbs-3.18-bioc/R/site-library/RcppEigen/include/Eigen/src/Core/util/XprHelper.h: In instantiation of ‘struct Eigen::internal::find_best_packet<double, 4>’:
/home/biocbuild/bbs-3.18-bioc/R/site-library/RcppEigen/include/Eigen/src/Core/Matrix.h:22:57: required from ‘struct Eigen::internal::traits<Eigen::Matrix<double, 4, 1> >’
/home/biocbuild/bbs-3.18-bioc/R/site-library/RcppEigen/include/Eigen/src/Geometry/Quaternion.h:266:49: required from ‘struct Eigen::internal::traits<Eigen::Quaternion<double> >’
/home/biocbuild/bbs-3.18-bioc/R/site-library/RcppEigen/include/Eigen/src/Geometry/arch/Geometry_SIMD.h:98:47: required from here
/home/biocbuild/bbs-3.18-bioc/R/site-library/RcppEigen/include/Eigen/src/Core/util/XprHelper.h:190:44: warning: ignoring attributes on template argument ‘Eigen::internal::packet_traits<double>::type’ {aka ‘__m128d’} [-Wignored-attributes]
190 | bool Stop = Size==Dynamic || (Size%unpacket_traits<PacketType>::size)==0 || is_same<PacketType,typename unpacket_traits<PacketType>::half>::value>
| ~~~~~^~~~~~~~~~~~~~~~~~~~~~~~~~~~~~~~~~~
/home/biocbuild/bbs-3.18-bioc/R/site-library/RcppEigen/include/Eigen/src/Core/util/XprHelper.h:190:83: warning: ignoring attributes on template argument ‘Eigen::internal::packet_traits<double>::type’ {aka ‘__m128d’} [-Wignored-attributes]
190 | bool Stop = Size==Dynamic || (Size%unpacket_traits<PacketType>::size)==0 || is_same<PacketType,typename unpacket_traits<PacketType>::half>::value>
| ~~~~~~~~~~~~~~~~~~~~~~~~~~~~~~~~~~~~~~~~~~~~~~~~~~~~~~~~~~~~~^~~~~~~~~~~~~~~~~~~~~~~~~~~~~~~~~~~~~~~~~~~~~~~~~~~~~~~~~~~~~~~~~~~~~~~~
/home/biocbuild/bbs-3.18-bioc/R/site-library/RcppEigen/include/Eigen/src/Core/util/XprHelper.h:190:83: warning: ignoring attributes on template argument ‘Eigen::internal::packet_traits<double>::type’ {aka ‘__m128d’} [-Wignored-attributes]
/home/biocbuild/bbs-3.18-bioc/R/site-library/RcppEigen/include/Eigen/src/Core/util/XprHelper.h:190:83: warning: ignoring attributes on template argument ‘Eigen::internal::unpacket_traits<__vector(2) double>::half’ {aka ‘__m128d’} [-Wignored-attributes]
/home/biocbuild/bbs-3.18-bioc/R/site-library/RcppEigen/include/Eigen/src/Core/util/XprHelper.h:208:88: warning: ignoring attributes on template argument ‘Eigen::internal::packet_traits<double>::type’ {aka ‘__m128d’} [-Wignored-attributes]
208 | typedef typename find_best_packet_helper<Size,typename packet_traits<T>::type>::type type;
| ^~~~
In file included from /home/biocbuild/bbs-3.18-bioc/R/site-library/RcppEigen/include/Eigen/Core:271,
from /home/biocbuild/bbs-3.18-bioc/R/site-library/RcppEigen/include/Eigen/Dense:1,
from /home/biocbuild/bbs-3.18-bioc/R/site-library/RcppEigen/include/RcppEigenForward.h:28,
from /home/biocbuild/bbs-3.18-bioc/R/site-library/RcppEigen/include/RcppEigen.h:25,
from censoring.cpp:7:
/home/biocbuild/bbs-3.18-bioc/R/site-library/RcppEigen/include/Eigen/src/Core/DenseCoeffsBase.h: In instantiation of ‘class Eigen::DenseCoeffsBase<Eigen::Matrix<double, 4, 1>, 0>’:
/home/biocbuild/bbs-3.18-bioc/R/site-library/RcppEigen/include/Eigen/src/Core/DenseCoeffsBase.h:302:7: required from ‘class Eigen::DenseCoeffsBase<Eigen::Matrix<double, 4, 1>, 1>’
/home/biocbuild/bbs-3.18-bioc/R/site-library/RcppEigen/include/Eigen/src/Core/DenseCoeffsBase.h:555:7: required from ‘class Eigen::DenseCoeffsBase<Eigen::Matrix<double, 4, 1>, 3>’
/home/biocbuild/bbs-3.18-bioc/R/site-library/RcppEigen/include/Eigen/src/Core/DenseBase.h:41:34: required from ‘class Eigen::DenseBase<Eigen::Matrix<double, 4, 1> >’
/home/biocbuild/bbs-3.18-bioc/R/site-library/RcppEigen/include/Eigen/src/Core/MatrixBase.h:48:34: required from ‘class Eigen::MatrixBase<Eigen::Matrix<double, 4, 1> >’
/home/biocbuild/bbs-3.18-bioc/R/site-library/RcppEigen/include/Eigen/src/Core/PlainObjectBase.h:98:7: required from ‘class Eigen::PlainObjectBase<Eigen::Matrix<double, 4, 1> >’
/home/biocbuild/bbs-3.18-bioc/R/site-library/RcppEigen/include/Eigen/src/Core/Matrix.h:178:7: required from ‘class Eigen::Matrix<double, 4, 1>’
/home/biocbuild/bbs-3.18-bioc/R/site-library/RcppEigen/include/Eigen/src/Geometry/Quaternion.h:46:50: required from ‘class Eigen::QuaternionBase<Eigen::Quaternion<double> >’
/home/biocbuild/bbs-3.18-bioc/R/site-library/RcppEigen/include/Eigen/src/Geometry/Quaternion.h:273:7: required from ‘class Eigen::Quaternion<double>’
/home/biocbuild/bbs-3.18-bioc/R/site-library/RcppEigen/include/Eigen/src/Geometry/arch/Geometry_SIMD.h:102:3: required from here
/home/biocbuild/bbs-3.18-bioc/R/site-library/RcppEigen/include/Eigen/src/Core/DenseCoeffsBase.h:56:30: warning: ignoring attributes on template argument ‘Eigen::internal::packet_traits<double>::type’ {aka ‘__m128d’} [-Wignored-attributes]
56 | >::type PacketReturnType;
| ^~~~~~~~~~~~~~~~
In file included from /home/biocbuild/bbs-3.18-bioc/R/site-library/RcppEigen/include/Eigen/SparseCore:37,
from /home/biocbuild/bbs-3.18-bioc/R/site-library/RcppEigen/include/Eigen/Sparse:26,
from /home/biocbuild/bbs-3.18-bioc/R/site-library/RcppEigen/include/RcppEigenForward.h:29,
from /home/biocbuild/bbs-3.18-bioc/R/site-library/RcppEigen/include/RcppEigen.h:25,
from censoring.cpp:7:
/home/biocbuild/bbs-3.18-bioc/R/site-library/RcppEigen/include/Eigen/src/SparseCore/SparseMatrixBase.h: In instantiation of ‘class Eigen::SparseMatrixBase<Eigen::SparseMatrix<double, 0, int> >’:
/home/biocbuild/bbs-3.18-bioc/R/site-library/RcppEigen/include/Eigen/src/SparseCore/SparseCompressedBase.h:36:7: required from ‘class Eigen::SparseCompressedBase<Eigen::SparseMatrix<double, 0, int> >’
/home/biocbuild/bbs-3.18-bioc/R/site-library/RcppEigen/include/Eigen/src/SparseCore/SparseMatrix.h:96:7: required from ‘class Eigen::SparseMatrix<double, 0, int>’
/home/biocbuild/bbs-3.18-bioc/R/site-library/RcppEigen/include/unsupported/Eigen/src/IterativeSolvers/ConstrainedConjGrad.h:61:25: required from here
/home/biocbuild/bbs-3.18-bioc/R/site-library/RcppEigen/include/Eigen/src/SparseCore/SparseMatrixBase.h:47:30: warning: ignoring attributes on template argument ‘Eigen::internal::packet_traits<double>::type’ {aka ‘__m128d’} [-Wignored-attributes]
47 | >::type PacketReturnType;
| ^~~~~~~~~~~~~~~~
In file included from /home/biocbuild/bbs-3.18-bioc/R/site-library/RcppEigen/include/Eigen/Core:271,
from /home/biocbuild/bbs-3.18-bioc/R/site-library/RcppEigen/include/Eigen/Dense:1,
from /home/biocbuild/bbs-3.18-bioc/R/site-library/RcppEigen/include/RcppEigenForward.h:28,
from /home/biocbuild/bbs-3.18-bioc/R/site-library/RcppEigen/include/RcppEigen.h:25,
from censoring.cpp:7:
/home/biocbuild/bbs-3.18-bioc/R/site-library/RcppEigen/include/Eigen/src/Core/DenseCoeffsBase.h: In instantiation of ‘class Eigen::DenseCoeffsBase<Eigen::SparseMatrix<double, 0, int>, 0>’:
/home/biocbuild/bbs-3.18-bioc/R/site-library/RcppEigen/include/Eigen/src/SparseCore/SparseCompressedBase.h:336:80: required from ‘struct Eigen::internal::evaluator<Eigen::SparseCompressedBase<Eigen::SparseMatrix<double, 0, int> > >’
/home/biocbuild/bbs-3.18-bioc/R/site-library/RcppEigen/include/Eigen/src/SparseCore/SparseMatrix.h:1505:8: required from ‘struct Eigen::internal::evaluator<Eigen::SparseMatrix<double, 0, int> >’
/home/biocbuild/bbs-3.18-bioc/R/site-library/RcppEigen/include/Eigen/src/SparseCore/SparseAssign.h:77:20: required from ‘void Eigen::internal::assign_sparse_to_sparse(DstXprType&, const SrcXprType&) [with DstXprType = Eigen::SparseMatrix<double, 0, int>; SrcXprType = Eigen::SparseMatrix<double, 0, int>]’
/home/biocbuild/bbs-3.18-bioc/R/site-library/RcppEigen/include/Eigen/src/SparseCore/SparseAssign.h:132:28: required from ‘static void Eigen::internal::Assignment<DstXprType, SrcXprType, Functor, Eigen::internal::Sparse2Sparse>::run(DstXprType&, const SrcXprType&, const Eigen::internal::assign_op<typename DstXprType::Scalar, typename SrcXprType::Scalar>&) [with DstXprType = Eigen::SparseMatrix<double, 0, int>; SrcXprType = Eigen::SparseMatrix<double, 0, int>; Functor = Eigen::internal::assign_op<double, double>; typename SrcXprType::Scalar = double; typename DstXprType::Scalar = double]’
/home/biocbuild/bbs-3.18-bioc/R/site-library/RcppEigen/include/Eigen/src/Core/AssignEvaluator.h:890:49: required from ‘void Eigen::internal::call_assignment_no_alias(Dst&, const Src&, const Func&) [with Dst = Eigen::SparseMatrix<double, 0, int>; Src = Eigen::SparseMatrix<double, 0, int>; Func = Eigen::internal::assign_op<double, double>]’
/home/biocbuild/bbs-3.18-bioc/R/site-library/RcppEigen/include/Eigen/src/Core/AssignEvaluator.h:917:27: required from ‘void Eigen::internal::call_assignment_no_alias(Dst&, const Src&) [with Dst = Eigen::SparseMatrix<double, 0, int>; Src = Eigen::SparseMatrix<double, 0, int>]’
/home/biocbuild/bbs-3.18-bioc/R/site-library/RcppEigen/include/Eigen/src/SparseCore/SparseAssign.h:45:37: required from ‘Derived& Eigen::SparseMatrixBase<Derived>::operator=(const Derived&) [with Derived = Eigen::SparseMatrix<double, 0, int>]’
/home/biocbuild/bbs-3.18-bioc/R/site-library/RcppEigen/include/Eigen/src/SparseCore/SparseMatrix.h:778:26: required from ‘Eigen::SparseMatrix<_Scalar, _Flags, _StorageIndex>& Eigen::SparseMatrix<_Scalar, _Flags, _StorageIndex>::operator=(const Eigen::SparseMatrix<_Scalar, _Flags, _StorageIndex>&) [with _Scalar = double; int _Options = 0; _StorageIndex = int]’
/home/biocbuild/bbs-3.18-bioc/R/site-library/RcppEigen/include/Eigen/src/SparseCore/SparseMatrix.h:713:13: required from ‘Eigen::SparseMatrix<_Scalar, _Flags, _StorageIndex>::SparseMatrix(const Eigen::SparseMatrix<_Scalar, _Flags, _StorageIndex>&) [with _Scalar = double; int _Options = 0; _StorageIndex = int]’
censoring.cpp:105:17: required from here
/home/biocbuild/bbs-3.18-bioc/R/site-library/RcppEigen/include/Eigen/src/Core/DenseCoeffsBase.h:56:30: warning: ignoring attributes on template argument ‘Eigen::internal::packet_traits<double>::type’ {aka ‘__m128d’} [-Wignored-attributes]
56 | >::type PacketReturnType;
| ^~~~~~~~~~~~~~~~
g++ -std=gnu++11 -I"/home/biocbuild/bbs-3.18-bioc/R/include" -DNDEBUG -I'/home/biocbuild/bbs-3.18-bioc/R/site-library/Rcpp/include' -I'/home/biocbuild/bbs-3.18-bioc/R/site-library/RcppEigen/include' -I'/home/biocbuild/bbs-3.18-bioc/R/library/grDevices/include' -I/usr/local/include -ggdb -fpic -g -O2 -Wall -c utils.cpp -o utils.o
g++ -std=gnu++11 -shared -L/home/biocbuild/bbs-3.18-bioc/R/lib -L/usr/local/lib -o destiny.so RcppExports.o censoring.o utils.o -L/home/biocbuild/bbs-3.18-bioc/R/lib -lR
installing to /home/biocbuild/bbs-3.18-bioc/R/site-library/00LOCK-destiny/00new/destiny/libs
** R
** data
** demo
** inst
** byte-compile and prepare package for lazy loading
** help
*** installing help indices
** building package indices
** installing vignettes
** testing if installed package can be loaded from temporary location
** checking absolute paths in shared objects and dynamic libraries
** testing if installed package can be loaded from final location
** testing if installed package keeps a record of temporary installation path
* DONE (destiny)
destiny.Rcheck/tests/testthat.Rout
R version 4.3.3 (2024-02-29) -- "Angel Food Cake"
Copyright (C) 2024 The R Foundation for Statistical Computing
Platform: x86_64-pc-linux-gnu (64-bit)
R is free software and comes with ABSOLUTELY NO WARRANTY.
You are welcome to redistribute it under certain conditions.
Type 'license()' or 'licence()' for distribution details.
R is a collaborative project with many contributors.
Type 'contributors()' for more information and
'citation()' on how to cite R or R packages in publications.
Type 'demo()' for some demos, 'help()' for on-line help, or
'help.start()' for an HTML browser interface to help.
Type 'q()' to quit R.
> library(testthat)
> library(destiny)
>
> test_check('destiny')
[ FAIL 0 | WARN 0 | SKIP 1 | PASS 67 ]
══ Skipped tests (1) ═══════════════════════════════════════════════════════════
• Not yet stable (1): 'test_gr.r:23:2'
[ FAIL 0 | WARN 0 | SKIP 1 | PASS 67 ]
>
> proc.time()
user system elapsed
12.721 0.581 13.292
destiny.Rcheck/destiny-Ex.timings
| name | user | system | elapsed | |
| DPT-matrix-methods | 1.904 | 0.140 | 2.044 | |
| DPT-methods | 1.337 | 0.048 | 1.386 | |
| DPT | 0.624 | 0.032 | 0.656 | |
| DiffusionMap-accessors | 0.315 | 0.014 | 0.330 | |
| DiffusionMap-class | 2.621 | 0.022 | 2.642 | |
| DiffusionMap-methods | 0.269 | 0.016 | 0.285 | |
| ExpressionSet-helpers | 0.072 | 0.003 | 0.077 | |
| Gene-Relevance-methods | 1.17 | 0.02 | 1.19 | |
| Gene-Relevance-plotting | 5.388 | 0.111 | 5.500 | |
| Gene-Relevance | 2.654 | 0.124 | 2.779 | |
| Sigmas-class | 0.865 | 0.096 | 0.961 | |
| coercions | 0.299 | 0.000 | 0.300 | |
| colorlegend | 0.008 | 0.004 | 0.012 | |
| cube_helix | 0.006 | 0.000 | 0.006 | |
| destiny-generics | 0.340 | 0.015 | 0.355 | |
| destiny | 3.710 | 0.048 | 3.759 | |
| dm_predict | 0.369 | 0.000 | 0.370 | |
| eig_decomp | 0.001 | 0.000 | 0.001 | |
| extractions | 0.599 | 0.023 | 0.623 | |
| find_dm_k | 0.011 | 0.001 | 0.011 | |
| find_sigmas | 0.375 | 0.020 | 0.395 | |
| find_tips | 0.307 | 0.004 | 0.311 | |
| l_which | 0.000 | 0.000 | 0.001 | |
| plot.DPT | 2.376 | 0.055 | 2.432 | |
| plot.DiffusionMap | 0.423 | 0.040 | 0.463 | |
| plot.Sigmas | 0.822 | 0.085 | 0.906 | |
| projection_dist | 0.162 | 0.000 | 0.163 | |
| random_root | 0.290 | 0.016 | 0.306 | |