| Back to Multiple platform build/check report for BioC 3.18: simplified long |
|
This page was generated on 2024-03-04 11:37:16 -0500 (Mon, 04 Mar 2024).
| Hostname | OS | Arch (*) | R version | Installed pkgs |
|---|---|---|---|---|
| nebbiolo2 | Linux (Ubuntu 22.04.3 LTS) | x86_64 | 4.3.2 Patched (2023-11-13 r85521) -- "Eye Holes" | 4692 |
| palomino4 | Windows Server 2022 Datacenter | x64 | 4.3.2 (2023-10-31 ucrt) -- "Eye Holes" | 4445 |
| lconway | macOS 12.7.1 Monterey | x86_64 | 4.3.2 Patched (2023-11-01 r85457) -- "Eye Holes" | 4466 |
| Click on any hostname to see more info about the system (e.g. compilers) (*) as reported by 'uname -p', except on Windows and Mac OS X | ||||
| Package 504/2266 | Hostname | OS / Arch | INSTALL | BUILD | CHECK | BUILD BIN | ||||||||
| dce 1.10.0 (landing page) Kim Philipp Jablonski
| nebbiolo2 | Linux (Ubuntu 22.04.3 LTS) / x86_64 | OK | OK | OK | |||||||||
| palomino4 | Windows Server 2022 Datacenter / x64 | OK | OK | OK | OK | |||||||||
| lconway | macOS 12.7.1 Monterey / x86_64 | OK | OK | OK | OK | |||||||||
| kjohnson1 | macOS 13.6.1 Ventura / arm64 | see weekly results here | ||||||||||||
|
To the developers/maintainers of the dce package: - Allow up to 24 hours (and sometimes 48 hours) for your latest push to git@git.bioconductor.org:packages/dce.git to reflect on this report. See Troubleshooting Build Report for more information. - Use the following Renviron settings to reproduce errors and warnings. - If 'R CMD check' started to fail recently on the Linux builder(s) over a missing dependency, add the missing dependency to 'Suggests:' in your DESCRIPTION file. See Renviron.bioc for more information. |
| Package: dce |
| Version: 1.10.0 |
| Command: /Library/Frameworks/R.framework/Resources/bin/R CMD check --install=check:dce.install-out.txt --library=/Library/Frameworks/R.framework/Resources/library --no-vignettes --timings dce_1.10.0.tar.gz |
| StartedAt: 2024-03-03 20:02:20 -0500 (Sun, 03 Mar 2024) |
| EndedAt: 2024-03-03 20:09:18 -0500 (Sun, 03 Mar 2024) |
| EllapsedTime: 417.6 seconds |
| RetCode: 0 |
| Status: OK |
| CheckDir: dce.Rcheck |
| Warnings: 0 |
##############################################################################
##############################################################################
###
### Running command:
###
### /Library/Frameworks/R.framework/Resources/bin/R CMD check --install=check:dce.install-out.txt --library=/Library/Frameworks/R.framework/Resources/library --no-vignettes --timings dce_1.10.0.tar.gz
###
##############################################################################
##############################################################################
* using log directory ‘/Users/biocbuild/bbs-3.18-bioc/meat/dce.Rcheck’
* using R version 4.3.2 Patched (2023-11-01 r85457)
* using platform: x86_64-apple-darwin20 (64-bit)
* R was compiled by
Apple clang version 14.0.3 (clang-1403.0.22.14.1)
GNU Fortran (GCC) 12.2.0
* running under: macOS Monterey 12.7.1
* using session charset: UTF-8
* using option ‘--no-vignettes’
* checking for file ‘dce/DESCRIPTION’ ... OK
* checking extension type ... Package
* this is package ‘dce’ version ‘1.10.0’
* package encoding: UTF-8
* checking package namespace information ... OK
* checking package dependencies ... OK
* checking if this is a source package ... OK
* checking if there is a namespace ... OK
* checking for hidden files and directories ... OK
* checking for portable file names ... OK
* checking for sufficient/correct file permissions ... OK
* checking whether package ‘dce’ can be installed ... OK
* checking installed package size ... OK
* checking package directory ... OK
* checking ‘build’ directory ... OK
* checking DESCRIPTION meta-information ... OK
* checking top-level files ... OK
* checking for left-over files ... OK
* checking index information ... OK
* checking package subdirectories ... OK
* checking R files for non-ASCII characters ... OK
* checking R files for syntax errors ... OK
* checking whether the package can be loaded ... OK
* checking whether the package can be loaded with stated dependencies ... OK
* checking whether the package can be unloaded cleanly ... OK
* checking whether the namespace can be loaded with stated dependencies ... OK
* checking whether the namespace can be unloaded cleanly ... OK
* checking dependencies in R code ... OK
* checking S3 generic/method consistency ... OK
* checking replacement functions ... OK
* checking foreign function calls ... OK
* checking R code for possible problems ... NOTE
plot_network: no visible binding for global variable ‘.’
Undefined global functions or variables:
.
* checking Rd files ... OK
* checking Rd metadata ... OK
* checking Rd cross-references ... OK
* checking for missing documentation entries ... OK
* checking for code/documentation mismatches ... OK
* checking Rd \usage sections ... OK
* checking Rd contents ... OK
* checking for unstated dependencies in examples ... OK
* checking contents of ‘data’ directory ... OK
* checking data for non-ASCII characters ... NOTE
Note: found 3 marked UTF-8 strings
* checking LazyData ... OK
* checking data for ASCII and uncompressed saves ... OK
* checking files in ‘vignettes’ ... OK
* checking examples ... OK
* checking for unstated dependencies in ‘tests’ ... OK
* checking tests ...
Running ‘testthat.R’
OK
* checking for unstated dependencies in vignettes ... OK
* checking package vignettes in ‘inst/doc’ ... OK
* checking running R code from vignettes ... SKIPPED
* checking re-building of vignette outputs ... SKIPPED
* checking PDF version of manual ... OK
* DONE
Status: 2 NOTEs
See
‘/Users/biocbuild/bbs-3.18-bioc/meat/dce.Rcheck/00check.log’
for details.
dce.Rcheck/00install.out
############################################################################## ############################################################################## ### ### Running command: ### ### /Library/Frameworks/R.framework/Resources/bin/R CMD INSTALL dce ### ############################################################################## ############################################################################## * installing to library ‘/Library/Frameworks/R.framework/Versions/4.3-x86_64/Resources/library’ * installing *source* package ‘dce’ ... ** using staged installation ** R ** data *** moving datasets to lazyload DB ** inst ** byte-compile and prepare package for lazy loading ** help *** installing help indices *** copying figures ** building package indices ** installing vignettes ** testing if installed package can be loaded from temporary location ** testing if installed package can be loaded from final location ** testing if installed package keeps a record of temporary installation path * DONE (dce)
dce.Rcheck/tests/testthat.Rout
R version 4.3.2 Patched (2023-11-01 r85457) -- "Eye Holes"
Copyright (C) 2023 The R Foundation for Statistical Computing
Platform: x86_64-apple-darwin20 (64-bit)
R is free software and comes with ABSOLUTELY NO WARRANTY.
You are welcome to redistribute it under certain conditions.
Type 'license()' or 'licence()' for distribution details.
R is a collaborative project with many contributors.
Type 'contributors()' for more information and
'citation()' on how to cite R or R packages in publications.
Type 'demo()' for some demos, 'help()' for on-line help, or
'help.start()' for an HTML browser interface to help.
Type 'q()' to quit R.
> library(igraph)
Attaching package: 'igraph'
The following objects are masked from 'package:stats':
decompose, spectrum
The following object is masked from 'package:base':
union
> library(tidyverse)
── Attaching core tidyverse packages ──────────────────────── tidyverse 2.0.0 ──
✔ dplyr 1.1.4 ✔ readr 2.1.5
✔ forcats 1.0.0 ✔ stringr 1.5.1
✔ ggplot2 3.5.0 ✔ tibble 3.2.1
✔ lubridate 1.9.3 ✔ tidyr 1.3.1
✔ purrr 1.0.2
── Conflicts ────────────────────────────────────────── tidyverse_conflicts() ──
✖ lubridate::%--%() masks igraph::%--%()
✖ dplyr::as_data_frame() masks tibble::as_data_frame(), igraph::as_data_frame()
✖ purrr::compose() masks igraph::compose()
✖ tidyr::crossing() masks igraph::crossing()
✖ dplyr::filter() masks stats::filter()
✖ dplyr::lag() masks stats::lag()
✖ purrr::simplify() masks igraph::simplify()
ℹ Use the conflicted package (<http://conflicted.r-lib.org/>) to force all conflicts to become errors
>
> library(testthat)
Attaching package: 'testthat'
The following object is masked from 'package:dplyr':
matches
The following object is masked from 'package:purrr':
is_null
The following objects are masked from 'package:readr':
edition_get, local_edition
The following object is masked from 'package:tidyr':
matches
The following object is masked from 'package:igraph':
compare
>
> library(dce)
>
>
> test_check("dce")
[ FAIL 0 | WARN 209 | SKIP 5 | PASS 40031 ]
══ Skipped tests (5) ═══════════════════════════════════════════════════════════
• empty test (5): 'test-dce.R:185:1', 'test-deconfounding.R:51:1',
'test-ideas.R:16:1', 'test-ideas.R:63:1', 'test-plotting.R:1:1'
[ FAIL 0 | WARN 209 | SKIP 5 | PASS 40031 ]
>
> proc.time()
user system elapsed
148.034 8.218 157.752
dce.Rcheck/dce-Ex.timings
| name | user | system | elapsed | |
| as.data.frame.dce | 1.718 | 0.049 | 1.781 | |
| as_adjmat | 0.052 | 0.003 | 0.056 | |
| create_random_DAG | 0.029 | 0.001 | 0.031 | |
| dce-methods | 0.337 | 0.032 | 0.371 | |
| dce_nb | 3.970 | 0.178 | 4.188 | |
| estimate_latent_count | 1.398 | 0.049 | 1.459 | |
| g2dag | 0.277 | 0.050 | 0.333 | |
| get_pathway_info | 0.453 | 0.013 | 0.472 | |
| get_pathways | 4.785 | 0.129 | 4.956 | |
| get_prediction_counts | 0.002 | 0.000 | 0.003 | |
| graph2df | 0.062 | 0.002 | 0.065 | |
| graph_union | 0.109 | 0.003 | 0.113 | |
| pcor | 0.003 | 0.001 | 0.004 | |
| permutation_test | 0.025 | 0.003 | 0.027 | |
| plot.dce | 1.341 | 0.039 | 1.393 | |
| plot_network | 0.680 | 0.013 | 0.700 | |
| propagate_gene_edges | 0.296 | 0.018 | 0.316 | |
| resample_edge_weights | 0.005 | 0.000 | 0.006 | |
| simulate_data-methods | 0.069 | 0.002 | 0.072 | |
| topologically_ordering | 0.001 | 0.001 | 0.001 | |
| trueEffects | 0.006 | 0.001 | 0.007 | |