| Back to Multiple platform build/check report for BioC 3.18: simplified long |
|
This page was generated on 2024-04-17 11:37:38 -0400 (Wed, 17 Apr 2024).
| Hostname | OS | Arch (*) | R version | Installed pkgs |
|---|---|---|---|---|
| nebbiolo2 | Linux (Ubuntu 22.04.3 LTS) | x86_64 | 4.3.3 (2024-02-29) -- "Angel Food Cake" | 4676 |
| palomino4 | Windows Server 2022 Datacenter | x64 | 4.3.3 (2024-02-29 ucrt) -- "Angel Food Cake" | 4414 |
| merida1 | macOS 12.7.1 Monterey | x86_64 | 4.3.3 (2024-02-29) -- "Angel Food Cake" | 4437 |
| Click on any hostname to see more info about the system (e.g. compilers) (*) as reported by 'uname -p', except on Windows and Mac OS X | ||||
| Package 480/2266 | Hostname | OS / Arch | INSTALL | BUILD | CHECK | BUILD BIN | ||||||||
| cyanoFilter 1.10.0 (landing page) Oluwafemi Olusoji
| nebbiolo2 | Linux (Ubuntu 22.04.3 LTS) / x86_64 | OK | OK | OK | |||||||||
| palomino4 | Windows Server 2022 Datacenter / x64 | OK | OK | OK | OK | |||||||||
| merida1 | macOS 12.7.1 Monterey / x86_64 | OK | OK | OK | OK | |||||||||
| kjohnson1 | macOS 13.6.1 Ventura / arm64 | see weekly results here | ||||||||||||
|
To the developers/maintainers of the cyanoFilter package: - Allow up to 24 hours (and sometimes 48 hours) for your latest push to git@git.bioconductor.org:packages/cyanoFilter.git to reflect on this report. See Troubleshooting Build Report for more information. - Use the following Renviron settings to reproduce errors and warnings. - If 'R CMD check' started to fail recently on the Linux builder(s) over a missing dependency, add the missing dependency to 'Suggests:' in your DESCRIPTION file. See Renviron.bioc for more information. |
| Package: cyanoFilter |
| Version: 1.10.0 |
| Command: /Library/Frameworks/R.framework/Resources/bin/R CMD check --install=check:cyanoFilter.install-out.txt --library=/Library/Frameworks/R.framework/Resources/library --no-vignettes --timings cyanoFilter_1.10.0.tar.gz |
| StartedAt: 2024-04-16 01:28:51 -0400 (Tue, 16 Apr 2024) |
| EndedAt: 2024-04-16 01:32:01 -0400 (Tue, 16 Apr 2024) |
| EllapsedTime: 190.0 seconds |
| RetCode: 0 |
| Status: OK |
| CheckDir: cyanoFilter.Rcheck |
| Warnings: 0 |
##############################################################################
##############################################################################
###
### Running command:
###
### /Library/Frameworks/R.framework/Resources/bin/R CMD check --install=check:cyanoFilter.install-out.txt --library=/Library/Frameworks/R.framework/Resources/library --no-vignettes --timings cyanoFilter_1.10.0.tar.gz
###
##############################################################################
##############################################################################
* using log directory ‘/Users/biocbuild/bbs-3.18-bioc/meat/cyanoFilter.Rcheck’
* using R version 4.3.3 (2024-02-29)
* using platform: x86_64-apple-darwin20 (64-bit)
* R was compiled by
Apple clang version 14.0.0 (clang-1400.0.29.202)
GNU Fortran (GCC) 12.2.0
* running under: macOS Monterey 12.7.1
* using session charset: UTF-8
* using option ‘--no-vignettes’
* checking for file ‘cyanoFilter/DESCRIPTION’ ... OK
* checking extension type ... Package
* this is package ‘cyanoFilter’ version ‘1.10.0’
* package encoding: UTF-8
* checking package namespace information ... OK
* checking package dependencies ... OK
* checking if this is a source package ... OK
* checking if there is a namespace ... OK
* checking for hidden files and directories ... OK
* checking for portable file names ... OK
* checking for sufficient/correct file permissions ... OK
* checking whether package ‘cyanoFilter’ can be installed ... OK
* checking installed package size ... OK
* checking package directory ... OK
* checking ‘build’ directory ... OK
* checking DESCRIPTION meta-information ... OK
* checking top-level files ... OK
* checking for left-over files ... OK
* checking index information ... OK
* checking package subdirectories ... OK
* checking R files for non-ASCII characters ... OK
* checking R files for syntax errors ... OK
* checking whether the package can be loaded ... OK
* checking whether the package can be loaded with stated dependencies ... OK
* checking whether the package can be unloaded cleanly ... OK
* checking whether the namespace can be loaded with stated dependencies ... OK
* checking whether the namespace can be unloaded cleanly ... OK
* checking dependencies in R code ... OK
* checking S3 generic/method consistency ... OK
* checking replacement functions ... OK
* checking foreign function calls ... OK
* checking R code for possible problems ... OK
* checking Rd files ... OK
* checking Rd metadata ... OK
* checking Rd cross-references ... OK
* checking for missing documentation entries ... OK
* checking for code/documentation mismatches ... OK
* checking Rd \usage sections ... OK
* checking Rd contents ... OK
* checking for unstated dependencies in examples ... OK
* checking files in ‘vignettes’ ... OK
* checking examples ... OK
Examples with CPU (user + system) or elapsed time > 5s
user system elapsed
gateFunc 19.838 0.848 18.506
ggpairsDens 6.386 0.202 6.788
* checking for unstated dependencies in vignettes ... OK
* checking package vignettes in ‘inst/doc’ ... OK
* checking running R code from vignettes ... SKIPPED
* checking re-building of vignette outputs ... SKIPPED
* checking PDF version of manual ... OK
* DONE
Status: OK
cyanoFilter.Rcheck/00install.out
############################################################################## ############################################################################## ### ### Running command: ### ### /Library/Frameworks/R.framework/Resources/bin/R CMD INSTALL cyanoFilter ### ############################################################################## ############################################################################## * installing to library ‘/Library/Frameworks/R.framework/Versions/4.3-x86_64/Resources/library’ * installing *source* package ‘cyanoFilter’ ... ** using staged installation ** R ** inst ** byte-compile and prepare package for lazy loading ** help *** installing help indices ** building package indices ** installing vignettes ** testing if installed package can be loaded from temporary location ** testing if installed package can be loaded from final location ** testing if installed package keeps a record of temporary installation path * DONE (cyanoFilter)
cyanoFilter.Rcheck/cyanoFilter-Ex.timings
| name | user | system | elapsed | |
| MarginEvents | 1.620 | 0.113 | 1.819 | |
| PhytoFilter | 1.459 | 0.165 | 1.711 | |
| PhytopFilter | 1.397 | 0.108 | 1.560 | |
| accTest | 0.822 | 0.062 | 0.932 | |
| accuracy | 1.091 | 0.095 | 1.244 | |
| cellmargin | 0.697 | 0.043 | 0.787 | |
| clusterExtract | 2.092 | 0.080 | 2.263 | |
| clusterExtractp | 1.890 | 0.072 | 2.047 | |
| debrisNc | 0.741 | 0.094 | 0.870 | |
| fullFlowframe-MarginEvents-method | 0.899 | 0.055 | 0.994 | |
| fullFlowframe-PhytopFilter-method | 1.384 | 0.064 | 1.509 | |
| fullFlowframe | 0.674 | 0.041 | 0.747 | |
| gateFunc | 19.838 | 0.848 | 18.506 | |
| ggpairsDens | 6.386 | 0.202 | 6.788 | |
| ggplotDens | 1.059 | 0.053 | 1.128 | |
| ggplotDens2 | 1.778 | 0.068 | 1.891 | |
| goodfcs | 0.099 | 0.012 | 0.117 | |
| is.DebrisFilter | 0.000 | 0.001 | 0.001 | |
| is.MarginEvents | 0.000 | 0.000 | 0.001 | |
| is.PhytopFilter | 0.001 | 0.000 | 0.001 | |
| is.flowFrame | 0.000 | 0.001 | 0.001 | |
| is.flowSet | 0.000 | 0.001 | 0.001 | |
| lnTrans | 0.469 | 0.025 | 0.518 | |
| newFlowframe | 0.505 | 0.204 | 0.769 | |
| nona | 0.232 | 0.016 | 0.253 | |
| noneg | 0.383 | 0.018 | 0.406 | |
| oneDgate | 0.492 | 0.201 | 0.755 | |
| pairsPlot | 2.892 | 0.244 | 3.314 | |
| pigmentGate | 0.612 | 0.109 | 0.737 | |
| reducedFlowframe-MarginEvents-method | 0.676 | 0.044 | 0.755 | |
| reducedFlowframe | 0.669 | 0.040 | 0.742 | |
| retain | 0.034 | 0.003 | 0.037 | |
| rowNumbers | 0.502 | 0.127 | 0.694 | |
| summaries-DebrisFilter-method | 0.673 | 0.042 | 0.749 | |
| summaries-MarginEvents-method | 0.925 | 0.044 | 1.005 | |
| summaries-PhytopFilter-method | 1.382 | 0.062 | 1.509 | |
| summaries | 0.676 | 0.038 | 0.749 | |