| Back to Multiple platform build/check report for BioC 3.18: simplified long |
|
This page was generated on 2024-03-04 11:37:15 -0500 (Mon, 04 Mar 2024).
| Hostname | OS | Arch (*) | R version | Installed pkgs |
|---|---|---|---|---|
| nebbiolo2 | Linux (Ubuntu 22.04.3 LTS) | x86_64 | 4.3.2 Patched (2023-11-13 r85521) -- "Eye Holes" | 4692 |
| palomino4 | Windows Server 2022 Datacenter | x64 | 4.3.2 (2023-10-31 ucrt) -- "Eye Holes" | 4445 |
| lconway | macOS 12.7.1 Monterey | x86_64 | 4.3.2 Patched (2023-11-01 r85457) -- "Eye Holes" | 4466 |
| Click on any hostname to see more info about the system (e.g. compilers) (*) as reported by 'uname -p', except on Windows and Mac OS X | ||||
| Package 480/2266 | Hostname | OS / Arch | INSTALL | BUILD | CHECK | BUILD BIN | ||||||||
| cyanoFilter 1.10.0 (landing page) Oluwafemi Olusoji
| nebbiolo2 | Linux (Ubuntu 22.04.3 LTS) / x86_64 | OK | OK | OK | |||||||||
| palomino4 | Windows Server 2022 Datacenter / x64 | OK | OK | OK | OK | |||||||||
| lconway | macOS 12.7.1 Monterey / x86_64 | OK | OK | OK | OK | |||||||||
| kjohnson1 | macOS 13.6.1 Ventura / arm64 | see weekly results here | ||||||||||||
|
To the developers/maintainers of the cyanoFilter package: - Allow up to 24 hours (and sometimes 48 hours) for your latest push to git@git.bioconductor.org:packages/cyanoFilter.git to reflect on this report. See Troubleshooting Build Report for more information. - Use the following Renviron settings to reproduce errors and warnings. - If 'R CMD check' started to fail recently on the Linux builder(s) over a missing dependency, add the missing dependency to 'Suggests:' in your DESCRIPTION file. See Renviron.bioc for more information. |
| Package: cyanoFilter |
| Version: 1.10.0 |
| Command: /Library/Frameworks/R.framework/Resources/bin/R CMD check --install=check:cyanoFilter.install-out.txt --library=/Library/Frameworks/R.framework/Resources/library --no-vignettes --timings cyanoFilter_1.10.0.tar.gz |
| StartedAt: 2024-03-03 19:58:58 -0500 (Sun, 03 Mar 2024) |
| EndedAt: 2024-03-03 20:00:51 -0500 (Sun, 03 Mar 2024) |
| EllapsedTime: 112.4 seconds |
| RetCode: 0 |
| Status: OK |
| CheckDir: cyanoFilter.Rcheck |
| Warnings: 0 |
##############################################################################
##############################################################################
###
### Running command:
###
### /Library/Frameworks/R.framework/Resources/bin/R CMD check --install=check:cyanoFilter.install-out.txt --library=/Library/Frameworks/R.framework/Resources/library --no-vignettes --timings cyanoFilter_1.10.0.tar.gz
###
##############################################################################
##############################################################################
* using log directory ‘/Users/biocbuild/bbs-3.18-bioc/meat/cyanoFilter.Rcheck’
* using R version 4.3.2 Patched (2023-11-01 r85457)
* using platform: x86_64-apple-darwin20 (64-bit)
* R was compiled by
Apple clang version 14.0.3 (clang-1403.0.22.14.1)
GNU Fortran (GCC) 12.2.0
* running under: macOS Monterey 12.7.1
* using session charset: UTF-8
* using option ‘--no-vignettes’
* checking for file ‘cyanoFilter/DESCRIPTION’ ... OK
* checking extension type ... Package
* this is package ‘cyanoFilter’ version ‘1.10.0’
* package encoding: UTF-8
* checking package namespace information ... OK
* checking package dependencies ... OK
* checking if this is a source package ... OK
* checking if there is a namespace ... OK
* checking for hidden files and directories ... OK
* checking for portable file names ... OK
* checking for sufficient/correct file permissions ... OK
* checking whether package ‘cyanoFilter’ can be installed ... OK
* checking installed package size ... OK
* checking package directory ... OK
* checking ‘build’ directory ... OK
* checking DESCRIPTION meta-information ... OK
* checking top-level files ... OK
* checking for left-over files ... OK
* checking index information ... OK
* checking package subdirectories ... OK
* checking R files for non-ASCII characters ... OK
* checking R files for syntax errors ... OK
* checking whether the package can be loaded ... OK
* checking whether the package can be loaded with stated dependencies ... OK
* checking whether the package can be unloaded cleanly ... OK
* checking whether the namespace can be loaded with stated dependencies ... OK
* checking whether the namespace can be unloaded cleanly ... OK
* checking dependencies in R code ... OK
* checking S3 generic/method consistency ... OK
* checking replacement functions ... OK
* checking foreign function calls ... OK
* checking R code for possible problems ... OK
* checking Rd files ... OK
* checking Rd metadata ... OK
* checking Rd cross-references ... OK
* checking for missing documentation entries ... OK
* checking for code/documentation mismatches ... OK
* checking Rd \usage sections ... OK
* checking Rd contents ... OK
* checking for unstated dependencies in examples ... OK
* checking files in ‘vignettes’ ... OK
* checking examples ... OK
Examples with CPU (user + system) or elapsed time > 5s
user system elapsed
gateFunc 11.657 0.713 9.753
* checking for unstated dependencies in vignettes ... OK
* checking package vignettes in ‘inst/doc’ ... OK
* checking running R code from vignettes ... SKIPPED
* checking re-building of vignette outputs ... SKIPPED
* checking PDF version of manual ... OK
* DONE
Status: OK
cyanoFilter.Rcheck/00install.out
############################################################################## ############################################################################## ### ### Running command: ### ### /Library/Frameworks/R.framework/Resources/bin/R CMD INSTALL cyanoFilter ### ############################################################################## ############################################################################## * installing to library ‘/Library/Frameworks/R.framework/Versions/4.3-x86_64/Resources/library’ * installing *source* package ‘cyanoFilter’ ... ** using staged installation ** R ** inst ** byte-compile and prepare package for lazy loading ** help *** installing help indices ** building package indices ** installing vignettes ** testing if installed package can be loaded from temporary location ** testing if installed package can be loaded from final location ** testing if installed package keeps a record of temporary installation path * DONE (cyanoFilter)
cyanoFilter.Rcheck/cyanoFilter-Ex.timings
| name | user | system | elapsed | |
| MarginEvents | 0.994 | 0.082 | 1.086 | |
| PhytoFilter | 0.694 | 0.083 | 0.788 | |
| PhytopFilter | 0.734 | 0.079 | 0.831 | |
| accTest | 0.423 | 0.035 | 0.465 | |
| accuracy | 0.444 | 0.040 | 0.489 | |
| cellmargin | 0.364 | 0.033 | 0.448 | |
| clusterExtract | 1.088 | 0.066 | 1.172 | |
| clusterExtractp | 0.803 | 0.049 | 0.861 | |
| debrisNc | 0.377 | 0.048 | 0.432 | |
| fullFlowframe-MarginEvents-method | 0.528 | 0.042 | 0.578 | |
| fullFlowframe-PhytopFilter-method | 0.657 | 0.054 | 0.726 | |
| fullFlowframe | 0.336 | 0.030 | 0.376 | |
| gateFunc | 11.657 | 0.713 | 9.753 | |
| ggpairsDens | 3.674 | 0.154 | 3.863 | |
| ggplotDens | 0.580 | 0.033 | 0.621 | |
| ggplotDens2 | 0.920 | 0.051 | 0.986 | |
| goodfcs | 0.051 | 0.008 | 0.062 | |
| is.DebrisFilter | 0 | 0 | 0 | |
| is.MarginEvents | 0.000 | 0.000 | 0.001 | |
| is.PhytopFilter | 0 | 0 | 0 | |
| is.flowFrame | 0.001 | 0.000 | 0.000 | |
| is.flowSet | 0 | 0 | 0 | |
| lnTrans | 0.240 | 0.018 | 0.262 | |
| newFlowframe | 0.264 | 0.073 | 0.358 | |
| nona | 0.132 | 0.011 | 0.147 | |
| noneg | 0.174 | 0.012 | 0.188 | |
| oneDgate | 0.233 | 0.063 | 0.299 | |
| pairsPlot | 1.702 | 0.168 | 1.901 | |
| pigmentGate | 0.340 | 0.059 | 0.405 | |
| reducedFlowframe-MarginEvents-method | 0.354 | 0.028 | 0.388 | |
| reducedFlowframe | 0.348 | 0.031 | 0.385 | |
| retain | 0.023 | 0.002 | 0.025 | |
| rowNumbers | 0.250 | 0.063 | 0.325 | |
| summaries-DebrisFilter-method | 0.362 | 0.031 | 0.399 | |
| summaries-MarginEvents-method | 0.346 | 0.031 | 0.386 | |
| summaries-PhytopFilter-method | 0.976 | 0.056 | 1.045 | |
| summaries | 0.360 | 0.026 | 0.392 | |