| Back to Multiple platform build/check report for BioC 3.18: simplified long |
|
This page was generated on 2024-04-17 11:35:51 -0400 (Wed, 17 Apr 2024).
| Hostname | OS | Arch (*) | R version | Installed pkgs |
|---|---|---|---|---|
| nebbiolo2 | Linux (Ubuntu 22.04.3 LTS) | x86_64 | 4.3.3 (2024-02-29) -- "Angel Food Cake" | 4676 |
| palomino4 | Windows Server 2022 Datacenter | x64 | 4.3.3 (2024-02-29 ucrt) -- "Angel Food Cake" | 4414 |
| merida1 | macOS 12.7.1 Monterey | x86_64 | 4.3.3 (2024-02-29) -- "Angel Food Cake" | 4437 |
| Click on any hostname to see more info about the system (e.g. compilers) (*) as reported by 'uname -p', except on Windows and Mac OS X | ||||
| Package 346/2266 | Hostname | OS / Arch | INSTALL | BUILD | CHECK | BUILD BIN | ||||||||
| chromVAR 1.24.0 (landing page) Alicia Schep
| nebbiolo2 | Linux (Ubuntu 22.04.3 LTS) / x86_64 | OK | OK | OK | |||||||||
| palomino4 | Windows Server 2022 Datacenter / x64 | OK | OK | OK | OK | |||||||||
| merida1 | macOS 12.7.1 Monterey / x86_64 | OK | OK | OK | OK | |||||||||
| kjohnson1 | macOS 13.6.1 Ventura / arm64 | see weekly results here | ||||||||||||
|
To the developers/maintainers of the chromVAR package: - Allow up to 24 hours (and sometimes 48 hours) for your latest push to git@git.bioconductor.org:packages/chromVAR.git to reflect on this report. See Troubleshooting Build Report for more information. - Use the following Renviron settings to reproduce errors and warnings. - If 'R CMD check' started to fail recently on the Linux builder(s) over a missing dependency, add the missing dependency to 'Suggests:' in your DESCRIPTION file. See Renviron.bioc for more information. |
| Package: chromVAR |
| Version: 1.24.0 |
| Command: /home/biocbuild/bbs-3.18-bioc/R/bin/R CMD check --install=check:chromVAR.install-out.txt --library=/home/biocbuild/bbs-3.18-bioc/R/site-library --timings chromVAR_1.24.0.tar.gz |
| StartedAt: 2024-04-15 21:12:08 -0400 (Mon, 15 Apr 2024) |
| EndedAt: 2024-04-15 21:21:31 -0400 (Mon, 15 Apr 2024) |
| EllapsedTime: 563.7 seconds |
| RetCode: 0 |
| Status: OK |
| CheckDir: chromVAR.Rcheck |
| Warnings: 0 |
##############################################################################
##############################################################################
###
### Running command:
###
### /home/biocbuild/bbs-3.18-bioc/R/bin/R CMD check --install=check:chromVAR.install-out.txt --library=/home/biocbuild/bbs-3.18-bioc/R/site-library --timings chromVAR_1.24.0.tar.gz
###
##############################################################################
##############################################################################
* using log directory ‘/home/biocbuild/bbs-3.18-bioc/meat/chromVAR.Rcheck’
* using R version 4.3.3 (2024-02-29)
* using platform: x86_64-pc-linux-gnu (64-bit)
* R was compiled by
gcc (Ubuntu 11.4.0-1ubuntu1~22.04) 11.4.0
GNU Fortran (Ubuntu 11.4.0-1ubuntu1~22.04) 11.4.0
* running under: Ubuntu 22.04.4 LTS
* using session charset: UTF-8
* checking for file ‘chromVAR/DESCRIPTION’ ... OK
* checking extension type ... Package
* this is package ‘chromVAR’ version ‘1.24.0’
* checking package namespace information ... OK
* checking package dependencies ... OK
* checking if this is a source package ... OK
* checking if there is a namespace ... OK
* checking for hidden files and directories ... OK
* checking for portable file names ... OK
* checking for sufficient/correct file permissions ... OK
* checking whether package ‘chromVAR’ can be installed ... OK
* used C++ compiler: ‘g++ (Ubuntu 11.4.0-1ubuntu1~22.04) 11.4.0’
* checking C++ specification ... NOTE
Specified C++11: please drop specification unless essential
* checking installed package size ... OK
* checking package directory ... OK
* checking ‘build’ directory ... OK
* checking DESCRIPTION meta-information ... OK
* checking top-level files ... OK
* checking for left-over files ... OK
* checking index information ... OK
* checking package subdirectories ... OK
* checking R files for non-ASCII characters ... OK
* checking R files for syntax errors ... OK
* checking whether the package can be loaded ... OK
* checking whether the package can be loaded with stated dependencies ... OK
* checking whether the package can be unloaded cleanly ... OK
* checking whether the namespace can be loaded with stated dependencies ... OK
* checking whether the namespace can be unloaded cleanly ... OK
* checking loading without being on the library search path ... OK
* checking dependencies in R code ... OK
* checking S3 generic/method consistency ... OK
* checking replacement functions ... OK
* checking foreign function calls ... OK
* checking R code for possible problems ... NOTE
left_right_to_grglist: no visible global function definition for
‘GenomicRangesList’
Undefined global functions or variables:
GenomicRangesList
* checking Rd files ... OK
* checking Rd metadata ... OK
* checking Rd cross-references ... OK
* checking for missing documentation entries ... OK
* checking for code/documentation mismatches ... OK
* checking Rd \usage sections ... OK
* checking Rd contents ... OK
* checking for unstated dependencies in examples ... OK
* checking contents of ‘data’ directory ... OK
* checking data for non-ASCII characters ... OK
* checking LazyData ... OK
* checking data for ASCII and uncompressed saves ... OK
* checking line endings in C/C++/Fortran sources/headers ... OK
* checking line endings in Makefiles ... OK
* checking compilation flags in Makevars ... OK
* checking for GNU extensions in Makefiles ... OK
* checking for portable use of $(BLAS_LIBS) and $(LAPACK_LIBS) ... OK
* checking use of PKG_*FLAGS in Makefiles ... OK
* checking compiled code ... NOTE
Note: information on .o files is not available
* checking files in ‘vignettes’ ... OK
* checking examples ... OK
Examples with CPU (user + system) or elapsed time > 5s
user system elapsed
deviationsCovariability 17.126 0.512 17.639
computeDeviations 5.006 0.197 5.202
getJasparMotifs 5.045 0.047 5.093
* checking for unstated dependencies in ‘tests’ ... OK
* checking tests ...
Running ‘testthat.R’
OK
* checking for unstated dependencies in vignettes ... OK
* checking package vignettes in ‘inst/doc’ ... OK
* checking running R code from vignettes ...
‘Introduction.Rmd’ using ‘UTF-8’... OK
OK
* checking re-building of vignette outputs ... OK
* checking PDF version of manual ... OK
* DONE
Status: 3 NOTEs
See
‘/home/biocbuild/bbs-3.18-bioc/meat/chromVAR.Rcheck/00check.log’
for details.
chromVAR.Rcheck/00install.out
##############################################################################
##############################################################################
###
### Running command:
###
### /home/biocbuild/bbs-3.18-bioc/R/bin/R CMD INSTALL chromVAR
###
##############################################################################
##############################################################################
* installing to library ‘/home/biocbuild/bbs-3.18-bioc/R/site-library’
* installing *source* package ‘chromVAR’ ...
** using staged installation
** libs
using C++ compiler: ‘g++ (Ubuntu 11.4.0-1ubuntu1~22.04) 11.4.0’
using C++11
g++ -std=gnu++11 -I"/home/biocbuild/bbs-3.18-bioc/R/include" -DNDEBUG -I'/home/biocbuild/bbs-3.18-bioc/R/site-library/Rcpp/include' -I'/home/biocbuild/bbs-3.18-bioc/R/site-library/RcppArmadillo/include' -I/usr/local/include -fpic -g -O2 -Wall -c RcppExports.cpp -o RcppExports.o
g++ -std=gnu++11 -I"/home/biocbuild/bbs-3.18-bioc/R/include" -DNDEBUG -I'/home/biocbuild/bbs-3.18-bioc/R/site-library/Rcpp/include' -I'/home/biocbuild/bbs-3.18-bioc/R/site-library/RcppArmadillo/include' -I/usr/local/include -fpic -g -O2 -Wall -c pwm_similarity.cpp -o pwm_similarity.o
g++ -std=gnu++11 -I"/home/biocbuild/bbs-3.18-bioc/R/include" -DNDEBUG -I'/home/biocbuild/bbs-3.18-bioc/R/site-library/Rcpp/include' -I'/home/biocbuild/bbs-3.18-bioc/R/site-library/RcppArmadillo/include' -I/usr/local/include -fpic -g -O2 -Wall -c utils.cpp -o utils.o
utils.cpp: In function ‘Rcpp::NumericVector row_sds(arma::mat&, bool)’:
utils.cpp:12:21: warning: comparison of integer expressions of different signedness: ‘int’ and ‘const uword’ {aka ‘const unsigned int’} [-Wsign-compare]
12 | for( int j=0; j < X.n_rows; j++ ) {
| ~~^~~~~~~~~~
g++ -std=gnu++11 -shared -L/home/biocbuild/bbs-3.18-bioc/R/lib -L/usr/local/lib -o chromVAR.so RcppExports.o pwm_similarity.o utils.o -llapack -L/home/biocbuild/bbs-3.18-bioc/R/lib -lRblas -lgfortran -lm -lquadmath -L/home/biocbuild/bbs-3.18-bioc/R/lib -lR
installing to /home/biocbuild/bbs-3.18-bioc/R/site-library/00LOCK-chromVAR/00new/chromVAR/libs
** R
** data
*** moving datasets to lazyload DB
** inst
** byte-compile and prepare package for lazy loading
** help
*** installing help indices
** building package indices
** installing vignettes
** testing if installed package can be loaded from temporary location
** checking absolute paths in shared objects and dynamic libraries
** testing if installed package can be loaded from final location
** testing if installed package keeps a record of temporary installation path
* DONE (chromVAR)
chromVAR.Rcheck/tests/testthat.Rout
R version 4.3.3 (2024-02-29) -- "Angel Food Cake"
Copyright (C) 2024 The R Foundation for Statistical Computing
Platform: x86_64-pc-linux-gnu (64-bit)
R is free software and comes with ABSOLUTELY NO WARRANTY.
You are welcome to redistribute it under certain conditions.
Type 'license()' or 'licence()' for distribution details.
R is a collaborative project with many contributors.
Type 'contributors()' for more information and
'citation()' on how to cite R or R packages in publications.
Type 'demo()' for some demos, 'help()' for on-line help, or
'help.start()' for an HTML browser interface to help.
Type 'q()' to quit R.
> library(testthat)
> library(chromVAR)
> BiocParallel::register(BiocParallel::SerialParam())
> test_check("chromVAR")
[ FAIL 0 | WARN 0 | SKIP 0 | PASS 65 ]
>
> proc.time()
user system elapsed
21.849 1.459 23.415
chromVAR.Rcheck/chromVAR-Ex.timings
| name | user | system | elapsed | |
| addGCBias | 0.730 | 0.027 | 0.758 | |
| annotationMatches | 0.005 | 0.008 | 0.013 | |
| chromVAR_theme | 1.344 | 0.063 | 1.409 | |
| computeDeviations | 5.006 | 0.197 | 5.202 | |
| computeExpectations | 0.019 | 0.000 | 0.019 | |
| computeVariability | 3.105 | 0.144 | 3.250 | |
| counts | 0.007 | 0.000 | 0.007 | |
| deviationScores | 0.005 | 0.000 | 0.005 | |
| deviations | 0.005 | 0.000 | 0.005 | |
| deviationsCovariability | 17.126 | 0.512 | 17.639 | |
| deviationsTsne | 0.059 | 0.000 | 0.059 | |
| differentialDeviations | 0.011 | 0.000 | 0.011 | |
| differentialVariability | 0.023 | 0.000 | 0.023 | |
| example_counts | 0 | 0 | 0 | |
| filterPeaks | 0.191 | 0.000 | 0.191 | |
| filterSamples | 0.043 | 0.004 | 0.047 | |
| filterSamplesPlot | 0.104 | 0.008 | 0.112 | |
| getAnnotations | 0.303 | 0.000 | 0.303 | |
| getBackgroundPeaks | 0.461 | 0.112 | 0.573 | |
| getCisGroups | 0.134 | 0.008 | 0.142 | |
| getCounts | 1.954 | 0.060 | 2.024 | |
| getFragmentsPerPeak | 0.007 | 0.000 | 0.007 | |
| getFragmentsPerSample | 0.008 | 0.000 | 0.007 | |
| getJasparMotifs | 5.045 | 0.047 | 5.093 | |
| getPeaks | 0.092 | 0.012 | 0.101 | |
| getPermutedData | 3.134 | 0.395 | 3.531 | |
| getSampleCorrelation | 0.011 | 0.000 | 0.012 | |
| getSampleDepths | 0.094 | 0.016 | 0.110 | |
| getSampleDistance | 0.012 | 0.000 | 0.012 | |
| getTotalFragments | 0.007 | 0.000 | 0.007 | |
| makeBiasBins | 0.04 | 0.00 | 0.04 | |
| makePermutedSets | 0.759 | 0.020 | 0.779 | |
| matchKmers | 1.844 | 0.092 | 1.936 | |
| mini_counts | 0.000 | 0.000 | 0.001 | |
| mini_dev | 0.000 | 0.000 | 0.001 | |
| mini_ix | 0.000 | 0.000 | 0.001 | |
| plotVariability | 3.12 | 0.00 | 3.12 | |
| pwmDistance | 4.895 | 0.060 | 4.956 | |
| rbind-chromVARDeviations-method | 0.052 | 0.000 | 0.051 | |