| Back to Multiple platform build/check report for BioC 3.18: simplified long |
|
This page was generated on 2024-04-17 11:35:50 -0400 (Wed, 17 Apr 2024).
| Hostname | OS | Arch (*) | R version | Installed pkgs |
|---|---|---|---|---|
| nebbiolo2 | Linux (Ubuntu 22.04.3 LTS) | x86_64 | 4.3.3 (2024-02-29) -- "Angel Food Cake" | 4676 |
| palomino4 | Windows Server 2022 Datacenter | x64 | 4.3.3 (2024-02-29 ucrt) -- "Angel Food Cake" | 4414 |
| merida1 | macOS 12.7.1 Monterey | x86_64 | 4.3.3 (2024-02-29) -- "Angel Food Cake" | 4437 |
| Click on any hostname to see more info about the system (e.g. compilers) (*) as reported by 'uname -p', except on Windows and Mac OS X | ||||
| Package 313/2266 | Hostname | OS / Arch | INSTALL | BUILD | CHECK | BUILD BIN | ||||||||
| cfdnakit 1.0.1 (landing page) Pitithat Puranachot
| nebbiolo2 | Linux (Ubuntu 22.04.3 LTS) / x86_64 | OK | OK | OK | |||||||||
| palomino4 | Windows Server 2022 Datacenter / x64 | OK | OK | OK | OK | |||||||||
| merida1 | macOS 12.7.1 Monterey / x86_64 | OK | OK | OK | OK | |||||||||
| kjohnson1 | macOS 13.6.1 Ventura / arm64 | see weekly results here | ||||||||||||
|
To the developers/maintainers of the cfdnakit package: - Allow up to 24 hours (and sometimes 48 hours) for your latest push to git@git.bioconductor.org:packages/cfdnakit.git to reflect on this report. See Troubleshooting Build Report for more information. - Use the following Renviron settings to reproduce errors and warnings. - If 'R CMD check' started to fail recently on the Linux builder(s) over a missing dependency, add the missing dependency to 'Suggests:' in your DESCRIPTION file. See Renviron.bioc for more information. |
| Package: cfdnakit |
| Version: 1.0.1 |
| Command: /home/biocbuild/bbs-3.18-bioc/R/bin/R CMD check --install=check:cfdnakit.install-out.txt --library=/home/biocbuild/bbs-3.18-bioc/R/site-library --timings cfdnakit_1.0.1.tar.gz |
| StartedAt: 2024-04-15 21:04:28 -0400 (Mon, 15 Apr 2024) |
| EndedAt: 2024-04-15 21:08:34 -0400 (Mon, 15 Apr 2024) |
| EllapsedTime: 246.2 seconds |
| RetCode: 0 |
| Status: OK |
| CheckDir: cfdnakit.Rcheck |
| Warnings: 0 |
##############################################################################
##############################################################################
###
### Running command:
###
### /home/biocbuild/bbs-3.18-bioc/R/bin/R CMD check --install=check:cfdnakit.install-out.txt --library=/home/biocbuild/bbs-3.18-bioc/R/site-library --timings cfdnakit_1.0.1.tar.gz
###
##############################################################################
##############################################################################
* using log directory ‘/home/biocbuild/bbs-3.18-bioc/meat/cfdnakit.Rcheck’
* using R version 4.3.3 (2024-02-29)
* using platform: x86_64-pc-linux-gnu (64-bit)
* R was compiled by
gcc (Ubuntu 11.4.0-1ubuntu1~22.04) 11.4.0
GNU Fortran (Ubuntu 11.4.0-1ubuntu1~22.04) 11.4.0
* running under: Ubuntu 22.04.4 LTS
* using session charset: UTF-8
* checking for file ‘cfdnakit/DESCRIPTION’ ... OK
* this is package ‘cfdnakit’ version ‘1.0.1’
* package encoding: UTF-8
* checking package namespace information ... OK
* checking package dependencies ... OK
* checking if this is a source package ... OK
* checking if there is a namespace ... OK
* checking for hidden files and directories ... OK
* checking for portable file names ... OK
* checking for sufficient/correct file permissions ... OK
* checking whether package ‘cfdnakit’ can be installed ... OK
* checking installed package size ... OK
* checking package directory ... OK
* checking ‘build’ directory ... OK
* checking DESCRIPTION meta-information ... OK
* checking top-level files ... OK
* checking for left-over files ... OK
* checking index information ... OK
* checking package subdirectories ... OK
* checking R files for non-ASCII characters ... OK
* checking R files for syntax errors ... OK
* checking whether the package can be loaded ... OK
* checking whether the package can be loaded with stated dependencies ... OK
* checking whether the package can be unloaded cleanly ... OK
* checking whether the namespace can be loaded with stated dependencies ... OK
* checking whether the namespace can be unloaded cleanly ... OK
* checking loading without being on the library search path ... OK
* checking dependencies in R code ... OK
* checking S3 generic/method consistency ... OK
* checking replacement functions ... OK
* checking foreign function calls ... OK
* checking R code for possible problems ... OK
* checking Rd files ... OK
* checking Rd metadata ... OK
* checking Rd cross-references ... OK
* checking for missing documentation entries ... OK
* checking for code/documentation mismatches ... OK
* checking Rd \usage sections ... OK
* checking Rd contents ... OK
* checking for unstated dependencies in examples ... OK
* checking files in ‘vignettes’ ... OK
* checking examples ... OK
Examples with CPU (user + system) or elapsed time > 5s
user system elapsed
cfdnakit-package 11.195 0.208 11.404
plot_distance_matrix 10.369 0.064 10.434
call_cnv 10.092 0.140 10.232
plot_cnv_solution 9.836 0.056 9.892
get_solution_table 9.369 0.084 9.452
plot_transformed_sl 9.431 0.020 9.451
calculate_CES_score 9.218 0.183 9.403
segmentByPSCB 9.269 0.024 9.293
get_zscore_profile 9.152 0.124 9.276
plot_sl_ratio 6.515 0.088 6.602
create_PoN 6.471 0.072 6.543
* checking for unstated dependencies in vignettes ... OK
* checking package vignettes in ‘inst/doc’ ... OK
* checking running R code from vignettes ...
‘cfdnakit-vignette.Rmd’ using ‘UTF-8’... OK
OK
* checking re-building of vignette outputs ... OK
* checking PDF version of manual ... OK
* DONE
Status: OK
cfdnakit.Rcheck/00install.out
############################################################################## ############################################################################## ### ### Running command: ### ### /home/biocbuild/bbs-3.18-bioc/R/bin/R CMD INSTALL cfdnakit ### ############################################################################## ############################################################################## * installing to library ‘/home/biocbuild/bbs-3.18-bioc/R/site-library’ * installing *source* package ‘cfdnakit’ ... ** using staged installation ** R ** inst ** byte-compile and prepare package for lazy loading ** help *** installing help indices ** building package indices ** installing vignettes ** testing if installed package can be loaded from temporary location ** testing if installed package can be loaded from final location ** testing if installed package keeps a record of temporary installation path * DONE (cfdnakit)
cfdnakit.Rcheck/cfdnakit-Ex.timings
| name | user | system | elapsed | |
| calculate_CES_score | 9.218 | 0.183 | 9.403 | |
| call_cnv | 10.092 | 0.140 | 10.232 | |
| cfdnakit-package | 11.195 | 0.208 | 11.404 | |
| create_PoN | 6.471 | 0.072 | 6.543 | |
| extract_insert_size | 0.183 | 0.000 | 0.182 | |
| get_fragment_profile | 2.692 | 0.016 | 2.708 | |
| get_solution_table | 9.369 | 0.084 | 9.452 | |
| get_zscore_profile | 9.152 | 0.124 | 9.276 | |
| plot_cnv_solution | 9.836 | 0.056 | 9.892 | |
| plot_distance_matrix | 10.369 | 0.064 | 10.434 | |
| plot_fragment_dist | 0.479 | 0.004 | 0.482 | |
| plot_sl_ratio | 6.515 | 0.088 | 6.602 | |
| plot_transformed_sl | 9.431 | 0.020 | 9.451 | |
| read_bamfile | 2.925 | 0.020 | 2.945 | |
| segmentByPSCB | 9.269 | 0.024 | 9.293 | |
| test_isize_KolmogorovSmirnov | 0.270 | 0.004 | 0.274 | |