| Back to Multiple platform build/check report for BioC 3.18: simplified long |
|
This page was generated on 2024-04-17 11:35:50 -0400 (Wed, 17 Apr 2024).
| Hostname | OS | Arch (*) | R version | Installed pkgs |
|---|---|---|---|---|
| nebbiolo2 | Linux (Ubuntu 22.04.3 LTS) | x86_64 | 4.3.3 (2024-02-29) -- "Angel Food Cake" | 4676 |
| palomino4 | Windows Server 2022 Datacenter | x64 | 4.3.3 (2024-02-29 ucrt) -- "Angel Food Cake" | 4414 |
| merida1 | macOS 12.7.1 Monterey | x86_64 | 4.3.3 (2024-02-29) -- "Angel Food Cake" | 4437 |
| Click on any hostname to see more info about the system (e.g. compilers) (*) as reported by 'uname -p', except on Windows and Mac OS X | ||||
| Package 299/2266 | Hostname | OS / Arch | INSTALL | BUILD | CHECK | BUILD BIN | ||||||||
| cellmigRation 1.10.0 (landing page) Waldir Leoncio
| nebbiolo2 | Linux (Ubuntu 22.04.3 LTS) / x86_64 | OK | OK | OK | |||||||||
| palomino4 | Windows Server 2022 Datacenter / x64 | OK | OK | OK | OK | |||||||||
| merida1 | macOS 12.7.1 Monterey / x86_64 | OK | OK | OK | OK | |||||||||
| kjohnson1 | macOS 13.6.1 Ventura / arm64 | see weekly results here | ||||||||||||
|
To the developers/maintainers of the cellmigRation package: - Allow up to 24 hours (and sometimes 48 hours) for your latest push to git@git.bioconductor.org:packages/cellmigRation.git to reflect on this report. See Troubleshooting Build Report for more information. - Use the following Renviron settings to reproduce errors and warnings. - If 'R CMD check' started to fail recently on the Linux builder(s) over a missing dependency, add the missing dependency to 'Suggests:' in your DESCRIPTION file. See Renviron.bioc for more information. |
| Package: cellmigRation |
| Version: 1.10.0 |
| Command: /home/biocbuild/bbs-3.18-bioc/R/bin/R CMD check --install=check:cellmigRation.install-out.txt --library=/home/biocbuild/bbs-3.18-bioc/R/site-library --timings cellmigRation_1.10.0.tar.gz |
| StartedAt: 2024-04-15 21:01:06 -0400 (Mon, 15 Apr 2024) |
| EndedAt: 2024-04-15 21:06:35 -0400 (Mon, 15 Apr 2024) |
| EllapsedTime: 328.4 seconds |
| RetCode: 0 |
| Status: OK |
| CheckDir: cellmigRation.Rcheck |
| Warnings: 0 |
##############################################################################
##############################################################################
###
### Running command:
###
### /home/biocbuild/bbs-3.18-bioc/R/bin/R CMD check --install=check:cellmigRation.install-out.txt --library=/home/biocbuild/bbs-3.18-bioc/R/site-library --timings cellmigRation_1.10.0.tar.gz
###
##############################################################################
##############################################################################
* using log directory ‘/home/biocbuild/bbs-3.18-bioc/meat/cellmigRation.Rcheck’
* using R version 4.3.3 (2024-02-29)
* using platform: x86_64-pc-linux-gnu (64-bit)
* R was compiled by
gcc (Ubuntu 11.4.0-1ubuntu1~22.04) 11.4.0
GNU Fortran (Ubuntu 11.4.0-1ubuntu1~22.04) 11.4.0
* running under: Ubuntu 22.04.4 LTS
* using session charset: UTF-8
* checking for file ‘cellmigRation/DESCRIPTION’ ... OK
* checking extension type ... Package
* this is package ‘cellmigRation’ version ‘1.10.0’
* package encoding: UTF-8
* checking package namespace information ... OK
* checking package dependencies ... OK
* checking if this is a source package ... OK
* checking if there is a namespace ... OK
* checking for hidden files and directories ... OK
* checking for portable file names ... OK
* checking for sufficient/correct file permissions ... OK
* checking whether package ‘cellmigRation’ can be installed ... OK
* checking installed package size ... OK
* checking package directory ... OK
* checking ‘build’ directory ... OK
* checking DESCRIPTION meta-information ... OK
* checking top-level files ... OK
* checking for left-over files ... OK
* checking index information ... OK
* checking package subdirectories ... OK
* checking R files for non-ASCII characters ... OK
* checking R files for syntax errors ... OK
* checking whether the package can be loaded ... OK
* checking whether the package can be loaded with stated dependencies ... OK
* checking whether the package can be unloaded cleanly ... OK
* checking whether the namespace can be loaded with stated dependencies ... OK
* checking whether the namespace can be unloaded cleanly ... OK
* checking loading without being on the library search path ... OK
* checking dependencies in R code ... OK
* checking S3 generic/method consistency ... OK
* checking replacement functions ... OK
* checking foreign function calls ... OK
* checking R code for possible problems ... OK
* checking Rd files ... OK
* checking Rd metadata ... OK
* checking Rd cross-references ... OK
* checking for missing documentation entries ... OK
* checking for code/documentation mismatches ... OK
* checking Rd \usage sections ... OK
* checking Rd contents ... OK
* checking for unstated dependencies in examples ... OK
* checking contents of ‘data’ directory ... OK
* checking data for non-ASCII characters ... OK
* checking data for ASCII and uncompressed saves ... OK
* checking files in ‘vignettes’ ... OK
* checking examples ... OK
* checking for unstated dependencies in ‘tests’ ... OK
* checking tests ...
Running ‘runTests.R’
OK
* checking for unstated dependencies in vignettes ... OK
* checking package vignettes in ‘inst/doc’ ... OK
* checking running R code from vignettes ...
‘cellmigRation.Rmd’ using ‘UTF-8’... OK
OK
* checking re-building of vignette outputs ... OK
* checking PDF version of manual ... OK
* DONE
Status: OK
cellmigRation.Rcheck/00install.out
############################################################################## ############################################################################## ### ### Running command: ### ### /home/biocbuild/bbs-3.18-bioc/R/bin/R CMD INSTALL cellmigRation ### ############################################################################## ############################################################################## * installing to library ‘/home/biocbuild/bbs-3.18-bioc/R/site-library’ * installing *source* package ‘cellmigRation’ ... ** using staged installation ** R ** data ** inst ** byte-compile and prepare package for lazy loading ** help *** installing help indices ** building package indices ** installing vignettes ** testing if installed package can be loaded from temporary location ** testing if installed package can be loaded from final location ** testing if installed package keeps a record of temporary installation path * DONE (cellmigRation)
cellmigRation.Rcheck/tests/runTests.Rout
R version 4.3.3 (2024-02-29) -- "Angel Food Cake"
Copyright (C) 2024 The R Foundation for Statistical Computing
Platform: x86_64-pc-linux-gnu (64-bit)
R is free software and comes with ABSOLUTELY NO WARRANTY.
You are welcome to redistribute it under certain conditions.
Type 'license()' or 'licence()' for distribution details.
R is a collaborative project with many contributors.
Type 'contributors()' for more information and
'citation()' on how to cite R or R packages in publications.
Type 'demo()' for some demos, 'help()' for on-line help, or
'help.start()' for an HTML browser interface to help.
Type 'q()' to quit R.
> BiocGenerics:::testPackage("cellmigRation")
RUNIT TEST PROTOCOL -- Mon Apr 15 21:02:47 2024
***********************************************
Number of test functions: 7
Number of errors: 0
Number of failures: 0
1 Test Suite :
cellmigRation RUnit Tests - 7 test functions, 0 errors, 0 failures
Number of test functions: 7
Number of errors: 0
Number of failures: 0
>
> proc.time()
user system elapsed
2.551 0.164 2.704
cellmigRation.Rcheck/cellmigRation-Ex.timings
| name | user | system | elapsed | |
| AddDimension | 0.000 | 0.001 | 0.001 | |
| CellMig-class | 0.027 | 0.001 | 0.028 | |
| CellMigPCA | 1.307 | 0.064 | 1.371 | |
| CellMigPCAclust | 0.007 | 0.001 | 0.007 | |
| CellMigPCAclustALL | 0.589 | 0.000 | 0.589 | |
| CellTracker | 0.015 | 0.004 | 0.019 | |
| CellTrackerMainLoop | 0.006 | 0.001 | 0.024 | |
| CentroidArray | 0.016 | 0.004 | 0.020 | |
| CentroidValidation | 0.431 | 0.004 | 0.435 | |
| ComputeTracksStats | 0.025 | 0.000 | 0.025 | |
| DetectRadii | 0.000 | 0.002 | 0.002 | |
| DiAutoCor | 1.239 | 0.033 | 1.272 | |
| DiRatio | 0.016 | 0.000 | 0.016 | |
| DiRatioPlot | 0.038 | 0.004 | 0.043 | |
| EstimateDiameterRange | 0.014 | 0.000 | 0.014 | |
| FMI | 0.429 | 0.000 | 0.429 | |
| FianlizeOptiParams | 0.001 | 0.000 | 0.001 | |
| FilterTrackedCells | 0.003 | 0.000 | 0.002 | |
| FinRes | 0.597 | 0.000 | 0.597 | |
| ForwardMigration | 0.876 | 0.015 | 0.892 | |
| GenAllCombos | 0.002 | 0.001 | 0.002 | |
| LinearConv2 | 0.02 | 0.00 | 0.02 | |
| LoadTiff | 0 | 0 | 0 | |
| MSD | 1.417 | 0.004 | 1.422 | |
| MakeHypercube | 0.002 | 0.000 | 0.001 | |
| MigrationStats | 0.001 | 0.000 | 0.000 | |
| NextOdd | 0 | 0 | 0 | |
| NonParallel4OptimizeParams | 0.000 | 0.000 | 0.001 | |
| NonParallelTrackLoop | 0.000 | 0.000 | 0.001 | |
| OptimizeParams | 0.017 | 0.000 | 0.016 | |
| OptimizeParamsMainLoop | 0.003 | 0.004 | 0.029 | |
| Parallel4OptimizeParams | 0.001 | 0.000 | 0.000 | |
| ParallelTrackLoop | 0.001 | 0.000 | 0.000 | |
| PerAndSpeed | 0.300 | 0.011 | 0.312 | |
| PlotTracksSeparately | 0.009 | 0.000 | 0.009 | |
| PostProcessTracking | 0.001 | 0.000 | 0.000 | |
| Prep4OptimizeParams | 0.104 | 0.003 | 0.108 | |
| ThreeConditions | 0.009 | 0.005 | 0.014 | |
| TrackCellsDataset | 0.013 | 0.003 | 0.017 | |
| TrajectoryDataset | 0.022 | 0.001 | 0.022 | |
| ValidateTrackingArgs | 0 | 0 | 0 | |
| VeAutoCor | 1.019 | 0.051 | 1.070 | |
| VisualizeCntr | 0.000 | 0.003 | 0.003 | |
| VisualizeImg | 0.001 | 0.004 | 0.006 | |
| VisualizeStackCentroids | 0.063 | 0.004 | 0.068 | |
| WSADataset | 0.007 | 0.000 | 0.007 | |
| aggregateFR | 0.589 | 0.033 | 0.621 | |
| aggregateTrackedCells | 0.018 | 0.004 | 0.022 | |
| bpass | 0.056 | 0.004 | 0.060 | |
| circshift | 0.001 | 0.000 | 0.001 | |
| cntrd | 0.667 | 0.000 | 0.667 | |
| fixDA | 0.000 | 0.000 | 0.001 | |
| fixExpName | 0.001 | 0.000 | 0.001 | |
| fixFM1 | 0 | 0 | 0 | |
| fixFM2 | 0.000 | 0.000 | 0.001 | |
| fixFM3 | 0 | 0 | 0 | |
| fixFM4 | 0.001 | 0.000 | 0.001 | |
| fixFM5 | 0.001 | 0.000 | 0.001 | |
| fixFM6 | 0.001 | 0.000 | 0.001 | |
| fixID1 | 0.001 | 0.000 | 0.000 | |
| fixMSD | 0 | 0 | 0 | |
| fixPER1 | 0.000 | 0.000 | 0.001 | |
| fixPER2 | 0 | 0 | 0 | |
| fixPER3 | 0.000 | 0.000 | 0.001 | |
| getAvailableAggrMetrics | 0.878 | 0.027 | 0.906 | |
| getCellImages | 0.214 | 0.215 | 0.431 | |
| getCellMigSlot | 0.495 | 0.140 | 0.635 | |
| getCellTrackMeta | 0.016 | 0.000 | 0.016 | |
| getCellTrackStats | 0.012 | 0.007 | 0.019 | |
| getCellTracks | 0.012 | 0.005 | 0.016 | |
| getCellsMeta | 0.016 | 0.000 | 0.016 | |
| getCellsStats | 0.018 | 0.000 | 0.018 | |
| getDACtable | 1.699 | 0.019 | 1.719 | |
| getDiRatio | 0.018 | 0.001 | 0.018 | |
| getFMItable | 0.625 | 0.031 | 0.657 | |
| getForMigtable | 0.525 | 0.032 | 0.558 | |
| getImageCentroids | 0.013 | 0.008 | 0.022 | |
| getImageStacks | 0.066 | 0.000 | 0.065 | |
| getMSDtable | 3.308 | 0.028 | 3.337 | |
| getOptimizedParameters | 0.017 | 0.000 | 0.017 | |
| getOptimizedParams | 0.018 | 0.000 | 0.018 | |
| getPerAndSpeed | 0.266 | 0.000 | 0.266 | |
| getPopulationStats | 0.017 | 0.000 | 0.017 | |
| getProcessedImages | 0.216 | 0.204 | 0.419 | |
| getProcessingStatus | 0.017 | 0.000 | 0.016 | |
| getResults | 0.572 | 0.004 | 0.576 | |
| getTracks | 0.016 | 0.000 | 0.017 | |
| getVACtable | 0.969 | 0.016 | 0.985 | |
| initializeTrackParams | 0.001 | 0.000 | 0.000 | |
| innerBondRaster | 0.001 | 0.000 | 0.001 | |
| internalPermutation | 0.001 | 0.000 | 0.001 | |
| matfix | 0.001 | 0.000 | 0.001 | |
| nontrivialBondTracking | 0.001 | 0.000 | 0.001 | |
| pkfnd | 0.644 | 0.000 | 0.644 | |
| plot3DAllTracks | 0.074 | 0.020 | 0.094 | |
| plot3DTracks | 0.007 | 0.000 | 0.008 | |
| plotAllTracks | 0.014 | 0.004 | 0.018 | |
| plotSampleTracks | 0.014 | 0.000 | 0.014 | |
| preProcCellMig | 0.007 | 0.000 | 0.008 | |
| rmPreProcessing | 0.079 | 0.000 | 0.080 | |
| runTrackingPermutation | 0.001 | 0.000 | 0.002 | |
| setAnalyticParams | 0.013 | 0.004 | 0.017 | |
| setCellMigSlot | 0.019 | 0.004 | 0.022 | |
| setCellTracks | 0.013 | 0.004 | 0.017 | |
| setCellsMeta | 0.013 | 0.004 | 0.017 | |
| setExpName | 0.023 | 0.000 | 0.022 | |
| setOptimizedParams | 0.017 | 0.000 | 0.017 | |
| setProcessedImages | 0.017 | 0.000 | 0.017 | |
| setProcessingStatus | 0.017 | 0.000 | 0.017 | |
| setTrackedCellsMeta | 0.017 | 0.000 | 0.017 | |
| setTrackedCentroids | 0.017 | 0.000 | 0.016 | |
| setTrackedPositions | 0.013 | 0.004 | 0.017 | |
| setTrackingStats | 0.013 | 0.004 | 0.017 | |
| sinkAway | 0.001 | 0.000 | 0.000 | |
| subNetworkTracking | 0.008 | 0.004 | 0.012 | |
| track | 0.009 | 0.000 | 0.009 | |
| trackHypercubeBuild | 0.000 | 0.000 | 0.001 | |
| trackSlideProcessing | 0.000 | 0.000 | 0.001 | |
| trackSlideWrapUp | 0 | 0 | 0 | |
| trivialBondRaster | 0.000 | 0.002 | 0.001 | |
| trivialBondTracking | 0.000 | 0.001 | 0.000 | |
| visualizeCellTracks | 0.066 | 0.001 | 0.068 | |
| visualizeTrcks | 0.020 | 0.004 | 0.025 | |
| warnMessage | 0 | 0 | 0 | |
| wsaPreProcessing | 0.047 | 0.000 | 0.046 | |