| Back to Multiple platform build/check report for BioC 3.18: simplified long |
|
This page was generated on 2024-04-17 11:35:47 -0400 (Wed, 17 Apr 2024).
| Hostname | OS | Arch (*) | R version | Installed pkgs |
|---|---|---|---|---|
| nebbiolo2 | Linux (Ubuntu 22.04.3 LTS) | x86_64 | 4.3.3 (2024-02-29) -- "Angel Food Cake" | 4676 |
| palomino4 | Windows Server 2022 Datacenter | x64 | 4.3.3 (2024-02-29 ucrt) -- "Angel Food Cake" | 4414 |
| merida1 | macOS 12.7.1 Monterey | x86_64 | 4.3.3 (2024-02-29) -- "Angel Food Cake" | 4437 |
| Click on any hostname to see more info about the system (e.g. compilers) (*) as reported by 'uname -p', except on Windows and Mac OS X | ||||
| Package 153/2266 | Hostname | OS / Arch | INSTALL | BUILD | CHECK | BUILD BIN | ||||||||
| benchdamic 1.8.2 (landing page) Matteo Calgaro
| nebbiolo2 | Linux (Ubuntu 22.04.3 LTS) / x86_64 | OK | OK | OK | |||||||||
| palomino4 | Windows Server 2022 Datacenter / x64 | OK | OK | OK | OK | |||||||||
| merida1 | macOS 12.7.1 Monterey / x86_64 | OK | OK | OK | OK | |||||||||
| kjohnson1 | macOS 13.6.1 Ventura / arm64 | see weekly results here | ||||||||||||
|
To the developers/maintainers of the benchdamic package: - Allow up to 24 hours (and sometimes 48 hours) for your latest push to git@git.bioconductor.org:packages/benchdamic.git to reflect on this report. See Troubleshooting Build Report for more information. - Use the following Renviron settings to reproduce errors and warnings. - If 'R CMD check' started to fail recently on the Linux builder(s) over a missing dependency, add the missing dependency to 'Suggests:' in your DESCRIPTION file. See Renviron.bioc for more information. |
| Package: benchdamic |
| Version: 1.8.2 |
| Command: /home/biocbuild/bbs-3.18-bioc/R/bin/R CMD check --install=check:benchdamic.install-out.txt --library=/home/biocbuild/bbs-3.18-bioc/R/site-library --timings benchdamic_1.8.2.tar.gz |
| StartedAt: 2024-04-15 20:22:15 -0400 (Mon, 15 Apr 2024) |
| EndedAt: 2024-04-15 20:48:38 -0400 (Mon, 15 Apr 2024) |
| EllapsedTime: 1582.3 seconds |
| RetCode: 0 |
| Status: OK |
| CheckDir: benchdamic.Rcheck |
| Warnings: 0 |
##############################################################################
##############################################################################
###
### Running command:
###
### /home/biocbuild/bbs-3.18-bioc/R/bin/R CMD check --install=check:benchdamic.install-out.txt --library=/home/biocbuild/bbs-3.18-bioc/R/site-library --timings benchdamic_1.8.2.tar.gz
###
##############################################################################
##############################################################################
* using log directory ‘/home/biocbuild/bbs-3.18-bioc/meat/benchdamic.Rcheck’
* using R version 4.3.3 (2024-02-29)
* using platform: x86_64-pc-linux-gnu (64-bit)
* R was compiled by
gcc (Ubuntu 11.4.0-1ubuntu1~22.04) 11.4.0
GNU Fortran (Ubuntu 11.4.0-1ubuntu1~22.04) 11.4.0
* running under: Ubuntu 22.04.4 LTS
* using session charset: UTF-8
* checking for file ‘benchdamic/DESCRIPTION’ ... OK
* checking extension type ... Package
* this is package ‘benchdamic’ version ‘1.8.2’
* package encoding: UTF-8
* checking package namespace information ... OK
* checking package dependencies ... OK
* checking if this is a source package ... OK
* checking if there is a namespace ... OK
* checking for hidden files and directories ... OK
* checking for portable file names ... OK
* checking for sufficient/correct file permissions ... OK
* checking whether package ‘benchdamic’ can be installed ... OK
* checking installed package size ... OK
* checking package directory ... OK
* checking ‘build’ directory ... OK
* checking DESCRIPTION meta-information ... OK
* checking top-level files ... OK
* checking for left-over files ... OK
* checking index information ... OK
* checking package subdirectories ... OK
* checking R files for non-ASCII characters ... OK
* checking R files for syntax errors ... OK
* checking whether the package can be loaded ... OK
* checking whether the package can be loaded with stated dependencies ... OK
* checking whether the package can be unloaded cleanly ... OK
* checking whether the namespace can be loaded with stated dependencies ... OK
* checking whether the namespace can be unloaded cleanly ... OK
* checking loading without being on the library search path ... OK
* checking dependencies in R code ... OK
* checking S3 generic/method consistency ... OK
* checking replacement functions ... OK
* checking foreign function calls ... OK
* checking R code for possible problems ... OK
* checking Rd files ... OK
* checking Rd metadata ... OK
* checking Rd cross-references ... OK
* checking for missing documentation entries ... OK
* checking for code/documentation mismatches ... OK
* checking Rd \usage sections ... OK
* checking Rd contents ... OK
* checking for unstated dependencies in examples ... OK
* checking contents of ‘data’ directory ... OK
* checking data for non-ASCII characters ... OK
* checking LazyData ... OK
* checking data for ASCII and uncompressed saves ... OK
* checking files in ‘vignettes’ ... OK
* checking examples ... OK
* checking for unstated dependencies in ‘tests’ ... OK
* checking tests ...
Running ‘testthat.R’
OK
* checking for unstated dependencies in vignettes ... OK
* checking package vignettes in ‘inst/doc’ ... OK
* checking running R code from vignettes ...
‘intro.Rmd’ using ‘UTF-8’... OK
OK
* checking re-building of vignette outputs ... OK
* checking PDF version of manual ... OK
* DONE
Status: OK
benchdamic.Rcheck/00install.out
############################################################################## ############################################################################## ### ### Running command: ### ### /home/biocbuild/bbs-3.18-bioc/R/bin/R CMD INSTALL benchdamic ### ############################################################################## ############################################################################## * installing to library ‘/home/biocbuild/bbs-3.18-bioc/R/site-library’ * installing *source* package ‘benchdamic’ ... ** using staged installation ** R ** data *** moving datasets to lazyload DB ** inst ** byte-compile and prepare package for lazy loading Found more than one class "dist" in cache; using the first, from namespace 'BiocGenerics' Also defined by ‘spam’ ** help *** installing help indices ** building package indices ** installing vignettes ** testing if installed package can be loaded from temporary location Found more than one class "dist" in cache; using the first, from namespace 'BiocGenerics' Also defined by ‘spam’ ** testing if installed package can be loaded from final location Found more than one class "dist" in cache; using the first, from namespace 'BiocGenerics' Also defined by ‘spam’ ** testing if installed package keeps a record of temporary installation path * DONE (benchdamic)
benchdamic.Rcheck/tests/testthat.Rout
R version 4.3.3 (2024-02-29) -- "Angel Food Cake"
Copyright (C) 2024 The R Foundation for Statistical Computing
Platform: x86_64-pc-linux-gnu (64-bit)
R is free software and comes with ABSOLUTELY NO WARRANTY.
You are welcome to redistribute it under certain conditions.
Type 'license()' or 'licence()' for distribution details.
R is a collaborative project with many contributors.
Type 'contributors()' for more information and
'citation()' on how to cite R or R packages in publications.
Type 'demo()' for some demos, 'help()' for on-line help, or
'help.start()' for an HTML browser interface to help.
Type 'q()' to quit R.
> library(testthat)
> library(benchdamic)
Found more than one class "dist" in cache; using the first, from namespace 'BiocGenerics'
Also defined by 'spam'
>
> test_check("benchdamic")
|------------(25%)----------(50%)----------(75%)----------|
|------------(25%)----------(50%)----------(75%)----------|
|------------(25%)----------(50%)----------(75%)----------|
|------------(25%)----------(50%)----------(75%)----------|
|------------(25%)----------(50%)----------(75%)----------|
[ FAIL 0 | WARN 0 | SKIP 1 | PASS 310 ]
══ Skipped tests (1) ═══════════════════════════════════════════════════════════
• empty test (1): 'test_DA_paired.R:3:1'
[ FAIL 0 | WARN 0 | SKIP 1 | PASS 310 ]
>
> proc.time()
user system elapsed
175.626 6.269 224.162
benchdamic.Rcheck/benchdamic-Ex.timings
| name | user | system | elapsed | |
| CAT | 0.006 | 0.000 | 0.006 | |
| DA_ALDEx2 | 4.369 | 0.236 | 4.606 | |
| DA_ANCOM | 3.527 | 0.020 | 3.547 | |
| DA_DESeq2 | 2.709 | 0.028 | 2.737 | |
| DA_MAST | 1.347 | 0.012 | 1.331 | |
| DA_Maaslin2 | 0.220 | 0.024 | 0.245 | |
| DA_NOISeq | 1.934 | 0.112 | 2.047 | |
| DA_Seurat | 2.619 | 0.084 | 2.704 | |
| DA_ZicoSeq | 0.600 | 0.008 | 0.608 | |
| DA_basic | 0.029 | 0.000 | 0.030 | |
| DA_dearseq | 0.057 | 0.000 | 0.057 | |
| DA_edgeR | 0.226 | 0.000 | 0.226 | |
| DA_limma | 0.072 | 0.000 | 0.072 | |
| DA_linda | 0.042 | 0.004 | 0.047 | |
| DA_metagenomeSeq | 0.245 | 0.000 | 0.245 | |
| DA_mixMC | 0.381 | 0.008 | 0.433 | |
| RMSE | 0.001 | 0.000 | 0.001 | |
| addKnowledge | 0.164 | 0.000 | 0.163 | |
| areaCAT | 3.911 | 0.316 | 4.227 | |
| checkNormalization | 0 | 0 | 0 | |
| createColors | 0.005 | 0.000 | 0.006 | |
| createConcordance | 4.41 | 0.30 | 4.71 | |
| createEnrichment | 0.249 | 0.016 | 0.265 | |
| createMocks | 0.002 | 0.000 | 0.002 | |
| createPositives | 0.788 | 0.040 | 0.828 | |
| createSplits | 0.03 | 0.00 | 0.03 | |
| createTIEC | 2.411 | 0.100 | 2.511 | |
| enrichmentTest | 0.108 | 0.012 | 0.121 | |
| extractDA | 0.152 | 0.032 | 0.184 | |
| extractStatistics | 0.164 | 0.016 | 0.180 | |
| fitDM | 0.033 | 0.000 | 0.033 | |
| fitHURDLE | 0.778 | 0.044 | 0.821 | |
| fitModels | 2.282 | 0.072 | 2.353 | |
| fitNB | 0.043 | 0.000 | 0.043 | |
| fitZIG | 0.05 | 0.00 | 0.05 | |
| fitZINB | 0.387 | 0.008 | 0.395 | |
| getDA | 0.063 | 0.012 | 0.075 | |
| getPositives | 0.102 | 0.012 | 0.114 | |
| getStatistics | 0.063 | 0.000 | 0.063 | |
| get_counts_metadata | 0.173 | 0.000 | 0.173 | |
| iterative_ordering | 0.006 | 0.004 | 0.009 | |
| meanDifferences | 0.001 | 0.000 | 0.001 | |
| norm_CSS | 0.067 | 0.000 | 0.067 | |
| norm_DESeq2 | 0.419 | 0.020 | 0.439 | |
| norm_TSS | 0.029 | 0.000 | 0.029 | |
| norm_edgeR | 0.035 | 0.000 | 0.035 | |
| plotConcordance | 4.460 | 0.132 | 4.592 | |
| plotContingency | 0.991 | 0.032 | 1.024 | |
| plotEnrichment | 0.965 | 0.036 | 1.001 | |
| plotFDR | 2.02 | 0.06 | 2.08 | |
| plotFPR | 2.063 | 0.040 | 2.104 | |
| plotKS | 1.944 | 0.028 | 1.973 | |
| plotLogP | 2.002 | 0.080 | 2.082 | |
| plotMD | 3.273 | 0.092 | 3.366 | |
| plotMutualFindings | 1.013 | 0.020 | 1.033 | |
| plotPositives | 0.661 | 0.008 | 0.669 | |
| plotQQ | 2.062 | 0.032 | 2.094 | |
| plotRMSE | 2.782 | 0.116 | 2.898 | |
| prepareObserved | 0.002 | 0.000 | 0.002 | |
| runDA | 0.498 | 0.016 | 0.514 | |
| runMocks | 0.739 | 0.032 | 0.771 | |
| runNormalizations | 0.453 | 0.004 | 0.457 | |
| runSplits | 3.425 | 0.052 | 3.477 | |
| setNormalizations | 0 | 0 | 0 | |
| set_ALDEx2 | 0.007 | 0.000 | 0.007 | |
| set_ANCOM | 0.007 | 0.000 | 0.007 | |
| set_DESeq2 | 0.006 | 0.000 | 0.006 | |
| set_MAST | 0.003 | 0.000 | 0.003 | |
| set_Maaslin2 | 0.004 | 0.000 | 0.004 | |
| set_NOISeq | 0.003 | 0.000 | 0.003 | |
| set_Seurat | 0.005 | 0.000 | 0.005 | |
| set_ZicoSeq | 0.006 | 0.000 | 0.006 | |
| set_basic | 0.002 | 0.000 | 0.002 | |
| set_dearseq | 0.002 | 0.000 | 0.002 | |
| set_edgeR | 0.01 | 0.00 | 0.01 | |
| set_limma | 0.007 | 0.000 | 0.007 | |
| set_linda | 0.005 | 0.000 | 0.005 | |
| set_metagenomeSeq | 0.005 | 0.000 | 0.005 | |
| set_mixMC | 0.003 | 0.000 | 0.003 | |
| weights_ZINB | 0.447 | 0.012 | 0.459 | |