| Back to Multiple platform build/check report for BioC 3.18: simplified long |
|
This page was generated on 2024-04-17 11:35:47 -0400 (Wed, 17 Apr 2024).
| Hostname | OS | Arch (*) | R version | Installed pkgs |
|---|---|---|---|---|
| nebbiolo2 | Linux (Ubuntu 22.04.3 LTS) | x86_64 | 4.3.3 (2024-02-29) -- "Angel Food Cake" | 4676 |
| palomino4 | Windows Server 2022 Datacenter | x64 | 4.3.3 (2024-02-29 ucrt) -- "Angel Food Cake" | 4414 |
| merida1 | macOS 12.7.1 Monterey | x86_64 | 4.3.3 (2024-02-29) -- "Angel Food Cake" | 4437 |
| Click on any hostname to see more info about the system (e.g. compilers) (*) as reported by 'uname -p', except on Windows and Mac OS X | ||||
| Package 139/2266 | Hostname | OS / Arch | INSTALL | BUILD | CHECK | BUILD BIN | ||||||||
| baySeq 2.36.2 (landing page) Samuel Granjeaud
| nebbiolo2 | Linux (Ubuntu 22.04.3 LTS) / x86_64 | OK | OK | OK | |||||||||
| palomino4 | Windows Server 2022 Datacenter / x64 | OK | OK | OK | OK | |||||||||
| merida1 | macOS 12.7.1 Monterey / x86_64 | OK | OK | OK | OK | |||||||||
| kjohnson1 | macOS 13.6.1 Ventura / arm64 | see weekly results here | ||||||||||||
|
To the developers/maintainers of the baySeq package: - Allow up to 24 hours (and sometimes 48 hours) for your latest push to git@git.bioconductor.org:packages/baySeq.git to reflect on this report. See Troubleshooting Build Report for more information. - Use the following Renviron settings to reproduce errors and warnings. - If 'R CMD check' started to fail recently on the Linux builder(s) over a missing dependency, add the missing dependency to 'Suggests:' in your DESCRIPTION file. See Renviron.bioc for more information. |
| Package: baySeq |
| Version: 2.36.2 |
| Command: /home/biocbuild/bbs-3.18-bioc/R/bin/R CMD check --install=check:baySeq.install-out.txt --library=/home/biocbuild/bbs-3.18-bioc/R/site-library --timings baySeq_2.36.2.tar.gz |
| StartedAt: 2024-04-15 20:18:40 -0400 (Mon, 15 Apr 2024) |
| EndedAt: 2024-04-15 20:32:39 -0400 (Mon, 15 Apr 2024) |
| EllapsedTime: 839.2 seconds |
| RetCode: 0 |
| Status: OK |
| CheckDir: baySeq.Rcheck |
| Warnings: 0 |
##############################################################################
##############################################################################
###
### Running command:
###
### /home/biocbuild/bbs-3.18-bioc/R/bin/R CMD check --install=check:baySeq.install-out.txt --library=/home/biocbuild/bbs-3.18-bioc/R/site-library --timings baySeq_2.36.2.tar.gz
###
##############################################################################
##############################################################################
* using log directory ‘/home/biocbuild/bbs-3.18-bioc/meat/baySeq.Rcheck’
* using R version 4.3.3 (2024-02-29)
* using platform: x86_64-pc-linux-gnu (64-bit)
* R was compiled by
gcc (Ubuntu 11.4.0-1ubuntu1~22.04) 11.4.0
GNU Fortran (Ubuntu 11.4.0-1ubuntu1~22.04) 11.4.0
* running under: Ubuntu 22.04.4 LTS
* using session charset: UTF-8
* checking for file ‘baySeq/DESCRIPTION’ ... OK
* checking extension type ... Package
* this is package ‘baySeq’ version ‘2.36.2’
* checking package namespace information ... OK
* checking package dependencies ... OK
* checking if this is a source package ... OK
* checking if there is a namespace ... OK
* checking for hidden files and directories ... OK
* checking for portable file names ... OK
* checking for sufficient/correct file permissions ... OK
* checking whether package ‘baySeq’ can be installed ... OK
* checking installed package size ... OK
* checking package directory ... OK
* checking ‘build’ directory ... OK
* checking DESCRIPTION meta-information ... OK
* checking top-level files ... OK
* checking for left-over files ... OK
* checking index information ... OK
* checking package subdirectories ... OK
* checking R files for non-ASCII characters ... OK
* checking R files for syntax errors ... OK
* checking whether the package can be loaded ... OK
* checking whether the package can be loaded with stated dependencies ... OK
* checking whether the package can be unloaded cleanly ... OK
* checking whether the namespace can be loaded with stated dependencies ... OK
* checking whether the namespace can be unloaded cleanly ... OK
* checking loading without being on the library search path ... OK
* checking dependencies in R code ... OK
* checking S3 generic/method consistency ... OK
* checking replacement functions ... OK
* checking foreign function calls ... OK
* checking R code for possible problems ... OK
* checking Rd files ... OK
* checking Rd metadata ... OK
* checking Rd cross-references ... OK
* checking for missing documentation entries ... OK
* checking for code/documentation mismatches ... OK
* checking Rd \usage sections ... OK
* checking Rd contents ... OK
* checking for unstated dependencies in examples ... OK
* checking contents of ‘data’ directory ... OK
* checking data for non-ASCII characters ... OK
* checking data for ASCII and uncompressed saves ... OK
* checking files in ‘vignettes’ ... OK
* checking examples ... OK
Examples with CPU (user + system) or elapsed time > 5s
user system elapsed
baySeq-package 31.056 0.123 31.181
getPriors 22.575 0.060 22.636
getLikelihoods 8.205 0.052 8.258
* checking for unstated dependencies in vignettes ... OK
* checking package vignettes in ‘inst/doc’ ... OK
* checking running R code from vignettes ...
‘baySeq.Rnw’... OK
‘baySeq_generic.Rnw’... OK
OK
* checking re-building of vignette outputs ... OK
* checking PDF version of manual ... OK
* DONE
Status: OK
baySeq.Rcheck/00install.out
############################################################################## ############################################################################## ### ### Running command: ### ### /home/biocbuild/bbs-3.18-bioc/R/bin/R CMD INSTALL baySeq ### ############################################################################## ############################################################################## * installing to library ‘/home/biocbuild/bbs-3.18-bioc/R/site-library’ * installing *source* package ‘baySeq’ ... ** using staged installation ** R ** data ** byte-compile and prepare package for lazy loading ** help *** installing help indices ** building package indices ** installing vignettes ** testing if installed package can be loaded from temporary location ** testing if installed package can be loaded from final location ** testing if installed package keeps a record of temporary installation path * DONE (baySeq)
baySeq.Rcheck/baySeq-Ex.timings
| name | user | system | elapsed | |
| allModels | 0.271 | 0.008 | 0.279 | |
| baySeq-classes | 0.104 | 0.001 | 0.105 | |
| baySeq-package | 31.056 | 0.123 | 31.181 | |
| bimodalSep | 0.001 | 0.000 | 0.002 | |
| densityFunction | 0.000 | 0.000 | 0.001 | |
| getLibsizes | 0.005 | 0.000 | 0.005 | |
| getLikelihoods | 8.205 | 0.052 | 8.258 | |
| getPosteriors | 0.004 | 0.000 | 0.003 | |
| getPriors | 22.575 | 0.060 | 22.636 | |
| getTPs | 0.004 | 0.003 | 0.006 | |
| makeOrderings | 0.030 | 0.005 | 0.035 | |
| marginaliseEqual | 0.236 | 0.000 | 0.237 | |
| marginalisePairwise | 0.242 | 0.000 | 0.242 | |
| plotMA.CD | 0.019 | 0.004 | 0.023 | |
| plotPosteriors | 0.044 | 0.004 | 0.048 | |
| plotPriors | 0.029 | 0.000 | 0.029 | |
| selectTop | 0.012 | 0.000 | 0.012 | |
| summarisePosteriors | 0.004 | 0.000 | 0.005 | |
| topCounts | 0.008 | 0.008 | 0.017 | |