| Back to Multiple platform build/check report for BioC 3.18: simplified long |
|
This page was generated on 2024-04-17 11:35:46 -0400 (Wed, 17 Apr 2024).
| Hostname | OS | Arch (*) | R version | Installed pkgs |
|---|---|---|---|---|
| nebbiolo2 | Linux (Ubuntu 22.04.3 LTS) | x86_64 | 4.3.3 (2024-02-29) -- "Angel Food Cake" | 4676 |
| palomino4 | Windows Server 2022 Datacenter | x64 | 4.3.3 (2024-02-29 ucrt) -- "Angel Food Cake" | 4414 |
| merida1 | macOS 12.7.1 Monterey | x86_64 | 4.3.3 (2024-02-29) -- "Angel Food Cake" | 4437 |
| Click on any hostname to see more info about the system (e.g. compilers) (*) as reported by 'uname -p', except on Windows and Mac OS X | ||||
| Package 60/2266 | Hostname | OS / Arch | INSTALL | BUILD | CHECK | BUILD BIN | ||||||||
| amplican 1.24.0 (landing page) Eivind Valen
| nebbiolo2 | Linux (Ubuntu 22.04.3 LTS) / x86_64 | OK | OK | ERROR | |||||||||
| palomino4 | Windows Server 2022 Datacenter / x64 | OK | OK | OK | OK | |||||||||
| merida1 | macOS 12.7.1 Monterey / x86_64 | OK | OK | OK | OK | |||||||||
| kjohnson1 | macOS 13.6.1 Ventura / arm64 | see weekly results here | ||||||||||||
|
To the developers/maintainers of the amplican package: - Allow up to 24 hours (and sometimes 48 hours) for your latest push to git@git.bioconductor.org:packages/amplican.git to reflect on this report. See Troubleshooting Build Report for more information. - Use the following Renviron settings to reproduce errors and warnings. - If 'R CMD check' started to fail recently on the Linux builder(s) over a missing dependency, add the missing dependency to 'Suggests:' in your DESCRIPTION file. See Renviron.bioc for more information. |
| Package: amplican |
| Version: 1.24.0 |
| Command: /home/biocbuild/bbs-3.18-bioc/R/bin/R CMD check --install=check:amplican.install-out.txt --library=/home/biocbuild/bbs-3.18-bioc/R/site-library --timings amplican_1.24.0.tar.gz |
| StartedAt: 2024-04-15 20:00:17 -0400 (Mon, 15 Apr 2024) |
| EndedAt: 2024-04-15 20:04:46 -0400 (Mon, 15 Apr 2024) |
| EllapsedTime: 269.6 seconds |
| RetCode: 1 |
| Status: ERROR |
| CheckDir: amplican.Rcheck |
| Warnings: NA |
##############################################################################
##############################################################################
###
### Running command:
###
### /home/biocbuild/bbs-3.18-bioc/R/bin/R CMD check --install=check:amplican.install-out.txt --library=/home/biocbuild/bbs-3.18-bioc/R/site-library --timings amplican_1.24.0.tar.gz
###
##############################################################################
##############################################################################
* using log directory ‘/home/biocbuild/bbs-3.18-bioc/meat/amplican.Rcheck’
* using R version 4.3.3 (2024-02-29)
* using platform: x86_64-pc-linux-gnu (64-bit)
* R was compiled by
gcc (Ubuntu 11.4.0-1ubuntu1~22.04) 11.4.0
GNU Fortran (Ubuntu 11.4.0-1ubuntu1~22.04) 11.4.0
* running under: Ubuntu 22.04.4 LTS
* using session charset: UTF-8
* checking for file ‘amplican/DESCRIPTION’ ... OK
* checking extension type ... Package
* this is package ‘amplican’ version ‘1.24.0’
* package encoding: UTF-8
* checking package namespace information ... OK
* checking package dependencies ... OK
* checking if this is a source package ... OK
* checking if there is a namespace ... OK
* checking for hidden files and directories ... OK
* checking for portable file names ... OK
* checking for sufficient/correct file permissions ... OK
* checking whether package ‘amplican’ can be installed ... OK
* used C++ compiler: ‘g++ (Ubuntu 11.4.0-1ubuntu1~22.04) 11.4.0’
* checking installed package size ... OK
* checking package directory ... OK
* checking ‘build’ directory ... OK
* checking DESCRIPTION meta-information ... OK
* checking top-level files ... OK
* checking for left-over files ... OK
* checking index information ... OK
* checking package subdirectories ... OK
* checking R files for non-ASCII characters ... OK
* checking R files for syntax errors ... OK
* checking whether the package can be loaded ... OK
* checking whether the package can be loaded with stated dependencies ... OK
* checking whether the package can be unloaded cleanly ... OK
* checking whether the namespace can be loaded with stated dependencies ... OK
* checking whether the namespace can be unloaded cleanly ... OK
* checking loading without being on the library search path ... OK
* checking startup messages can be suppressed ... OK
* checking dependencies in R code ... OK
* checking S3 generic/method consistency ... OK
* checking replacement functions ... OK
* checking foreign function calls ... OK
* checking R code for possible problems ... OK
* checking Rd files ... OK
* checking Rd metadata ... OK
* checking Rd cross-references ... OK
* checking for missing documentation entries ... OK
* checking for code/documentation mismatches ... OK
* checking Rd \usage sections ... OK
* checking Rd contents ... OK
* checking for unstated dependencies in examples ... OK
* checking line endings in C/C++/Fortran sources/headers ... OK
* checking compiled code ... NOTE
Note: information on .o files is not available
* checking files in ‘vignettes’ ... OK
* checking examples ... OK
Examples with CPU (user + system) or elapsed time > 5s
user system elapsed
amplicanAlign 6.626 0.455 7.082
amplicanPipeline 6.666 0.091 6.744
* checking for unstated dependencies in ‘tests’ ... OK
* checking tests ...
Running ‘testthat.R’
OK
* checking for unstated dependencies in vignettes ... OK
* checking package vignettes in ‘inst/doc’ ... OK
* checking running R code from vignettes ...
‘amplicanFAQ.Rmd’ using ‘UTF-8’... OK
‘amplicanOverview.Rmd’ using ‘UTF-8’... OK
‘example_amplicon_report.Rmd’ using ‘UTF-8’... failed
‘example_barcode_report.Rmd’ using ‘UTF-8’... OK
‘example_group_report.Rmd’ using ‘UTF-8’... failed
‘example_guide_report.Rmd’ using ‘UTF-8’... failed
‘example_id_report.Rmd’ using ‘UTF-8’... failed
‘example_index.Rmd’ using ‘UTF-8’... OK
ERROR
Errors in running code in vignettes:
when running code in ‘example_amplicon_report.Rmd’
...
> src = sapply(seq_along(uniqueAmlicons), function(i) {
+ ID = config$ID[config$AmpliconUpper == uniqueAmlicons[i]]
+ ID = paste0("c('", paste .... [TRUNCATED]
> res = knitr::knit_child(text = src, quiet = TRUE)
When sourcing ‘example_amplicon_report.R’:
Error: character argument expected
Execution halted
when running code in ‘example_group_report.Rmd’
...
> src = sapply(unique(config$Group), function(i) {
+ knitr::knit_expand(text = c("## Group {{i}} \n", "### Deletions \n",
+ paste("```{ ..." ... [TRUNCATED]
> res = knitr::knit_child(text = src, quiet = TRUE)
When sourcing ‘example_group_report.R’:
Error: character argument expected
Execution halted
when running code in ‘example_guide_report.Rmd’
...
> src = sapply(unique(config$guideRNA), function(i) {
+ knitr::knit_expand(text = c("## Guide {{i}} \n", "### Deletions \n",
+ paste("` ..." ... [TRUNCATED]
> res = knitr::knit_child(text = src, quiet = TRUE)
When sourcing ‘example_guide_report.R’:
Error: character argument expected
Execution halted
when running code in ‘example_id_report.Rmd’
...
> src = sapply(config$ID, function(i) {
+ knitr::knit_expand(text = c("## {{i}} \n", "### Deletions \n",
+ paste("```{r del-{{i}}, echo ..." ... [TRUNCATED]
> res = knitr::knit_child(text = src, quiet = TRUE)
When sourcing ‘example_id_report.R’:
Error: character argument expected
Execution halted
* checking re-building of vignette outputs ... OK
* checking PDF version of manual ... OK
* DONE
Status: 1 ERROR, 1 NOTE
See
‘/home/biocbuild/bbs-3.18-bioc/meat/amplican.Rcheck/00check.log’
for details.
amplican.Rcheck/00install.out
############################################################################## ############################################################################## ### ### Running command: ### ### /home/biocbuild/bbs-3.18-bioc/R/bin/R CMD INSTALL amplican ### ############################################################################## ############################################################################## * installing to library ‘/home/biocbuild/bbs-3.18-bioc/R/site-library’ * installing *source* package ‘amplican’ ... ** using staged installation ** libs using C++ compiler: ‘g++ (Ubuntu 11.4.0-1ubuntu1~22.04) 11.4.0’ g++ -std=gnu++17 -I"/home/biocbuild/bbs-3.18-bioc/R/include" -DNDEBUG -I'/home/biocbuild/bbs-3.18-bioc/R/site-library/Rcpp/include' -I/usr/local/include -fpic -g -O2 -Wall -c RcppExports.cpp -o RcppExports.o g++ -std=gnu++17 -I"/home/biocbuild/bbs-3.18-bioc/R/include" -DNDEBUG -I'/home/biocbuild/bbs-3.18-bioc/R/site-library/Rcpp/include' -I/usr/local/include -fpic -g -O2 -Wall -c bezier.cpp -o bezier.o g++ -std=gnu++17 -shared -L/home/biocbuild/bbs-3.18-bioc/R/lib -L/usr/local/lib -o amplican.so RcppExports.o bezier.o -L/home/biocbuild/bbs-3.18-bioc/R/lib -lR installing to /home/biocbuild/bbs-3.18-bioc/R/site-library/00LOCK-amplican/00new/amplican/libs ** R ** inst ** byte-compile and prepare package for lazy loading ** help *** installing help indices ** building package indices ** installing vignettes ** testing if installed package can be loaded from temporary location ** checking absolute paths in shared objects and dynamic libraries ** testing if installed package can be loaded from final location ** testing if installed package keeps a record of temporary installation path * DONE (amplican)
amplican.Rcheck/tests/testthat.Rout
R version 4.3.3 (2024-02-29) -- "Angel Food Cake"
Copyright (C) 2024 The R Foundation for Statistical Computing
Platform: x86_64-pc-linux-gnu (64-bit)
R is free software and comes with ABSOLUTELY NO WARRANTY.
You are welcome to redistribute it under certain conditions.
Type 'license()' or 'licence()' for distribution details.
R is a collaborative project with many contributors.
Type 'contributors()' for more information and
'citation()' on how to cite R or R packages in publications.
Type 'demo()' for some demos, 'help()' for on-line help, or
'help.start()' for an HTML browser interface to help.
Type 'q()' to quit R.
> library(testthat)
> library(amplican)
Loading required package: BiocGenerics
Attaching package: 'BiocGenerics'
The following objects are masked from 'package:stats':
IQR, mad, sd, var, xtabs
The following objects are masked from 'package:base':
Filter, Find, Map, Position, Reduce, anyDuplicated, aperm, append,
as.data.frame, basename, cbind, colnames, dirname, do.call,
duplicated, eval, evalq, get, grep, grepl, intersect, is.unsorted,
lapply, mapply, match, mget, order, paste, pmax, pmax.int, pmin,
pmin.int, rank, rbind, rownames, sapply, setdiff, sort, table,
tapply, union, unique, unsplit, which.max, which.min
Loading required package: Biostrings
Loading required package: S4Vectors
Loading required package: stats4
Attaching package: 'S4Vectors'
The following object is masked from 'package:utils':
findMatches
The following objects are masked from 'package:base':
I, expand.grid, unname
Loading required package: IRanges
Loading required package: XVector
Loading required package: GenomeInfoDb
Attaching package: 'Biostrings'
The following object is masked from 'package:base':
strsplit
Loading required package: data.table
Attaching package: 'data.table'
The following object is masked from 'package:IRanges':
shift
The following objects are masked from 'package:S4Vectors':
first, second
Please consider supporting this software by citing:
Labun et al. 2019
Accurate analysis of genuine CRISPR editing events with ampliCan.
Genome Res. 2019 Mar 8
doi: 10.1101/gr.244293.118
>
> test_check("amplican")
[ FAIL 0 | WARN 1 | SKIP 0 | PASS 57 ]
[ FAIL 0 | WARN 1 | SKIP 0 | PASS 57 ]
>
> proc.time()
user system elapsed
21.997 0.875 22.823
amplican.Rcheck/amplican-Ex.timings
| name | user | system | elapsed | |
| AlignmentsExperimentSet-class | 1.249 | 0.052 | 1.301 | |
| amplicanAlign | 6.626 | 0.455 | 7.082 | |
| amplicanConsensus | 0.101 | 0.008 | 0.109 | |
| amplicanFilter | 0.024 | 0.000 | 0.025 | |
| amplicanMap | 0.262 | 0.004 | 0.266 | |
| amplicanNormalize | 0.045 | 0.000 | 0.030 | |
| amplicanOverlap | 0.019 | 0.001 | 0.019 | |
| amplicanPipeline | 6.666 | 0.091 | 6.744 | |
| amplicanReport | 0.009 | 0.004 | 0.014 | |
| amplicanSummarize | 0.029 | 0.000 | 0.018 | |
| amplican_print_reads | 0.252 | 0.012 | 0.265 | |
| assignedCount | 0.018 | 0.000 | 0.018 | |
| barcodeData-set | 0.003 | 0.000 | 0.003 | |
| barcodeData | 0.004 | 0.000 | 0.003 | |
| comb_along | 0.017 | 0.000 | 0.017 | |
| experimentData-set | 0.003 | 0.000 | 0.003 | |
| experimentData | 0.005 | 0.000 | 0.006 | |
| extractEvents | 2.447 | 0.060 | 2.507 | |
| findEOP | 0.004 | 0.000 | 0.004 | |
| findLQR | 0.002 | 0.002 | 0.004 | |
| findPD | 0.002 | 0.001 | 0.003 | |
| fwdReads-set | 0.003 | 0.000 | 0.003 | |
| fwdReads | 0.311 | 0.000 | 0.312 | |
| fwdReadsType-set | 0.003 | 0.000 | 0.003 | |
| fwdReadsType | 0.000 | 0.002 | 0.002 | |
| geom_bezier | 0.411 | 0.000 | 0.411 | |
| lookupAlignment | 0.243 | 0.004 | 0.247 | |
| metaplot_deletions | 0.172 | 0.016 | 0.188 | |
| metaplot_insertions | 0.302 | 0.015 | 0.307 | |
| metaplot_mismatches | 0.324 | 0.016 | 0.329 | |
| plot_cuts | 0.249 | 0.004 | 0.240 | |
| plot_deletions | 0.228 | 0.000 | 0.229 | |
| plot_height | 0 | 0 | 0 | |
| plot_heterogeneity | 0.212 | 0.000 | 0.195 | |
| plot_insertions | 0.458 | 0.000 | 0.453 | |
| plot_mismatches | 1.372 | 0.048 | 1.388 | |
| plot_variants | 0.564 | 0.008 | 0.551 | |
| readCounts-set | 0.004 | 0.001 | 0.004 | |
| readCounts | 0.003 | 0.000 | 0.002 | |
| rveReads-set | 0.004 | 0.000 | 0.003 | |
| rveReads | 0.315 | 0.003 | 0.320 | |
| rveReadsType-set | 0.003 | 0.000 | 0.003 | |
| rveReadsType | 0.003 | 0.000 | 0.002 | |
| unassignedCount | 0.003 | 0.000 | 0.002 | |
| unassignedData-set | 0.003 | 0.000 | 0.003 | |
| unassignedData | 0.004 | 0.000 | 0.004 | |
| writeAlignments | 0.019 | 0.000 | 0.019 | |