| Back to Multiple platform build/check report for BioC 3.18: simplified long |
|
This page was generated on 2024-04-17 11:36:29 -0400 (Wed, 17 Apr 2024).
| Hostname | OS | Arch (*) | R version | Installed pkgs |
|---|---|---|---|---|
| nebbiolo2 | Linux (Ubuntu 22.04.3 LTS) | x86_64 | 4.3.3 (2024-02-29) -- "Angel Food Cake" | 4676 |
| palomino4 | Windows Server 2022 Datacenter | x64 | 4.3.3 (2024-02-29 ucrt) -- "Angel Food Cake" | 4414 |
| merida1 | macOS 12.7.1 Monterey | x86_64 | 4.3.3 (2024-02-29) -- "Angel Food Cake" | 4437 |
| Click on any hostname to see more info about the system (e.g. compilers) (*) as reported by 'uname -p', except on Windows and Mac OS X | ||||
| Package 2223/2266 | Hostname | OS / Arch | INSTALL | BUILD | CHECK | BUILD BIN | ||||||||
| VDJdive 1.4.0 (landing page) Kelly Street
| nebbiolo2 | Linux (Ubuntu 22.04.3 LTS) / x86_64 | OK | OK | OK | |||||||||
| palomino4 | Windows Server 2022 Datacenter / x64 | OK | OK | OK | OK | |||||||||
| merida1 | macOS 12.7.1 Monterey / x86_64 | OK | OK | OK | OK | |||||||||
| kjohnson1 | macOS 13.6.1 Ventura / arm64 | see weekly results here | ||||||||||||
|
To the developers/maintainers of the VDJdive package: - Allow up to 24 hours (and sometimes 48 hours) for your latest push to git@git.bioconductor.org:packages/VDJdive.git to reflect on this report. See Troubleshooting Build Report for more information. - Use the following Renviron settings to reproduce errors and warnings. - If 'R CMD check' started to fail recently on the Linux builder(s) over a missing dependency, add the missing dependency to 'Suggests:' in your DESCRIPTION file. See Renviron.bioc for more information. |
| Package: VDJdive |
| Version: 1.4.0 |
| Command: /home/biocbuild/bbs-3.18-bioc/R/bin/R CMD check --install=check:VDJdive.install-out.txt --library=/home/biocbuild/bbs-3.18-bioc/R/site-library --timings VDJdive_1.4.0.tar.gz |
| StartedAt: 2024-04-16 05:07:18 -0400 (Tue, 16 Apr 2024) |
| EndedAt: 2024-04-16 05:11:30 -0400 (Tue, 16 Apr 2024) |
| EllapsedTime: 251.9 seconds |
| RetCode: 0 |
| Status: OK |
| CheckDir: VDJdive.Rcheck |
| Warnings: 0 |
##############################################################################
##############################################################################
###
### Running command:
###
### /home/biocbuild/bbs-3.18-bioc/R/bin/R CMD check --install=check:VDJdive.install-out.txt --library=/home/biocbuild/bbs-3.18-bioc/R/site-library --timings VDJdive_1.4.0.tar.gz
###
##############################################################################
##############################################################################
* using log directory ‘/home/biocbuild/bbs-3.18-bioc/meat/VDJdive.Rcheck’
* using R version 4.3.3 (2024-02-29)
* using platform: x86_64-pc-linux-gnu (64-bit)
* R was compiled by
gcc (Ubuntu 11.4.0-1ubuntu1~22.04) 11.4.0
GNU Fortran (Ubuntu 11.4.0-1ubuntu1~22.04) 11.4.0
* running under: Ubuntu 22.04.4 LTS
* using session charset: UTF-8
* checking for file ‘VDJdive/DESCRIPTION’ ... OK
* this is package ‘VDJdive’ version ‘1.4.0’
* package encoding: UTF-8
* checking package namespace information ... OK
* checking package dependencies ... OK
* checking if this is a source package ... OK
* checking if there is a namespace ... OK
* checking for hidden files and directories ... OK
* checking for portable file names ... OK
* checking for sufficient/correct file permissions ... OK
* checking whether package ‘VDJdive’ can be installed ... NOTE
Found the following notes/warnings:
Non-staged installation was used
See ‘/home/biocbuild/bbs-3.18-bioc/meat/VDJdive.Rcheck/00install.out’ for details.
* used C++ compiler: ‘g++ (Ubuntu 11.4.0-1ubuntu1~22.04) 11.4.0’
* checking installed package size ... OK
* checking package directory ... OK
* checking ‘build’ directory ... OK
* checking DESCRIPTION meta-information ... OK
* checking top-level files ... OK
* checking for left-over files ... OK
* checking index information ... OK
* checking package subdirectories ... OK
* checking R files for non-ASCII characters ... OK
* checking R files for syntax errors ... OK
* checking whether the package can be loaded ... OK
* checking whether the package can be loaded with stated dependencies ... OK
* checking whether the package can be unloaded cleanly ... OK
* checking whether the namespace can be loaded with stated dependencies ... OK
* checking whether the namespace can be unloaded cleanly ... OK
* checking loading without being on the library search path ... OK
* checking dependencies in R code ... OK
* checking S3 generic/method consistency ... OK
* checking replacement functions ... OK
* checking foreign function calls ... OK
* checking R code for possible problems ... NOTE
abundanceVDJ,clonoStats: no visible binding for global variable ‘count’
abundanceVDJ,clonoStats: no visible binding for global variable ‘y’
barVDJ,Matrix: no visible binding for global variable ‘count’
boxVDJ,matrix: no visible binding for global variable ‘group’
boxVDJ,matrix: no visible binding for global variable ‘Diversity’
pieVDJ,Matrix: no visible binding for global variable ‘count’
scatterVDJ,matrix: no visible binding for global variable ‘clono’
scatterVDJ,matrix: no visible binding for global variable ‘normentropy’
scatterVDJ,matrix: no visible binding for global variable ‘sampleType’
Undefined global functions or variables:
Diversity clono count group normentropy sampleType y
* checking Rd files ... OK
* checking Rd metadata ... OK
* checking Rd cross-references ... OK
* checking for missing documentation entries ... OK
* checking for code/documentation mismatches ... OK
* checking Rd \usage sections ... OK
* checking Rd contents ... OK
* checking for unstated dependencies in examples ... OK
* checking contents of ‘data’ directory ... OK
* checking data for non-ASCII characters ... OK
* checking data for ASCII and uncompressed saves ... OK
* checking line endings in C/C++/Fortran sources/headers ... OK
* checking compiled code ... NOTE
Note: information on .o files is not available
* checking files in ‘vignettes’ ... OK
* checking examples ... OK
* checking for unstated dependencies in ‘tests’ ... OK
* checking tests ...
Running ‘testthat.R’
OK
* checking for unstated dependencies in vignettes ... OK
* checking package vignettes in ‘inst/doc’ ... OK
* checking running R code from vignettes ...
‘workflow.Rmd’ using ‘UTF-8’... OK
OK
* checking re-building of vignette outputs ... OK
* checking PDF version of manual ... OK
* DONE
Status: 3 NOTEs
See
‘/home/biocbuild/bbs-3.18-bioc/meat/VDJdive.Rcheck/00check.log’
for details.
VDJdive.Rcheck/00install.out
############################################################################## ############################################################################## ### ### Running command: ### ### /home/biocbuild/bbs-3.18-bioc/R/bin/R CMD INSTALL VDJdive ### ############################################################################## ############################################################################## * installing to library ‘/home/biocbuild/bbs-3.18-bioc/R/site-library’ * installing *source* package ‘VDJdive’ ... ** using non-staged installation via StagedInstall field ** libs using C++ compiler: ‘g++ (Ubuntu 11.4.0-1ubuntu1~22.04) 11.4.0’ g++ -std=gnu++17 -I"/home/biocbuild/bbs-3.18-bioc/R/include" -DNDEBUG -I'/home/biocbuild/bbs-3.18-bioc/R/site-library/Rcpp/include' -I/usr/local/include -fpic -g -O2 -Wall -c RcppExports.cpp -o RcppExports.o g++ -std=gnu++17 -I"/home/biocbuild/bbs-3.18-bioc/R/include" -DNDEBUG -I'/home/biocbuild/bbs-3.18-bioc/R/site-library/Rcpp/include' -I/usr/local/include -fpic -g -O2 -Wall -c TCR_EM.cpp -o TCR_EM.o g++ -std=gnu++17 -shared -L/home/biocbuild/bbs-3.18-bioc/R/lib -L/usr/local/lib -o VDJdive.so RcppExports.o TCR_EM.o -L/home/biocbuild/bbs-3.18-bioc/R/lib -lR installing to /home/biocbuild/bbs-3.18-bioc/R/site-library/VDJdive/libs ** R ** data ** inst ** byte-compile and prepare package for lazy loading ** help *** installing help indices *** copying figures ** building package indices ** installing vignettes ** testing if installed package can be loaded * DONE (VDJdive)
VDJdive.Rcheck/tests/testthat.Rout
R version 4.3.3 (2024-02-29) -- "Angel Food Cake"
Copyright (C) 2024 The R Foundation for Statistical Computing
Platform: x86_64-pc-linux-gnu (64-bit)
R is free software and comes with ABSOLUTELY NO WARRANTY.
You are welcome to redistribute it under certain conditions.
Type 'license()' or 'licence()' for distribution details.
R is a collaborative project with many contributors.
Type 'contributors()' for more information and
'citation()' on how to cite R or R packages in publications.
Type 'demo()' for some demos, 'help()' for on-line help, or
'help.start()' for an HTML browser interface to help.
Type 'q()' to quit R.
> library(testthat)
> library(VDJdive)
>
> test_check("VDJdive")
An object of class "clonoStats"
clonotypes: 7
cells: 24
groups(2): sample1 sample2
has assignment: FALSEAn object of class "clonoStats"
clonotypes: 7
cells: 24
groups(2): sample1 sample2
has assignment: TRUE[ FAIL 0 | WARN 0 | SKIP 0 | PASS 125 ]
>
> proc.time()
user system elapsed
28.951 1.248 30.190
VDJdive.Rcheck/VDJdive-Ex.timings
| name | user | system | elapsed | |
| abundanceVDJ | 1.613 | 0.064 | 1.676 | |
| addVDJtoSCE | 0.511 | 0.016 | 0.527 | |
| barVDJ | 1.686 | 0.092 | 1.778 | |
| boxVDJ | 0.809 | 0.160 | 0.968 | |
| calculateDiversity | 0.506 | 0.008 | 0.514 | |
| clonoStats-class | 0.639 | 0.004 | 0.644 | |
| clonoStats | 0.613 | 0.032 | 0.646 | |
| contigs | 0.685 | 0.007 | 0.693 | |
| pieVDJ | 1.175 | 0.072 | 1.247 | |
| readVDJcontigs | 0.078 | 0.004 | 0.082 | |
| runBreakaway | 2.567 | 0.112 | 2.681 | |
| runVDJPCA | 0.905 | 0.004 | 0.909 | |
| scatterVDJ | 0.832 | 0.028 | 0.860 | |
| splitClonotypes | 1.013 | 0.060 | 1.072 | |
| summarizeClonotypes | 1.426 | 0.108 | 1.534 | |
| writeVDJcontigs | 0.056 | 0.000 | 0.056 | |