| Back to Multiple platform build/check report for BioC 3.18: simplified long |
|
This page was generated on 2024-04-17 11:37:25 -0400 (Wed, 17 Apr 2024).
| Hostname | OS | Arch (*) | R version | Installed pkgs |
|---|---|---|---|---|
| nebbiolo2 | Linux (Ubuntu 22.04.3 LTS) | x86_64 | 4.3.3 (2024-02-29) -- "Angel Food Cake" | 4676 |
| palomino4 | Windows Server 2022 Datacenter | x64 | 4.3.3 (2024-02-29 ucrt) -- "Angel Food Cake" | 4414 |
| merida1 | macOS 12.7.1 Monterey | x86_64 | 4.3.3 (2024-02-29) -- "Angel Food Cake" | 4437 |
| Click on any hostname to see more info about the system (e.g. compilers) (*) as reported by 'uname -p', except on Windows and Mac OS X | ||||
| Package 2178/2266 | Hostname | OS / Arch | INSTALL | BUILD | CHECK | BUILD BIN | ||||||||
| TRESS 1.8.0 (landing page) Zhenxing Guo
| nebbiolo2 | Linux (Ubuntu 22.04.3 LTS) / x86_64 | OK | OK | OK | |||||||||
| palomino4 | Windows Server 2022 Datacenter / x64 | OK | OK | OK | OK | |||||||||
| merida1 | macOS 12.7.1 Monterey / x86_64 | OK | OK | OK | OK | |||||||||
| kjohnson1 | macOS 13.6.1 Ventura / arm64 | see weekly results here | ||||||||||||
|
To the developers/maintainers of the TRESS package: - Allow up to 24 hours (and sometimes 48 hours) for your latest push to git@git.bioconductor.org:packages/TRESS.git to reflect on this report. See Troubleshooting Build Report for more information. - Use the following Renviron settings to reproduce errors and warnings. - If 'R CMD check' started to fail recently on the Linux builder(s) over a missing dependency, add the missing dependency to 'Suggests:' in your DESCRIPTION file. See Renviron.bioc for more information. |
| Package: TRESS |
| Version: 1.8.0 |
| Command: F:\biocbuild\bbs-3.18-bioc\R\bin\R.exe CMD check --no-multiarch --install=check:TRESS.install-out.txt --library=F:\biocbuild\bbs-3.18-bioc\R\library --no-vignettes --timings TRESS_1.8.0.tar.gz |
| StartedAt: 2024-04-16 05:59:35 -0400 (Tue, 16 Apr 2024) |
| EndedAt: 2024-04-16 06:05:54 -0400 (Tue, 16 Apr 2024) |
| EllapsedTime: 378.4 seconds |
| RetCode: 0 |
| Status: OK |
| CheckDir: TRESS.Rcheck |
| Warnings: 0 |
##############################################################################
##############################################################################
###
### Running command:
###
### F:\biocbuild\bbs-3.18-bioc\R\bin\R.exe CMD check --no-multiarch --install=check:TRESS.install-out.txt --library=F:\biocbuild\bbs-3.18-bioc\R\library --no-vignettes --timings TRESS_1.8.0.tar.gz
###
##############################################################################
##############################################################################
* using log directory 'F:/biocbuild/bbs-3.18-bioc/meat/TRESS.Rcheck'
* using R version 4.3.3 (2024-02-29 ucrt)
* using platform: x86_64-w64-mingw32 (64-bit)
* R was compiled by
gcc.exe (GCC) 12.3.0
GNU Fortran (GCC) 12.3.0
* running under: Windows Server 2022 x64 (build 20348)
* using session charset: UTF-8
* using option '--no-vignettes'
* checking for file 'TRESS/DESCRIPTION' ... OK
* checking extension type ... Package
* this is package 'TRESS' version '1.8.0'
* package encoding: UTF-8
* checking package namespace information ... OK
* checking package dependencies ... OK
* checking if this is a source package ... OK
* checking if there is a namespace ... OK
* checking for hidden files and directories ... OK
* checking for portable file names ... OK
* checking whether package 'TRESS' can be installed ... OK
* checking installed package size ... OK
* checking package directory ... OK
* checking DESCRIPTION meta-information ... OK
* checking top-level files ... OK
* checking for left-over files ... OK
* checking index information ... OK
* checking package subdirectories ... OK
* checking R files for non-ASCII characters ... OK
* checking R files for syntax errors ... OK
* checking whether the package can be loaded ... OK
* checking whether the package can be loaded with stated dependencies ... OK
* checking whether the package can be unloaded cleanly ... OK
* checking whether the namespace can be loaded with stated dependencies ... OK
* checking whether the namespace can be unloaded cleanly ... OK
* checking dependencies in R code ... OK
* checking S3 generic/method consistency ... OK
* checking replacement functions ... OK
* checking foreign function calls ... OK
* checking R code for possible problems ... OK
* checking Rd files ... NOTE
checkRd: (-1) CallCandidates.Rd:61: Escaped LaTeX specials: \&
checkRd: (-1) CallCandidates.Rd:63: Escaped LaTeX specials: \&
checkRd: (-1) CallPeaks.multiRep.Rd:7: Escaped LaTeX specials: \&
checkRd: (-1) CallPeaks.paramEsti.Rd:10: Escaped LaTeX specials: \&
checkRd: (-1) CallPeaks.paramEsti.Rd:23: Escaped LaTeX specials: \&
checkRd: (-1) findBumps.Rd:8: Escaped LaTeX specials: \&
* checking Rd metadata ... OK
* checking Rd cross-references ... OK
* checking for missing documentation entries ... OK
* checking for code/documentation mismatches ... OK
* checking Rd \usage sections ... OK
* checking Rd contents ... OK
* checking for unstated dependencies in examples ... OK
* checking contents of 'data' directory ... OK
* checking data for non-ASCII characters ... OK
* checking data for ASCII and uncompressed saves ... OK
* checking examples ... OK
Examples with CPU (user + system) or elapsed time > 5s
user system elapsed
CoefName 46.92 0.48 47.44
TRESS_DMRtest 36.73 0.17 36.92
CallDMRs.paramEsti 34.88 0.47 35.35
* checking PDF version of manual ... OK
* DONE
Status: 1 NOTE
See
'F:/biocbuild/bbs-3.18-bioc/meat/TRESS.Rcheck/00check.log'
for details.
TRESS.Rcheck/00install.out
############################################################################## ############################################################################## ### ### Running command: ### ### F:\biocbuild\bbs-3.18-bioc\R\bin\R.exe CMD INSTALL TRESS ### ############################################################################## ############################################################################## * installing to library 'F:/biocbuild/bbs-3.18-bioc/R/library' * installing *source* package 'TRESS' ... ** using staged installation ** R ** data ** inst ** byte-compile and prepare package for lazy loading ** help *** installing help indices ** building package indices ** testing if installed package can be loaded from temporary location ** testing if installed package can be loaded from final location ** testing if installed package keeps a record of temporary installation path * DONE (TRESS)
TRESS.Rcheck/TRESS-Ex.timings
| name | user | system | elapsed | |
| CallCandidates | 1.07 | 0.13 | 1.20 | |
| CallDMRs.paramEsti | 34.88 | 0.47 | 35.35 | |
| CallPeaks.multiRep | 1.8 | 0.0 | 1.8 | |
| CallPeaks.oneRep | 0.10 | 0.04 | 0.14 | |
| CallPeaks.paramEsti | 2.20 | 0.04 | 2.23 | |
| CoefName | 46.92 | 0.48 | 47.44 | |
| DMRInfer | 0.25 | 0.03 | 0.28 | |
| DivideBins | 0 | 0 | 0 | |
| ShowOnePeak | 0.25 | 0.00 | 0.25 | |
| TRESS_DMRfit | 0 | 0 | 0 | |
| TRESS_DMRtest | 36.73 | 0.17 | 36.92 | |
| TRESS_peak | 0 | 0 | 0 | |
| filterRegions | 0.00 | 0.02 | 0.02 | |
| findBumps | 0.05 | 0.03 | 0.08 | |
| meRatio | 0.03 | 0.01 | 0.05 | |