| Back to Multiple platform build/check report for BioC 3.18: simplified long |
|
This page was generated on 2024-03-04 11:37:57 -0500 (Mon, 04 Mar 2024).
| Hostname | OS | Arch (*) | R version | Installed pkgs |
|---|---|---|---|---|
| nebbiolo2 | Linux (Ubuntu 22.04.3 LTS) | x86_64 | 4.3.2 Patched (2023-11-13 r85521) -- "Eye Holes" | 4692 |
| palomino4 | Windows Server 2022 Datacenter | x64 | 4.3.2 (2023-10-31 ucrt) -- "Eye Holes" | 4445 |
| lconway | macOS 12.7.1 Monterey | x86_64 | 4.3.2 Patched (2023-11-01 r85457) -- "Eye Holes" | 4466 |
| Click on any hostname to see more info about the system (e.g. compilers) (*) as reported by 'uname -p', except on Windows and Mac OS X | ||||
| Package 2149/2266 | Hostname | OS / Arch | INSTALL | BUILD | CHECK | BUILD BIN | ||||||||
| TOP 1.2.0 (landing page) Harry Robertson
| nebbiolo2 | Linux (Ubuntu 22.04.3 LTS) / x86_64 | OK | OK | OK | |||||||||
| palomino4 | Windows Server 2022 Datacenter / x64 | OK | OK | OK | OK | |||||||||
| lconway | macOS 12.7.1 Monterey / x86_64 | OK | OK | OK | OK | |||||||||
| kjohnson1 | macOS 13.6.1 Ventura / arm64 | see weekly results here | ||||||||||||
|
To the developers/maintainers of the TOP package: - Allow up to 24 hours (and sometimes 48 hours) for your latest push to git@git.bioconductor.org:packages/TOP.git to reflect on this report. See Troubleshooting Build Report for more information. - Use the following Renviron settings to reproduce errors and warnings. - If 'R CMD check' started to fail recently on the Linux builder(s) over a missing dependency, add the missing dependency to 'Suggests:' in your DESCRIPTION file. See Renviron.bioc for more information. |
| Package: TOP |
| Version: 1.2.0 |
| Command: /Library/Frameworks/R.framework/Resources/bin/R CMD check --install=check:TOP.install-out.txt --library=/Library/Frameworks/R.framework/Resources/library --no-vignettes --timings TOP_1.2.0.tar.gz |
| StartedAt: 2024-03-03 23:58:22 -0500 (Sun, 03 Mar 2024) |
| EndedAt: 2024-03-04 00:02:24 -0500 (Mon, 04 Mar 2024) |
| EllapsedTime: 242.7 seconds |
| RetCode: 0 |
| Status: OK |
| CheckDir: TOP.Rcheck |
| Warnings: 0 |
##############################################################################
##############################################################################
###
### Running command:
###
### /Library/Frameworks/R.framework/Resources/bin/R CMD check --install=check:TOP.install-out.txt --library=/Library/Frameworks/R.framework/Resources/library --no-vignettes --timings TOP_1.2.0.tar.gz
###
##############################################################################
##############################################################################
* using log directory ‘/Users/biocbuild/bbs-3.18-bioc/meat/TOP.Rcheck’
* using R version 4.3.2 Patched (2023-11-01 r85457)
* using platform: x86_64-apple-darwin20 (64-bit)
* R was compiled by
Apple clang version 14.0.3 (clang-1403.0.22.14.1)
GNU Fortran (GCC) 12.2.0
* running under: macOS Monterey 12.7.1
* using session charset: UTF-8
* using option ‘--no-vignettes’
* checking for file ‘TOP/DESCRIPTION’ ... OK
* this is package ‘TOP’ version ‘1.2.0’
* package encoding: UTF-8
* checking package namespace information ... OK
* checking package dependencies ... OK
* checking if this is a source package ... OK
* checking if there is a namespace ... OK
* checking for hidden files and directories ... OK
* checking for portable file names ... OK
* checking for sufficient/correct file permissions ... OK
* checking whether package ‘TOP’ can be installed ... OK
* checking installed package size ... OK
* checking package directory ... OK
* checking ‘build’ directory ... OK
* checking DESCRIPTION meta-information ... OK
* checking top-level files ... OK
* checking for left-over files ... OK
* checking index information ... OK
* checking package subdirectories ... OK
* checking R files for non-ASCII characters ... OK
* checking R files for syntax errors ... OK
* checking whether the package can be loaded ... OK
* checking whether the package can be loaded with stated dependencies ... OK
* checking whether the package can be unloaded cleanly ... OK
* checking whether the namespace can be loaded with stated dependencies ... OK
* checking whether the namespace can be unloaded cleanly ... OK
* checking dependencies in R code ... OK
* checking S3 generic/method consistency ... OK
* checking replacement functions ... OK
* checking foreign function calls ... OK
* checking R code for possible problems ... NOTE
Surv_TOP_CI: no visible binding for global variable ‘offset’
TOP_coefPlot: no visible binding for global variable ‘lambda.min’
TOP_coefPlot: no visible binding for global variable ‘Features’
TOP_lambdaPlot: no visible binding for global variable ‘variable’
TOP_lambdaPlot: no visible binding for global variable ‘value’
TOP_lambdaPlot: no visible binding for global variable ‘Feature’
TOP_model: no visible binding for global variable ‘value’
TOP_model: no visible binding for global variable ‘SampleGroup’
TOP_model: no visible binding for global variable ‘n’
TOP_model: no visible binding for global variable ‘freq’
TOP_model: no visible binding for global variable ‘sd’
TOP_survival: no visible binding for global variable ‘coef’
TOP_survival: no visible binding for global variable ‘value’
TOP_survival: no visible binding for global variable ‘freq’
TOP_survival: no visible binding for global variable ‘sd’
TOP_survival: no visible binding for global variable ‘.’
TOP_survival: no visible binding for global variable ‘SampleGroup’
TOP_survival: no visible binding for global variable ‘n’
TOP_survivalPrediction: no visible binding for global variable ‘offset’
coefNetworkPlot: no visible binding for global variable ‘Features’
coefNetworkPlot: no visible binding for global variable ‘lambda.min’
coefNetworkPlot: no visible binding for global variable ‘score’
colCoxTests_combine: no visible binding for global variable ‘coef’
extractAUC: no visible binding for global variable ‘variable’
extractAUC: no visible binding for global variable ‘value’
simplenetworkPlot: no visible binding for global variable ‘Features’
simplenetworkPlot: no visible binding for global variable ‘lambda.min’
simplenetworkPlot: no visible binding for global variable ‘coef_abs’
simplenetworkPlot: no visible binding for global variable ‘from’
simplenetworkPlot: no visible binding for global variable ‘to’
simplenetworkPlot: no visible binding for global variable ‘name’
Undefined global functions or variables:
. Feature Features SampleGroup coef coef_abs freq from lambda.min n
name offset score sd to value variable
Consider adding
importFrom("stats", "coef", "offset", "sd")
to your NAMESPACE file.
* checking Rd files ... OK
* checking Rd metadata ... OK
* checking Rd cross-references ... OK
* checking for missing documentation entries ... OK
* checking for code/documentation mismatches ... OK
* checking Rd \usage sections ... OK
* checking Rd contents ... OK
* checking for unstated dependencies in examples ... OK
* checking contents of ‘data’ directory ... OK
* checking data for non-ASCII characters ... OK
* checking data for ASCII and uncompressed saves ... OK
* checking files in ‘vignettes’ ... OK
* checking examples ... OK
* checking for unstated dependencies in vignettes ... OK
* checking package vignettes in ‘inst/doc’ ... OK
* checking running R code from vignettes ... SKIPPED
* checking re-building of vignette outputs ... SKIPPED
* checking PDF version of manual ... OK
* DONE
Status: 1 NOTE
See
‘/Users/biocbuild/bbs-3.18-bioc/meat/TOP.Rcheck/00check.log’
for details.
TOP.Rcheck/00install.out
############################################################################## ############################################################################## ### ### Running command: ### ### /Library/Frameworks/R.framework/Resources/bin/R CMD INSTALL TOP ### ############################################################################## ############################################################################## * installing to library ‘/Library/Frameworks/R.framework/Versions/4.3-x86_64/Resources/library’ * installing *source* package ‘TOP’ ... ** using staged installation ** R ** data ** byte-compile and prepare package for lazy loading ** help *** installing help indices ** building package indices ** installing vignettes ** testing if installed package can be loaded from temporary location ** testing if installed package can be loaded from final location ** testing if installed package keeps a record of temporary installation path * DONE (TOP)
TOP.Rcheck/TOP-Ex.timings
| name | user | system | elapsed | |
| ROC_Plot | 0.810 | 0.029 | 0.844 | |
| Surv_Frank_CI | 1.808 | 0.069 | 1.887 | |
| TOP_coefPlot | 0.490 | 0.016 | 0.510 | |
| TOP_lambdaPlot | 0.713 | 0.039 | 0.761 | |
| TOP_model | 0.170 | 0.006 | 0.178 | |
| TOP_survival | 1.125 | 0.013 | 1.144 | |
| TOP_survivalPrediction | 0.935 | 0.014 | 0.952 | |
| coefNetworkPlot | 0.857 | 0.047 | 0.946 | |
| filterFeatures | 0.038 | 0.003 | 0.040 | |
| logit-expit | 0.034 | 0.002 | 0.036 | |
| pairwise_col_diff | 0.001 | 0.001 | 0.001 | |
| performance_TOP | 0.198 | 0.010 | 0.209 | |
| predict_TOP | 0.175 | 0.007 | 0.184 | |
| simplenetworkPlot | 0.551 | 0.016 | 0.571 | |