| Back to Multiple platform build/check report for BioC 3.18: simplified long |
|
This page was generated on 2024-04-17 11:36:26 -0400 (Wed, 17 Apr 2024).
| Hostname | OS | Arch (*) | R version | Installed pkgs |
|---|---|---|---|---|
| nebbiolo2 | Linux (Ubuntu 22.04.3 LTS) | x86_64 | 4.3.3 (2024-02-29) -- "Angel Food Cake" | 4676 |
| palomino4 | Windows Server 2022 Datacenter | x64 | 4.3.3 (2024-02-29 ucrt) -- "Angel Food Cake" | 4414 |
| merida1 | macOS 12.7.1 Monterey | x86_64 | 4.3.3 (2024-02-29) -- "Angel Food Cake" | 4437 |
| Click on any hostname to see more info about the system (e.g. compilers) (*) as reported by 'uname -p', except on Windows and Mac OS X | ||||
| Package 2095/2266 | Hostname | OS / Arch | INSTALL | BUILD | CHECK | BUILD BIN | ||||||||
| SynExtend 1.14.0 (landing page) Nicholas Cooley
| nebbiolo2 | Linux (Ubuntu 22.04.3 LTS) / x86_64 | OK | OK | OK | |||||||||
| palomino4 | Windows Server 2022 Datacenter / x64 | OK | OK | OK | OK | |||||||||
| merida1 | macOS 12.7.1 Monterey / x86_64 | OK | OK | OK | OK | |||||||||
| kjohnson1 | macOS 13.6.1 Ventura / arm64 | see weekly results here | ||||||||||||
|
To the developers/maintainers of the SynExtend package: - Allow up to 24 hours (and sometimes 48 hours) for your latest push to git@git.bioconductor.org:packages/SynExtend.git to reflect on this report. See Troubleshooting Build Report for more information. - Use the following Renviron settings to reproduce errors and warnings. - If 'R CMD check' started to fail recently on the Linux builder(s) over a missing dependency, add the missing dependency to 'Suggests:' in your DESCRIPTION file. See Renviron.bioc for more information. |
| Package: SynExtend |
| Version: 1.14.0 |
| Command: /home/biocbuild/bbs-3.18-bioc/R/bin/R CMD check --install=check:SynExtend.install-out.txt --library=/home/biocbuild/bbs-3.18-bioc/R/site-library --timings SynExtend_1.14.0.tar.gz |
| StartedAt: 2024-04-16 04:36:25 -0400 (Tue, 16 Apr 2024) |
| EndedAt: 2024-04-16 04:39:39 -0400 (Tue, 16 Apr 2024) |
| EllapsedTime: 193.6 seconds |
| RetCode: 0 |
| Status: OK |
| CheckDir: SynExtend.Rcheck |
| Warnings: 0 |
##############################################################################
##############################################################################
###
### Running command:
###
### /home/biocbuild/bbs-3.18-bioc/R/bin/R CMD check --install=check:SynExtend.install-out.txt --library=/home/biocbuild/bbs-3.18-bioc/R/site-library --timings SynExtend_1.14.0.tar.gz
###
##############################################################################
##############################################################################
* using log directory ‘/home/biocbuild/bbs-3.18-bioc/meat/SynExtend.Rcheck’
* using R version 4.3.3 (2024-02-29)
* using platform: x86_64-pc-linux-gnu (64-bit)
* R was compiled by
gcc (Ubuntu 11.4.0-1ubuntu1~22.04) 11.4.0
GNU Fortran (Ubuntu 11.4.0-1ubuntu1~22.04) 11.4.0
* running under: Ubuntu 22.04.4 LTS
* using session charset: UTF-8
* checking for file ‘SynExtend/DESCRIPTION’ ... OK
* checking extension type ... Package
* this is package ‘SynExtend’ version ‘1.14.0’
* package encoding: UTF-8
* checking package namespace information ... OK
* checking package dependencies ... OK
* checking if this is a source package ... OK
* checking if there is a namespace ... OK
* checking for hidden files and directories ... OK
* checking for portable file names ... OK
* checking for sufficient/correct file permissions ... OK
* checking whether package ‘SynExtend’ can be installed ... OK
* used C compiler: ‘gcc (Ubuntu 11.4.0-1ubuntu1~22.04) 11.4.0’
* checking installed package size ... OK
* checking package directory ... OK
* checking ‘build’ directory ... OK
* checking DESCRIPTION meta-information ... OK
* checking top-level files ... OK
* checking for left-over files ... OK
* checking index information ... OK
* checking package subdirectories ... OK
* checking R files for non-ASCII characters ... OK
* checking R files for syntax errors ... OK
* checking whether the package can be loaded ... OK
* checking whether the package can be loaded with stated dependencies ... OK
* checking whether the package can be unloaded cleanly ... OK
* checking whether the namespace can be loaded with stated dependencies ... OK
* checking whether the namespace can be unloaded cleanly ... OK
* checking loading without being on the library search path ... OK
* checking dependencies in R code ... OK
* checking S3 generic/method consistency ... OK
* checking replacement functions ... OK
* checking foreign function calls ... OK
* checking R code for possible problems ... OK
* checking Rd files ... OK
* checking Rd metadata ... OK
* checking Rd cross-references ... OK
* checking for missing documentation entries ... OK
* checking for code/documentation mismatches ... OK
* checking Rd \usage sections ... OK
* checking Rd contents ... OK
* checking for unstated dependencies in examples ... OK
* checking contents of ‘data’ directory ... OK
* checking data for non-ASCII characters ... OK
* checking data for ASCII and uncompressed saves ... OK
* checking line endings in C/C++/Fortran sources/headers ... OK
* checking line endings in Makefiles ... OK
* checking compilation flags in Makevars ... OK
* checking for GNU extensions in Makefiles ... OK
* checking for portable use of $(BLAS_LIBS) and $(LAPACK_LIBS) ... OK
* checking use of PKG_*FLAGS in Makefiles ... OK
* checking compiled code ... NOTE
Note: information on .o files is not available
* checking files in ‘vignettes’ ... OK
* checking examples ... OK
Examples with CPU (user + system) or elapsed time > 5s
user system elapsed
predict.EvoWeaver 12.150 0.362 12.568
BuiltInEnsembles 11.085 0.196 11.323
BlockExpansion 9.236 0.199 9.438
gffToDataFrame 5.621 0.140 5.761
* checking for unstated dependencies in vignettes ... OK
* checking package vignettes in ‘inst/doc’ ... OK
* checking running R code from vignettes ...
‘UsingSynExtend.Rmd’ using ‘UTF-8’... OK
OK
* checking re-building of vignette outputs ... OK
* checking PDF version of manual ... OK
* DONE
Status: 1 NOTE
See
‘/home/biocbuild/bbs-3.18-bioc/meat/SynExtend.Rcheck/00check.log’
for details.
SynExtend.Rcheck/00install.out
############################################################################## ############################################################################## ### ### Running command: ### ### /home/biocbuild/bbs-3.18-bioc/R/bin/R CMD INSTALL SynExtend ### ############################################################################## ############################################################################## * installing to library ‘/home/biocbuild/bbs-3.18-bioc/R/site-library’ * installing *source* package ‘SynExtend’ ... ** using staged installation ** libs using C compiler: ‘gcc (Ubuntu 11.4.0-1ubuntu1~22.04) 11.4.0’ gcc -I"/home/biocbuild/bbs-3.18-bioc/R/include" -DNDEBUG -I/usr/local/include -fopenmp -fpic -g -O2 -Wall -c CDend.c -o CDend.o gcc -I"/home/biocbuild/bbs-3.18-bioc/R/include" -DNDEBUG -I/usr/local/include -fopenmp -fpic -g -O2 -Wall -c CShuffle.c -o CShuffle.o gcc -I"/home/biocbuild/bbs-3.18-bioc/R/include" -DNDEBUG -I/usr/local/include -fopenmp -fpic -g -O2 -Wall -c HungarianAlgo.c -o HungarianAlgo.o gcc -I"/home/biocbuild/bbs-3.18-bioc/R/include" -DNDEBUG -I/usr/local/include -fopenmp -fpic -g -O2 -Wall -c MoranI.c -o MoranI.o gcc -I"/home/biocbuild/bbs-3.18-bioc/R/include" -DNDEBUG -I/usr/local/include -fopenmp -fpic -g -O2 -Wall -c NucleotideCounts.c -o NucleotideCounts.o gcc -I"/home/biocbuild/bbs-3.18-bioc/R/include" -DNDEBUG -I/usr/local/include -fopenmp -fpic -g -O2 -Wall -c R_init_synextend.c -o R_init_synextend.o gcc -I"/home/biocbuild/bbs-3.18-bioc/R/include" -DNDEBUG -I/usr/local/include -fopenmp -fpic -g -O2 -Wall -c SEutils.c -o SEutils.o gcc -I"/home/biocbuild/bbs-3.18-bioc/R/include" -DNDEBUG -I/usr/local/include -fopenmp -fpic -g -O2 -Wall -c XORRand.c -o XORRand.o gcc -I"/home/biocbuild/bbs-3.18-bioc/R/include" -DNDEBUG -I/usr/local/include -fopenmp -fpic -g -O2 -Wall -c calcMIR2C.c -o calcMIR2C.o gcc -I"/home/biocbuild/bbs-3.18-bioc/R/include" -DNDEBUG -I/usr/local/include -fopenmp -fpic -g -O2 -Wall -c dendrapply.c -o dendrapply.o gcc -shared -L/home/biocbuild/bbs-3.18-bioc/R/lib -L/usr/local/lib -o SynExtend.so CDend.o CShuffle.o HungarianAlgo.o MoranI.o NucleotideCounts.o R_init_synextend.o SEutils.o XORRand.o calcMIR2C.o dendrapply.o -fopenmp -L/home/biocbuild/bbs-3.18-bioc/R/lib -lR installing to /home/biocbuild/bbs-3.18-bioc/R/site-library/00LOCK-SynExtend/00new/SynExtend/libs ** R ** data ** inst ** byte-compile and prepare package for lazy loading ** help *** installing help indices ** building package indices ** installing vignettes ** testing if installed package can be loaded from temporary location ** checking absolute paths in shared objects and dynamic libraries ** testing if installed package can be loaded from final location ** testing if installed package keeps a record of temporary installation path * DONE (SynExtend)
SynExtend.Rcheck/SynExtend-Ex.timings
| name | user | system | elapsed | |
| BlastSeqs | 0 | 0 | 0 | |
| BlockExpansion | 9.236 | 0.199 | 9.438 | |
| BlockReconciliation | 0.142 | 0.000 | 0.142 | |
| BuiltInEnsembles | 11.085 | 0.196 | 11.323 | |
| CIDist_NullDist | 0.001 | 0.000 | 0.001 | |
| DPhyloStatistic | 0.033 | 0.000 | 0.034 | |
| DisjointSet | 0.019 | 0.004 | 0.023 | |
| Endosymbionts_GeneCalls | 0.012 | 0.000 | 0.012 | |
| Endosymbionts_LinkedFeatures | 0.012 | 0.000 | 0.013 | |
| Endosymbionts_Pairs01 | 0.013 | 0.000 | 0.012 | |
| Endosymbionts_Pairs02 | 0.013 | 0.000 | 0.012 | |
| Endosymbionts_Pairs03 | 0.013 | 0.000 | 0.013 | |
| Endosymbionts_Sets | 0.002 | 0.000 | 0.001 | |
| Endosymbionts_Synteny | 0.002 | 0.000 | 0.002 | |
| EstimRearrScen | 1.232 | 0.004 | 1.237 | |
| EvoWeaver | 0.002 | 0.000 | 0.003 | |
| EvoWeb | 0.077 | 0.004 | 0.081 | |
| ExampleStreptomycesData | 1.000 | 0.045 | 1.066 | |
| ExtractBy | 0.218 | 0.004 | 0.222 | |
| FastQFromSRR | 0 | 0 | 0 | |
| FindSets | 0.001 | 0.000 | 0.002 | |
| FitchParsimony | 0.081 | 0.004 | 0.085 | |
| Generic | 0.002 | 0.000 | 0.002 | |
| MakeBlastDb | 0 | 0 | 0 | |
| MoransI | 0.002 | 0.000 | 0.001 | |
| NucleotideOverlap | 0.251 | 0.020 | 0.271 | |
| PairSummaries | 1.892 | 0.084 | 1.976 | |
| PhyloDistance-CI | 0.004 | 0.000 | 0.004 | |
| PhyloDistance-JRF | 0.003 | 0.000 | 0.003 | |
| PhyloDistance-KF | 0.001 | 0.000 | 0.001 | |
| PhyloDistance-RF | 0.001 | 0.000 | 0.002 | |
| PhyloDistance | 0.003 | 0.000 | 0.003 | |
| SelectByK | 0.097 | 0.000 | 0.096 | |
| SequenceSimilarity | 0.066 | 0.004 | 0.071 | |
| SubSetPairs | 0.045 | 0.000 | 0.045 | |
| SuperTree | 0.928 | 0.024 | 0.953 | |
| SuperTreeEx | 0.072 | 0.004 | 0.075 | |
| dendrapply | 0.101 | 0.004 | 0.105 | |
| gffToDataFrame | 5.621 | 0.140 | 5.761 | |
| plot.EvoWeb | 0.497 | 0.008 | 0.505 | |
| predict.EvoWeaver | 12.150 | 0.362 | 12.568 | |
| simMat | 0.015 | 0.000 | 0.015 | |
| subset-dendrogram | 0.056 | 0.012 | 0.068 | |