| Back to Multiple platform build/check report for BioC 3.18: simplified long |
|
This page was generated on 2024-04-17 11:38:13 -0400 (Wed, 17 Apr 2024).
| Hostname | OS | Arch (*) | R version | Installed pkgs |
|---|---|---|---|---|
| nebbiolo2 | Linux (Ubuntu 22.04.3 LTS) | x86_64 | 4.3.3 (2024-02-29) -- "Angel Food Cake" | 4676 |
| palomino4 | Windows Server 2022 Datacenter | x64 | 4.3.3 (2024-02-29 ucrt) -- "Angel Food Cake" | 4414 |
| merida1 | macOS 12.7.1 Monterey | x86_64 | 4.3.3 (2024-02-29) -- "Angel Food Cake" | 4437 |
| Click on any hostname to see more info about the system (e.g. compilers) (*) as reported by 'uname -p', except on Windows and Mac OS X | ||||
| Package 1886/2266 | Hostname | OS / Arch | INSTALL | BUILD | CHECK | BUILD BIN | ||||||||
| Sconify 1.22.0 (landing page) Tyler J Burns
| nebbiolo2 | Linux (Ubuntu 22.04.3 LTS) / x86_64 | OK | OK | OK | |||||||||
| palomino4 | Windows Server 2022 Datacenter / x64 | OK | OK | OK | OK | |||||||||
| merida1 | macOS 12.7.1 Monterey / x86_64 | OK | OK | OK | OK | |||||||||
| kjohnson1 | macOS 13.6.1 Ventura / arm64 | see weekly results here | ||||||||||||
|
To the developers/maintainers of the Sconify package: - Allow up to 24 hours (and sometimes 48 hours) for your latest push to git@git.bioconductor.org:packages/Sconify.git to reflect on this report. See Troubleshooting Build Report for more information. - Use the following Renviron settings to reproduce errors and warnings. - If 'R CMD check' started to fail recently on the Linux builder(s) over a missing dependency, add the missing dependency to 'Suggests:' in your DESCRIPTION file. See Renviron.bioc for more information. |
| Package: Sconify |
| Version: 1.22.0 |
| Command: /Library/Frameworks/R.framework/Resources/bin/R CMD check --install=check:Sconify.install-out.txt --library=/Library/Frameworks/R.framework/Resources/library --no-vignettes --timings Sconify_1.22.0.tar.gz |
| StartedAt: 2024-04-16 08:33:53 -0400 (Tue, 16 Apr 2024) |
| EndedAt: 2024-04-16 08:37:56 -0400 (Tue, 16 Apr 2024) |
| EllapsedTime: 243.4 seconds |
| RetCode: 0 |
| Status: OK |
| CheckDir: Sconify.Rcheck |
| Warnings: 0 |
##############################################################################
##############################################################################
###
### Running command:
###
### /Library/Frameworks/R.framework/Resources/bin/R CMD check --install=check:Sconify.install-out.txt --library=/Library/Frameworks/R.framework/Resources/library --no-vignettes --timings Sconify_1.22.0.tar.gz
###
##############################################################################
##############################################################################
* using log directory ‘/Users/biocbuild/bbs-3.18-bioc/meat/Sconify.Rcheck’
* using R version 4.3.3 (2024-02-29)
* using platform: x86_64-apple-darwin20 (64-bit)
* R was compiled by
Apple clang version 14.0.0 (clang-1400.0.29.202)
GNU Fortran (GCC) 12.2.0
* running under: macOS Monterey 12.7.1
* using session charset: UTF-8
* using option ‘--no-vignettes’
* checking for file ‘Sconify/DESCRIPTION’ ... OK
* checking extension type ... Package
* this is package ‘Sconify’ version ‘1.22.0’
* package encoding: UTF-8
* checking package namespace information ... OK
* checking package dependencies ... OK
* checking if this is a source package ... OK
* checking if there is a namespace ... OK
* checking for hidden files and directories ... OK
* checking for portable file names ... OK
* checking for sufficient/correct file permissions ... OK
* checking whether package ‘Sconify’ can be installed ... OK
* checking installed package size ... OK
* checking package directory ... OK
* checking ‘build’ directory ... OK
* checking DESCRIPTION meta-information ... OK
* checking top-level files ... OK
* checking for left-over files ... OK
* checking index information ... OK
* checking package subdirectories ... OK
* checking R files for non-ASCII characters ... OK
* checking R files for syntax errors ... OK
* checking whether the package can be loaded ... OK
* checking whether the package can be loaded with stated dependencies ... OK
* checking whether the package can be unloaded cleanly ... OK
* checking whether the namespace can be loaded with stated dependencies ... OK
* checking whether the namespace can be unloaded cleanly ... OK
* checking dependencies in R code ... OK
* checking S3 generic/method consistency ... OK
* checking replacement functions ... OK
* checking foreign function calls ... OK
* checking R code for possible problems ... OK
* checking Rd files ... OK
* checking Rd metadata ... OK
* checking Rd cross-references ... OK
* checking for missing documentation entries ... OK
* checking for code/documentation mismatches ... OK
* checking Rd \usage sections ... OK
* checking Rd contents ... OK
* checking for unstated dependencies in examples ... OK
* checking contents of ‘data’ directory ... OK
* checking data for non-ASCII characters ... OK
* checking LazyData ... OK
* checking data for ASCII and uncompressed saves ... OK
* checking files in ‘vignettes’ ... OK
* checking examples ... OK
Examples with CPU (user + system) or elapsed time > 5s
user system elapsed
SconeValues 28.349 0.356 32.925
ImputeTesting 7.969 0.060 9.195
* checking for unstated dependencies in ‘tests’ ... OK
* checking tests ...
Running ‘testthat.R’
OK
* checking for unstated dependencies in vignettes ... OK
* checking package vignettes in ‘inst/doc’ ... OK
* checking running R code from vignettes ... SKIPPED
* checking re-building of vignette outputs ... SKIPPED
* checking PDF version of manual ... OK
* DONE
Status: OK
Sconify.Rcheck/00install.out
############################################################################## ############################################################################## ### ### Running command: ### ### /Library/Frameworks/R.framework/Resources/bin/R CMD INSTALL Sconify ### ############################################################################## ############################################################################## * installing to library ‘/Library/Frameworks/R.framework/Versions/4.3-x86_64/Resources/library’ * installing *source* package ‘Sconify’ ... ** using staged installation ** R ** data *** moving datasets to lazyload DB ** inst ** byte-compile and prepare package for lazy loading Note: wrong number of arguments to '/' Note: wrong number of arguments to 'asinh' ** help *** installing help indices ** building package indices ** installing vignettes ** testing if installed package can be loaded from temporary location ** testing if installed package can be loaded from final location ** testing if installed package keeps a record of temporary installation path * DONE (Sconify)
Sconify.Rcheck/tests/testthat.Rout
R version 4.3.3 (2024-02-29) -- "Angel Food Cake"
Copyright (C) 2024 The R Foundation for Statistical Computing
Platform: x86_64-apple-darwin20 (64-bit)
R is free software and comes with ABSOLUTELY NO WARRANTY.
You are welcome to redistribute it under certain conditions.
Type 'license()' or 'licence()' for distribution details.
R is a collaborative project with many contributors.
Type 'contributors()' for more information and
'citation()' on how to cite R or R packages in publications.
Type 'demo()' for some demos, 'help()' for on-line help, or
'help.start()' for an HTML browser interface to help.
Type 'q()' to quit R.
> library(testthat)
> library(Sconify)
>
> test_check("Sconify")
Read the 100 x 27 data matrix successfully!
Using no_dims = 2, perplexity = 30.000000, and theta = 0.500000
Computing input similarities...
Building tree...
Done in 0.01 seconds (sparsity = 0.965800)!
Learning embedding...
Iteration 50: error is 50.147173 (50 iterations in 0.02 seconds)
Iteration 100: error is 50.501047 (50 iterations in 0.02 seconds)
Iteration 150: error is 53.415214 (50 iterations in 0.02 seconds)
Iteration 200: error is 51.706496 (50 iterations in 0.02 seconds)
Iteration 250: error is 52.539026 (50 iterations in 0.02 seconds)
Iteration 300: error is 1.230509 (50 iterations in 0.01 seconds)
Iteration 350: error is 0.541669 (50 iterations in 0.01 seconds)
Iteration 400: error is 0.241205 (50 iterations in 0.01 seconds)
Iteration 450: error is 0.204617 (50 iterations in 0.01 seconds)
Iteration 500: error is 0.191340 (50 iterations in 0.01 seconds)
Iteration 550: error is 0.186845 (50 iterations in 0.01 seconds)
Iteration 600: error is 0.189175 (50 iterations in 0.01 seconds)
Iteration 650: error is 0.186381 (50 iterations in 0.01 seconds)
Iteration 700: error is 0.187165 (50 iterations in 0.01 seconds)
Iteration 750: error is 0.188771 (50 iterations in 0.01 seconds)
Iteration 800: error is 0.186774 (50 iterations in 0.01 seconds)
Iteration 850: error is 0.186022 (50 iterations in 0.01 seconds)
Iteration 900: error is 0.187569 (50 iterations in 0.01 seconds)
Iteration 950: error is 0.189252 (50 iterations in 0.01 seconds)
Iteration 1000: error is 0.189559 (50 iterations in 0.01 seconds)
Fitting performed in 0.29 seconds.
Read the 1000 x 27 data matrix successfully!
Using no_dims = 2, perplexity = 30.000000, and theta = 0.500000
Computing input similarities...
Building tree...
Done in 0.22 seconds (sparsity = 0.129120)!
Learning embedding...
Iteration 50: error is 63.839770 (50 iterations in 0.48 seconds)
Iteration 100: error is 60.814479 (50 iterations in 0.33 seconds)
Iteration 150: error is 60.363278 (50 iterations in 0.33 seconds)
Iteration 200: error is 60.207140 (50 iterations in 0.32 seconds)
Iteration 250: error is 60.136059 (50 iterations in 0.34 seconds)
Iteration 300: error is 1.349084 (50 iterations in 0.25 seconds)
Iteration 350: error is 1.234478 (50 iterations in 0.22 seconds)
Iteration 400: error is 1.201677 (50 iterations in 0.23 seconds)
Iteration 450: error is 1.186889 (50 iterations in 0.21 seconds)
Iteration 500: error is 1.178950 (50 iterations in 0.21 seconds)
Iteration 550: error is 1.175951 (50 iterations in 0.21 seconds)
Iteration 600: error is 1.172624 (50 iterations in 0.21 seconds)
Iteration 650: error is 1.170788 (50 iterations in 0.22 seconds)
Iteration 700: error is 1.168030 (50 iterations in 0.21 seconds)
Iteration 750: error is 1.166373 (50 iterations in 0.22 seconds)
Iteration 800: error is 1.163374 (50 iterations in 0.22 seconds)
Iteration 850: error is 1.161604 (50 iterations in 0.21 seconds)
Iteration 900: error is 1.159878 (50 iterations in 0.21 seconds)
Iteration 950: error is 1.157647 (50 iterations in 0.22 seconds)
Iteration 1000: error is 1.156264 (50 iterations in 0.21 seconds)
Fitting performed in 5.05 seconds.
[ FAIL 0 | WARN 4 | SKIP 0 | PASS 72 ]
[ FAIL 0 | WARN 4 | SKIP 0 | PASS 72 ]
>
> proc.time()
user system elapsed
43.495 1.049 49.104
Sconify.Rcheck/Sconify-Ex.timings
| name | user | system | elapsed | |
| FcsToTibble | 0.261 | 0.008 | 0.300 | |
| Fnn | 0.917 | 2.700 | 4.132 | |
| GetKnnDe | 0.115 | 0.017 | 0.147 | |
| GetMarkerNames | 0.056 | 0.005 | 0.070 | |
| ImputeTesting | 7.969 | 0.060 | 9.195 | |
| MakeHist | 0.691 | 0.015 | 0.936 | |
| MakeKnnList | 0.758 | 0.026 | 0.882 | |
| MeaningOfLife | 0.001 | 0.001 | 0.001 | |
| ParseMarkers | 0.510 | 0.039 | 0.626 | |
| PostProcessing | 0.226 | 0.005 | 0.263 | |
| ProcessMultipleFiles | 0.236 | 0.010 | 0.283 | |
| QuantNormalizeElements | 0.472 | 0.005 | 0.537 | |
| SconeValues | 28.349 | 0.356 | 32.925 | |
| SplitFile | 0.193 | 0.006 | 0.221 | |
| StringToNumbers | 0.000 | 0.000 | 0.001 | |
| SubsampleAndTsne | 2.798 | 0.066 | 3.290 | |
| TsneVis | 0.358 | 0.010 | 0.436 | |