| Back to Multiple platform build/check report for BioC 3.18: simplified long |
|
This page was generated on 2024-04-17 11:38:13 -0400 (Wed, 17 Apr 2024).
| Hostname | OS | Arch (*) | R version | Installed pkgs |
|---|---|---|---|---|
| nebbiolo2 | Linux (Ubuntu 22.04.3 LTS) | x86_64 | 4.3.3 (2024-02-29) -- "Angel Food Cake" | 4676 |
| palomino4 | Windows Server 2022 Datacenter | x64 | 4.3.3 (2024-02-29 ucrt) -- "Angel Food Cake" | 4414 |
| merida1 | macOS 12.7.1 Monterey | x86_64 | 4.3.3 (2024-02-29) -- "Angel Food Cake" | 4437 |
| Click on any hostname to see more info about the system (e.g. compilers) (*) as reported by 'uname -p', except on Windows and Mac OS X | ||||
| Package 1913/2266 | Hostname | OS / Arch | INSTALL | BUILD | CHECK | BUILD BIN | ||||||||
| SELEX 1.34.0 (landing page) Harmen J. Bussemaker
| nebbiolo2 | Linux (Ubuntu 22.04.3 LTS) / x86_64 | OK | OK | OK | |||||||||
| palomino4 | Windows Server 2022 Datacenter / x64 | OK | OK | OK | OK | |||||||||
| merida1 | macOS 12.7.1 Monterey / x86_64 | OK | OK | OK | OK | |||||||||
| kjohnson1 | macOS 13.6.1 Ventura / arm64 | see weekly results here | ||||||||||||
|
To the developers/maintainers of the SELEX package: - Allow up to 24 hours (and sometimes 48 hours) for your latest push to git@git.bioconductor.org:packages/SELEX.git to reflect on this report. See Troubleshooting Build Report for more information. - Use the following Renviron settings to reproduce errors and warnings. - If 'R CMD check' started to fail recently on the Linux builder(s) over a missing dependency, add the missing dependency to 'Suggests:' in your DESCRIPTION file. See Renviron.bioc for more information. |
| Package: SELEX |
| Version: 1.34.0 |
| Command: /Library/Frameworks/R.framework/Resources/bin/R CMD check --install=check:SELEX.install-out.txt --library=/Library/Frameworks/R.framework/Resources/library --no-vignettes --timings SELEX_1.34.0.tar.gz |
| StartedAt: 2024-04-16 08:45:20 -0400 (Tue, 16 Apr 2024) |
| EndedAt: 2024-04-16 08:48:59 -0400 (Tue, 16 Apr 2024) |
| EllapsedTime: 219.2 seconds |
| RetCode: 0 |
| Status: OK |
| CheckDir: SELEX.Rcheck |
| Warnings: 0 |
##############################################################################
##############################################################################
###
### Running command:
###
### /Library/Frameworks/R.framework/Resources/bin/R CMD check --install=check:SELEX.install-out.txt --library=/Library/Frameworks/R.framework/Resources/library --no-vignettes --timings SELEX_1.34.0.tar.gz
###
##############################################################################
##############################################################################
* using log directory ‘/Users/biocbuild/bbs-3.18-bioc/meat/SELEX.Rcheck’
* using R version 4.3.3 (2024-02-29)
* using platform: x86_64-apple-darwin20 (64-bit)
* R was compiled by
Apple clang version 14.0.0 (clang-1400.0.29.202)
GNU Fortran (GCC) 12.2.0
* running under: macOS Monterey 12.7.1
* using session charset: UTF-8
* using option ‘--no-vignettes’
* checking for file ‘SELEX/DESCRIPTION’ ... OK
* this is package ‘SELEX’ version ‘1.34.0’
* checking package namespace information ... OK
* checking package dependencies ... OK
* checking if this is a source package ... OK
* checking if there is a namespace ... OK
* checking for hidden files and directories ... OK
* checking for portable file names ... OK
* checking for sufficient/correct file permissions ... OK
* checking whether package ‘SELEX’ can be installed ... OK
* checking installed package size ... OK
* checking package directory ... OK
* checking ‘build’ directory ... OK
* checking DESCRIPTION meta-information ... OK
* checking top-level files ... OK
* checking for left-over files ... OK
* checking index information ... OK
* checking package subdirectories ... OK
* checking R files for non-ASCII characters ... OK
* checking R files for syntax errors ... OK
* checking whether the package can be loaded ... OK
* checking whether the package can be loaded with stated dependencies ... OK
* checking whether the package can be unloaded cleanly ... OK
* checking whether the namespace can be loaded with stated dependencies ... OK
* checking whether the namespace can be unloaded cleanly ... OK
* checking startup messages can be suppressed ... OK
* checking dependencies in R code ... OK
* checking S3 generic/method consistency ... OK
* checking replacement functions ... OK
* checking foreign function calls ... OK
* checking R code for possible problems ... OK
* checking Rd files ... OK
* checking Rd metadata ... OK
* checking Rd cross-references ... OK
* checking for missing documentation entries ... OK
* checking for code/documentation mismatches ... OK
* checking Rd \usage sections ... OK
* checking Rd contents ... OK
* checking for unstated dependencies in examples ... OK
* checking line endings in Makefiles ... OK
* checking for GNU extensions in Makefiles ... OK
* checking include directives in Makefiles ... OK
* checking sizes of PDF files under ‘inst/doc’ ... OK
* checking files in ‘vignettes’ ... OK
* checking examples ... OK
Examples with CPU (user + system) or elapsed time > 5s
user system elapsed
SELEX 30.603 3.277 13.082
selex.seqfilter 14.722 1.667 5.668
* checking for unstated dependencies in vignettes ... OK
* checking package vignettes in ‘inst/doc’ ... OK
* checking running R code from vignettes ... SKIPPED
* checking re-building of vignette outputs ... SKIPPED
* checking PDF version of manual ... OK
* DONE
Status: OK
SELEX.Rcheck/00install.out
############################################################################## ############################################################################## ### ### Running command: ### ### /Library/Frameworks/R.framework/Resources/bin/R CMD INSTALL SELEX ### ############################################################################## ############################################################################## * installing to library ‘/Library/Frameworks/R.framework/Versions/4.3-x86_64/Resources/library’ * installing *source* package ‘SELEX’ ... ** using staged installation ** R ** inst ** byte-compile and prepare package for lazy loading ** help *** installing help indices ** building package indices ** installing vignettes ** testing if installed package can be loaded from temporary location ** testing if installed package can be loaded from final location ** testing if installed package keeps a record of temporary installation path * DONE (SELEX)
SELEX.Rcheck/SELEX-Ex.timings
| name | user | system | elapsed | |
| SELEX | 30.603 | 3.277 | 13.082 | |
| selex.affinities | 2.004 | 0.066 | 0.735 | |
| selex.config | 0.323 | 0.010 | 0.087 | |
| selex.countSummary | 2.021 | 0.077 | 0.710 | |
| selex.counts | 2.376 | 0.085 | 1.024 | |
| selex.defineSample | 0.203 | 0.017 | 0.095 | |
| selex.exampledata | 0.195 | 0.016 | 0.084 | |
| selex.fastqPSFM | 1.721 | 0.062 | 0.690 | |
| selex.getAttributes | 0.194 | 0.020 | 0.128 | |
| selex.getRound0 | 0.523 | 0.027 | 0.233 | |
| selex.getSeqfilter | 0.184 | 0.006 | 0.076 | |
| selex.infogain | 2.636 | 0.125 | 0.993 | |
| selex.infogainSummary | 1.323 | 0.059 | 0.534 | |
| selex.jvmStatus | 0.143 | 0.007 | 0.071 | |
| selex.kmax | 1.247 | 0.427 | 1.298 | |
| selex.kmerPSFM | 0.829 | 0.098 | 0.408 | |
| selex.loadAnnotation | 0.232 | 0.020 | 0.185 | |
| selex.mm | 1.153 | 0.048 | 0.474 | |
| selex.mmProb | 1.185 | 0.049 | 0.458 | |
| selex.mmSummary | 1.099 | 0.054 | 0.481 | |
| selex.revcomp | 1.451 | 0.066 | 0.765 | |
| selex.run | 3.183 | 0.154 | 1.101 | |
| selex.sample | 0.597 | 0.025 | 0.190 | |
| selex.samplePSFM | 1.515 | 0.040 | 0.438 | |
| selex.sampleSummary | 0.731 | 0.024 | 0.183 | |
| selex.saveAnnotation | 0.378 | 0.020 | 0.095 | |
| selex.seqfilter | 14.722 | 1.667 | 5.668 | |
| selex.setwd | 0.081 | 0.003 | 0.041 | |
| selex.split | 0.539 | 0.036 | 0.375 | |
| selex.summary | 1.005 | 0.093 | 1.006 | |