| Back to Multiple platform build/check report for BioC 3.18: simplified long | 
 | 
This page was generated on 2024-04-17 11:37:12 -0400 (Wed, 17 Apr 2024).
| Hostname | OS | Arch (*) | R version | Installed pkgs | 
|---|---|---|---|---|
| nebbiolo2 | Linux (Ubuntu 22.04.3 LTS) | x86_64 | 4.3.3 (2024-02-29) -- "Angel Food Cake" | 4676 | 
| palomino4 | Windows Server 2022 Datacenter | x64 | 4.3.3 (2024-02-29 ucrt) -- "Angel Food Cake" | 4414 | 
| merida1 | macOS 12.7.1 Monterey | x86_64 | 4.3.3 (2024-02-29) -- "Angel Food Cake" | 4437 | 
| Click on any hostname to see more info about the system (e.g. compilers) (*) as reported by 'uname -p', except on Windows and Mac OS X | ||||
| Package 1736/2266 | Hostname | OS / Arch | INSTALL | BUILD | CHECK | BUILD BIN | ||||||||
| Rgraphviz 2.46.0  (landing page) Kasper Daniel Hansen 
 | nebbiolo2 | Linux (Ubuntu 22.04.3 LTS) / x86_64 | OK | OK | WARNINGS |  | ||||||||
| palomino4 | Windows Server 2022 Datacenter / x64 | OK | OK | WARNINGS | OK |  | ||||||||
| merida1 | macOS 12.7.1 Monterey / x86_64 | OK | OK | WARNINGS | OK |  | ||||||||
| kjohnson1 | macOS 13.6.1 Ventura / arm64 | see weekly results here | ||||||||||||
| To the developers/maintainers of the Rgraphviz package: - Allow up to 24 hours (and sometimes 48 hours) for your latest push to git@git.bioconductor.org:packages/Rgraphviz.git to reflect on this report. See Troubleshooting Build Report for more information. - Use the following Renviron settings to reproduce errors and warnings. - If 'R CMD check' started to fail recently on the Linux builder(s) over a missing dependency, add the missing dependency to 'Suggests:' in your DESCRIPTION file. See Renviron.bioc for more information. | 
| Package: Rgraphviz | 
| Version: 2.46.0 | 
| Command: chmod a+r Rgraphviz -R && F:\biocbuild\bbs-3.18-bioc\R\bin\R.exe CMD build --keep-empty-dirs --no-resave-data Rgraphviz | 
| StartedAt: 2024-04-15 20:40:54 -0400 (Mon, 15 Apr 2024) | 
| EndedAt: 2024-04-15 20:48:38 -0400 (Mon, 15 Apr 2024) | 
| EllapsedTime: 464.1 seconds | 
| RetCode: 0 | 
| Status: OK | 
| PackageFile: Rgraphviz_2.46.0.tar.gz | 
| PackageFileSize: 10.56 MiB | 
############################################################################## ############################################################################## ### ### Running command: ### ### chmod a+r Rgraphviz -R && F:\biocbuild\bbs-3.18-bioc\R\bin\R.exe CMD build --keep-empty-dirs --no-resave-data Rgraphviz ### ############################################################################## ############################################################################## * checking for file 'Rgraphviz/DESCRIPTION' ... OK * preparing 'Rgraphviz': * checking DESCRIPTION meta-information ... OK * cleaning src * running 'cleanup.win' * installing the package to build vignettes * creating vignettes ... OK * cleaning src * running 'cleanup.win' * checking for LF line-endings in source and make files and shell scripts * checking for empty or unneeded directories * building 'Rgraphviz_2.46.0.tar.gz' Warning: file 'Rgraphviz/cleanup' did not have execute permissions: corrected Warning: file 'Rgraphviz/configure' did not have execute permissions: corrected Warning: file 'Rgraphviz/src/graphviz/configure' did not have execute permissions: corrected Warning: file 'Rgraphviz/src/graphviz/libltdl/configure' did not have execute permissions: corrected