| Back to Multiple platform build/check report for BioC 3.18: simplified long |
|
This page was generated on 2024-03-04 11:37:48 -0500 (Mon, 04 Mar 2024).
| Hostname | OS | Arch (*) | R version | Installed pkgs |
|---|---|---|---|---|
| nebbiolo2 | Linux (Ubuntu 22.04.3 LTS) | x86_64 | 4.3.2 Patched (2023-11-13 r85521) -- "Eye Holes" | 4692 |
| palomino4 | Windows Server 2022 Datacenter | x64 | 4.3.2 (2023-10-31 ucrt) -- "Eye Holes" | 4445 |
| lconway | macOS 12.7.1 Monterey | x86_64 | 4.3.2 Patched (2023-11-01 r85457) -- "Eye Holes" | 4466 |
| Click on any hostname to see more info about the system (e.g. compilers) (*) as reported by 'uname -p', except on Windows and Mac OS X | ||||
| Package 1815/2266 | Hostname | OS / Arch | INSTALL | BUILD | CHECK | BUILD BIN | ||||||||
| RTN 2.26.0 (landing page) Mauro Castro
| nebbiolo2 | Linux (Ubuntu 22.04.3 LTS) / x86_64 | OK | OK | OK | |||||||||
| palomino4 | Windows Server 2022 Datacenter / x64 | OK | OK | OK | OK | |||||||||
| lconway | macOS 12.7.1 Monterey / x86_64 | OK | OK | OK | OK | |||||||||
| kjohnson1 | macOS 13.6.1 Ventura / arm64 | see weekly results here | ||||||||||||
|
To the developers/maintainers of the RTN package: - Allow up to 24 hours (and sometimes 48 hours) for your latest push to git@git.bioconductor.org:packages/RTN.git to reflect on this report. See Troubleshooting Build Report for more information. - Use the following Renviron settings to reproduce errors and warnings. - If 'R CMD check' started to fail recently on the Linux builder(s) over a missing dependency, add the missing dependency to 'Suggests:' in your DESCRIPTION file. See Renviron.bioc for more information. |
| Package: RTN |
| Version: 2.26.0 |
| Command: /Library/Frameworks/R.framework/Resources/bin/R CMD check --install=check:RTN.install-out.txt --library=/Library/Frameworks/R.framework/Resources/library --no-vignettes --timings RTN_2.26.0.tar.gz |
| StartedAt: 2024-03-03 23:08:57 -0500 (Sun, 03 Mar 2024) |
| EndedAt: 2024-03-03 23:14:07 -0500 (Sun, 03 Mar 2024) |
| EllapsedTime: 309.8 seconds |
| RetCode: 0 |
| Status: OK |
| CheckDir: RTN.Rcheck |
| Warnings: 0 |
##############################################################################
##############################################################################
###
### Running command:
###
### /Library/Frameworks/R.framework/Resources/bin/R CMD check --install=check:RTN.install-out.txt --library=/Library/Frameworks/R.framework/Resources/library --no-vignettes --timings RTN_2.26.0.tar.gz
###
##############################################################################
##############################################################################
* using log directory ‘/Users/biocbuild/bbs-3.18-bioc/meat/RTN.Rcheck’
* using R version 4.3.2 Patched (2023-11-01 r85457)
* using platform: x86_64-apple-darwin20 (64-bit)
* R was compiled by
Apple clang version 14.0.3 (clang-1403.0.22.14.1)
GNU Fortran (GCC) 12.2.0
* running under: macOS Monterey 12.7.1
* using session charset: UTF-8
* using option ‘--no-vignettes’
* checking for file ‘RTN/DESCRIPTION’ ... OK
* checking extension type ... Package
* this is package ‘RTN’ version ‘2.26.0’
* checking package namespace information ... OK
* checking package dependencies ... OK
* checking if this is a source package ... OK
* checking if there is a namespace ... OK
* checking for hidden files and directories ... OK
* checking for portable file names ... OK
* checking for sufficient/correct file permissions ... OK
* checking whether package ‘RTN’ can be installed ... OK
* checking installed package size ... NOTE
installed size is 9.8Mb
sub-directories of 1Mb or more:
R 1.1Mb
data 8.6Mb
* checking package directory ... OK
* checking ‘build’ directory ... OK
* checking DESCRIPTION meta-information ... OK
* checking top-level files ... OK
* checking for left-over files ... OK
* checking index information ... OK
* checking package subdirectories ... OK
* checking R files for non-ASCII characters ... OK
* checking R files for syntax errors ... OK
* checking whether the package can be loaded ... OK
* checking whether the package can be loaded with stated dependencies ... OK
* checking whether the package can be unloaded cleanly ... OK
* checking whether the namespace can be loaded with stated dependencies ... OK
* checking whether the namespace can be unloaded cleanly ... OK
* checking dependencies in R code ... OK
* checking S3 generic/method consistency ... OK
* checking replacement functions ... OK
* checking foreign function calls ... OK
* checking R code for possible problems ... OK
* checking Rd files ... OK
* checking Rd metadata ... OK
* checking Rd cross-references ... OK
* checking for missing documentation entries ... OK
* checking for code/documentation mismatches ... OK
* checking Rd \usage sections ... OK
* checking Rd contents ... OK
* checking for unstated dependencies in examples ... OK
* checking contents of ‘data’ directory ... OK
* checking data for non-ASCII characters ... OK
* checking data for ASCII and uncompressed saves ... OK
* checking files in ‘vignettes’ ... OK
* checking examples ... OK
* checking for unstated dependencies in ‘tests’ ... OK
* checking tests ...
Running ‘runTests.R’
OK
* checking for unstated dependencies in vignettes ... OK
* checking package vignettes in ‘inst/doc’ ... OK
* checking running R code from vignettes ... SKIPPED
* checking re-building of vignette outputs ... SKIPPED
* checking PDF version of manual ... OK
* DONE
Status: 1 NOTE
See
‘/Users/biocbuild/bbs-3.18-bioc/meat/RTN.Rcheck/00check.log’
for details.
RTN.Rcheck/00install.out
############################################################################## ############################################################################## ### ### Running command: ### ### /Library/Frameworks/R.framework/Resources/bin/R CMD INSTALL RTN ### ############################################################################## ############################################################################## * installing to library ‘/Library/Frameworks/R.framework/Versions/4.3-x86_64/Resources/library’ * installing *source* package ‘RTN’ ... ** using staged installation ** R ** data ** inst ** byte-compile and prepare package for lazy loading ** help *** installing help indices ** building package indices ** installing vignettes ** testing if installed package can be loaded from temporary location ** testing if installed package can be loaded from final location ** testing if installed package keeps a record of temporary installation path * DONE (RTN)
RTN.Rcheck/tests/runTests.Rout
R version 4.3.2 Patched (2023-11-01 r85457) -- "Eye Holes"
Copyright (C) 2023 The R Foundation for Statistical Computing
Platform: x86_64-apple-darwin20 (64-bit)
R is free software and comes with ABSOLUTELY NO WARRANTY.
You are welcome to redistribute it under certain conditions.
Type 'license()' or 'licence()' for distribution details.
R is a collaborative project with many contributors.
Type 'contributors()' for more information and
'citation()' on how to cite R or R packages in publications.
Type 'demo()' for some demos, 'help()' for on-line help, or
'help.start()' for an HTML browser interface to help.
Type 'q()' to quit R.
> BiocGenerics:::testPackage("RTN")
-Preprocessing for input data...
--Mapping 'expData' to 'rowAnnotation'...
--Checking 'regulatoryElements' in 'rowAnnotation'...
--Checking 'expData'...
-Preprocessing complete!
-Performing permutation analysis...
--For 5 regulons...
|
| | 0%
|
|======= | 10%
|
|============== | 20%
|
|===================== | 30%
|
|============================ | 40%
|
|=================================== | 50%
|
|========================================== | 60%
|
|================================================= | 70%
|
|======================================================== | 80%
|
|=============================================================== | 90%
|
|======================================================================| 100%
-Permutation analysis complete!
-Performing bootstrap analysis...
--For 5 regulons...
|
| | 0%
|
|======= | 10%
|
|============== | 20%
|
|===================== | 30%
|
|============================ | 40%
|
|=================================== | 50%
|
|========================================== | 60%
|
|================================================= | 70%
|
|======================================================== | 80%
|
|=============================================================== | 90%
|
|======================================================================| 100%
-Bootstrap analysis complete!
-Applying dpi filter...
-DPI filter complete!
-Preprocessing for input data...
--Mapping 'phenotype' to 'phenoIDs'...
--Removing genes without names or values in 'phenotype'...
--Removing duplicated genes...
--Mapping 'hits' to 'phenoIDs'...
--Removing duplicated hits...
--Mapping 'transcriptionalNetwork' annotation to 'phenotype'...
--Checking agreement between 'transcriptionalNetwork' and 'phenotype'... 99.8% !
--Removing 'hits' not listed in 'transcriptionalNetwork' universe...
--Extracting regulons...
-Preprocessing complete!
-Performing master regulatory analysis...
--For 5 regulons...
|
| | 0%
|
|============== | 20%
|
|============================ | 40%
|
|========================================== | 60%
|
|======================================================== | 80%
|
|======================================================================| 100%
-Master regulatory analysis complete
-Performing gene set enrichment analysis...
--For 5 regulons...
|
| | 0%
|
|============== | 20%
|
|============================ | 40%
|
|========================================== | 60%
|
|======================================================== | 80%
|
|======================================================================| 100%
-Gene set enrichment analysis complete
-Performing two-tailed GSEA analysis...
--For 5 regulons...
|
| | 0%
|
|============== | 20%
|
|============================ | 40%
|
|========================================== | 60%
|
|======================================================== | 80%
|
|======================================================================| 100%
|
| | 0%
|
|============== | 20%
|
|============================ | 40%
|
|========================================== | 60%
|
|======================================================== | 80%
|
|======================================================================| 100%
-GSEA2 analysis complete
-Preprocessing for input data...
--Mapping 'expData' to 'rowAnnotation'...
--Checking 'regulatoryElements' in 'rowAnnotation'...
--Checking 'expData'...
-Preprocessing complete!
-Performing permutation analysis...
--For 2 regulons...
|
| | 0%
|
|======= | 10%
|
|============== | 20%
|
|===================== | 30%
|
|============================ | 40%
|
|=================================== | 50%
|
|========================================== | 60%
|
|================================================= | 70%
|
|======================================================== | 80%
|
|=============================================================== | 90%
|
|======================================================================| 100%
-Permutation analysis complete!
-Performing bootstrap analysis...
--For 2 regulons...
|
| | 0%
|
|======= | 10%
|
|============== | 20%
|
|===================== | 30%
|
|============================ | 40%
|
|=================================== | 50%
|
|========================================== | 60%
|
|================================================= | 70%
|
|======================================================== | 80%
|
|=============================================================== | 90%
|
|======================================================================| 100%
-Bootstrap analysis complete!
-Applying dpi filter...
-DPI filter complete!
-Preprocessing for input data...
--Checking modulators in the dataset...
--Extracting TF-targets...
--Applying modulator independence constraint...
--Applying modulator range constraint...
--Selecting subsamples...
-Estimating mutual information threshold...
|
| | 0%
|
|======= | 10%
|
|============== | 20%
|
|===================== | 30%
|
|============================ | 40%
|
|=================================== | 50%
|
|========================================== | 60%
|
|================================================= | 70%
|
|======================================================== | 80%
|
|=============================================================== | 90%
|
|======================================================================| 100%
-Performing conditional mutual information analysis...
--For 2 tfs and 2 candidate modulator(s)
|
| | 0%
|
|=================================== | 50%
|
|======================================================================| 100%
-Conditional analysis complete!
RUNIT TEST PROTOCOL -- Sun Mar 3 23:13:56 2024
***********************************************
Number of test functions: 2
Number of errors: 0
Number of failures: 0
1 Test Suite :
RTN RUnit Tests - 2 test functions, 0 errors, 0 failures
Number of test functions: 2
Number of errors: 0
Number of failures: 0
>
> proc.time()
user system elapsed
43.377 3.564 47.390
RTN.Rcheck/RTN-Ex.timings
| name | user | system | elapsed | |
| AVS-class | 0 | 0 | 0 | |
| RTN.data | 0.313 | 0.014 | 0.328 | |
| TNA-class | 0.000 | 0.001 | 0.000 | |
| TNI-class | 0 | 0 | 0 | |
| TNI.data | 0.340 | 0.010 | 0.355 | |
| avs.evse | 0.000 | 0.001 | 0.001 | |
| avs.get | 0 | 0 | 0 | |
| avs.pevse | 0.000 | 0.001 | 0.002 | |
| avs.plot1 | 0.001 | 0.000 | 0.000 | |
| avs.plot2 | 0 | 0 | 0 | |
| avs.rvse | 0 | 0 | 0 | |
| avs.vse | 0.001 | 0.001 | 0.002 | |
| tna.get | 0.256 | 0.011 | 0.271 | |
| tna.gsea1 | 0.298 | 0.013 | 0.314 | |
| tna.gsea2 | 0.286 | 0.012 | 0.302 | |
| tna.mra | 0.272 | 0.009 | 0.283 | |
| tna.plot.gsea1 | 0.281 | 0.010 | 0.294 | |
| tna.plot.gsea2 | 0.300 | 0.016 | 0.321 | |
| tni.alpha.adjust | 0.137 | 0.006 | 0.144 | |
| tni.annotate.regulons | 0.054 | 0.003 | 0.058 | |
| tni.annotate.samples | 0.051 | 0.004 | 0.056 | |
| tni.area3 | 0.052 | 0.005 | 0.057 | |
| tni.bootstrap | 0.084 | 0.013 | 0.098 | |
| tni.conditional | 0.055 | 0.007 | 0.063 | |
| tni.constructor | 0.209 | 0.018 | 0.228 | |
| tni.dpi.filter | 0.053 | 0.006 | 0.060 | |
| tni.get | 0.072 | 0.015 | 0.088 | |
| tni.graph | 0.053 | 0.005 | 0.059 | |
| tni.gsea2 | 0.050 | 0.005 | 0.056 | |
| tni.overlap.genesets | 0.053 | 0.003 | 0.056 | |
| tni.permutation | 0.051 | 0.006 | 0.058 | |
| tni.plot.checks | 0.054 | 0.003 | 0.057 | |
| tni.plot.sre | 0.061 | 0.010 | 0.072 | |
| tni.preprocess | 0 | 0 | 0 | |
| tni.prune | 0.048 | 0.003 | 0.051 | |
| tni.regulon.summary | 0.049 | 0.003 | 0.052 | |
| tni.replace.samples | 0.001 | 0.000 | 0.000 | |
| tni.sre | 0.047 | 0.004 | 0.051 | |
| tni2tna.preprocess | 0.305 | 0.016 | 0.323 | |
| upgradeTNA | 0 | 0 | 0 | |
| upgradeTNI | 0.000 | 0.001 | 0.000 | |