| Back to Multiple platform build/check report for BioC 3.18: simplified long |
|
This page was generated on 2024-04-17 11:36:19 -0400 (Wed, 17 Apr 2024).
| Hostname | OS | Arch (*) | R version | Installed pkgs |
|---|---|---|---|---|
| nebbiolo2 | Linux (Ubuntu 22.04.3 LTS) | x86_64 | 4.3.3 (2024-02-29) -- "Angel Food Cake" | 4676 |
| palomino4 | Windows Server 2022 Datacenter | x64 | 4.3.3 (2024-02-29 ucrt) -- "Angel Food Cake" | 4414 |
| merida1 | macOS 12.7.1 Monterey | x86_64 | 4.3.3 (2024-02-29) -- "Angel Food Cake" | 4437 |
| Click on any hostname to see more info about the system (e.g. compilers) (*) as reported by 'uname -p', except on Windows and Mac OS X | ||||
| Package 1794/2266 | Hostname | OS / Arch | INSTALL | BUILD | CHECK | BUILD BIN | ||||||||
| RPA 1.58.0 (landing page) Leo Lahti
| nebbiolo2 | Linux (Ubuntu 22.04.3 LTS) / x86_64 | OK | OK | OK | |||||||||
| palomino4 | Windows Server 2022 Datacenter / x64 | OK | OK | OK | OK | |||||||||
| merida1 | macOS 12.7.1 Monterey / x86_64 | OK | OK | OK | OK | |||||||||
| kjohnson1 | macOS 13.6.1 Ventura / arm64 | see weekly results here | ||||||||||||
|
To the developers/maintainers of the RPA package: - Allow up to 24 hours (and sometimes 48 hours) for your latest push to git@git.bioconductor.org:packages/RPA.git to reflect on this report. See Troubleshooting Build Report for more information. - Use the following Renviron settings to reproduce errors and warnings. - If 'R CMD check' started to fail recently on the Linux builder(s) over a missing dependency, add the missing dependency to 'Suggests:' in your DESCRIPTION file. See Renviron.bioc for more information. |
| Package: RPA |
| Version: 1.58.0 |
| Command: /home/biocbuild/bbs-3.18-bioc/R/bin/R CMD check --install=check:RPA.install-out.txt --library=/home/biocbuild/bbs-3.18-bioc/R/site-library --timings RPA_1.58.0.tar.gz |
| StartedAt: 2024-04-16 03:14:40 -0400 (Tue, 16 Apr 2024) |
| EndedAt: 2024-04-16 03:17:04 -0400 (Tue, 16 Apr 2024) |
| EllapsedTime: 144.9 seconds |
| RetCode: 0 |
| Status: OK |
| CheckDir: RPA.Rcheck |
| Warnings: 0 |
##############################################################################
##############################################################################
###
### Running command:
###
### /home/biocbuild/bbs-3.18-bioc/R/bin/R CMD check --install=check:RPA.install-out.txt --library=/home/biocbuild/bbs-3.18-bioc/R/site-library --timings RPA_1.58.0.tar.gz
###
##############################################################################
##############################################################################
* using log directory ‘/home/biocbuild/bbs-3.18-bioc/meat/RPA.Rcheck’
* using R version 4.3.3 (2024-02-29)
* using platform: x86_64-pc-linux-gnu (64-bit)
* R was compiled by
gcc (Ubuntu 11.4.0-1ubuntu1~22.04) 11.4.0
GNU Fortran (Ubuntu 11.4.0-1ubuntu1~22.04) 11.4.0
* running under: Ubuntu 22.04.4 LTS
* using session charset: UTF-8
* checking for file ‘RPA/DESCRIPTION’ ... OK
* checking extension type ... Package
* this is package ‘RPA’ version ‘1.58.0’
* package encoding: UTF-8
* checking package namespace information ... OK
* checking package dependencies ... OK
* checking if this is a source package ... OK
* checking if there is a namespace ... OK
* checking for hidden files and directories ... OK
* checking for portable file names ... OK
* checking for sufficient/correct file permissions ... OK
* checking whether package ‘RPA’ can be installed ... OK
* checking installed package size ... OK
* checking package directory ... OK
* checking ‘build’ directory ... OK
* checking DESCRIPTION meta-information ... OK
* checking top-level files ... OK
* checking for left-over files ... OK
* checking index information ... OK
* checking package subdirectories ... OK
* checking R files for non-ASCII characters ... OK
* checking R files for syntax errors ... OK
* checking whether the package can be loaded ... OK
* checking whether the package can be loaded with stated dependencies ... OK
* checking whether the package can be unloaded cleanly ... OK
* checking whether the namespace can be loaded with stated dependencies ... OK
* checking whether the namespace can be unloaded cleanly ... OK
* checking loading without being on the library search path ... OK
* checking startup messages can be suppressed ... OK
* checking dependencies in R code ... OK
* checking S3 generic/method consistency ... OK
* checking replacement functions ... OK
* checking foreign function calls ... OK
* checking R code for possible problems ... OK
* checking Rd files ... OK
* checking Rd metadata ... OK
* checking Rd cross-references ... OK
* checking for missing documentation entries ... OK
* checking for code/documentation mismatches ... OK
* checking Rd \usage sections ... OK
* checking Rd contents ... OK
* checking for unstated dependencies in examples ... OK
* checking files in ‘vignettes’ ... OK
* checking examples ... OK
* checking for unstated dependencies in ‘tests’ ... OK
* checking tests ...
Running ‘rpa.R’
OK
* checking for unstated dependencies in vignettes ... OK
* checking package vignettes in ‘inst/doc’ ... OK
* checking running R code from vignettes ...
‘RPA.Rmd’ using ‘UTF-8’... OK
NONE
* checking re-building of vignette outputs ... OK
* checking PDF version of manual ... OK
* DONE
Status: OK
RPA.Rcheck/00install.out
############################################################################## ############################################################################## ### ### Running command: ### ### /home/biocbuild/bbs-3.18-bioc/R/bin/R CMD INSTALL RPA ### ############################################################################## ############################################################################## * installing to library ‘/home/biocbuild/bbs-3.18-bioc/R/site-library’ * installing *source* package ‘RPA’ ... ** using staged installation ** R ** inst ** byte-compile and prepare package for lazy loading ** help *** installing help indices ** building package indices ** installing vignettes ** testing if installed package can be loaded from temporary location ** testing if installed package can be loaded from final location ** testing if installed package keeps a record of temporary installation path * DONE (RPA)
RPA.Rcheck/tests/rpa.Rout
R version 4.3.3 (2024-02-29) -- "Angel Food Cake" Copyright (C) 2024 The R Foundation for Statistical Computing Platform: x86_64-pc-linux-gnu (64-bit) R is free software and comes with ABSOLUTELY NO WARRANTY. You are welcome to redistribute it under certain conditions. Type 'license()' or 'licence()' for distribution details. R is a collaborative project with many contributors. Type 'contributors()' for more information and 'citation()' on how to cite R or R packages in publications. Type 'demo()' for some demos, 'help()' for on-line help, or 'help.start()' for an HTML browser interface to help. Type 'q()' to quit R. > #library(affy) > #library(affydata) > #library(RPA) > #data(Dilution) > #eset <- rpa(Dilution) > > proc.time() user system elapsed 0.153 0.025 0.167
RPA.Rcheck/RPA-Ex.timings
| name | user | system | elapsed | |
| RPA-package | 0 | 0 | 0 | |
| RPA.iteration | 0 | 0 | 0 | |
| RPA.preprocess | 0 | 0 | 0 | |
| collect.hyperparameters | 0 | 0 | 0 | |
| d.update.fast | 0 | 0 | 0 | |
| estimate.affinities | 0 | 0 | 0 | |
| estimate.hyperparameters | 0 | 0 | 0 | |
| frpa | 0 | 0 | 0 | |
| get.batches | 0.001 | 0.000 | 0.000 | |
| get.probe.matrix | 0 | 0 | 0 | |
| get.probe.parameters | 0 | 0 | 0 | |
| get.probeset | 0 | 0 | 0 | |
| hyperparameter.update | 0 | 0 | 0 | |
| online.quantile | 0 | 0 | 0 | |
| probe.parameters.tolist | 0 | 0 | 0 | |
| probeplot | 0.000 | 0.000 | 0.001 | |
| probetable | 0 | 0 | 0 | |
| retrieve.probesets | 0 | 0 | 0 | |
| rpa | 0 | 0 | 0 | |
| rpa.complete | 0 | 0 | 0 | |
| rpa.fit | 0.001 | 0.000 | 0.000 | |
| rpa.online | 0 | 0 | 0 | |
| rpa.plot | 0 | 0 | 0 | |
| rpa.summarize | 0 | 0 | 0 | |
| rpaplot | 0 | 0 | 0 | |
| sample.probeset | 0.000 | 0.000 | 0.001 | |
| summarize.batch | 0 | 0 | 0 | |
| summarize.batches | 0 | 0 | 0 | |
| summarize_probedata | 0 | 0 | 0 | |
| updating.hyperparameters | 0 | 0 | 0 | |