| Back to Multiple platform build/check report for BioC 3.18: simplified long |
|
This page was generated on 2024-04-17 11:38:07 -0400 (Wed, 17 Apr 2024).
| Hostname | OS | Arch (*) | R version | Installed pkgs |
|---|---|---|---|---|
| nebbiolo2 | Linux (Ubuntu 22.04.3 LTS) | x86_64 | 4.3.3 (2024-02-29) -- "Angel Food Cake" | 4676 |
| palomino4 | Windows Server 2022 Datacenter | x64 | 4.3.3 (2024-02-29 ucrt) -- "Angel Food Cake" | 4414 |
| merida1 | macOS 12.7.1 Monterey | x86_64 | 4.3.3 (2024-02-29) -- "Angel Food Cake" | 4437 |
| Click on any hostname to see more info about the system (e.g. compilers) (*) as reported by 'uname -p', except on Windows and Mac OS X | ||||
| Package 1685/2266 | Hostname | OS / Arch | INSTALL | BUILD | CHECK | BUILD BIN | ||||||||
| RCX 1.6.0 (landing page) Florian Auer
| nebbiolo2 | Linux (Ubuntu 22.04.3 LTS) / x86_64 | OK | OK | OK | |||||||||
| palomino4 | Windows Server 2022 Datacenter / x64 | OK | OK | OK | OK | |||||||||
| merida1 | macOS 12.7.1 Monterey / x86_64 | OK | OK | OK | OK | |||||||||
| kjohnson1 | macOS 13.6.1 Ventura / arm64 | see weekly results here | ||||||||||||
|
To the developers/maintainers of the RCX package: - Allow up to 24 hours (and sometimes 48 hours) for your latest push to git@git.bioconductor.org:packages/RCX.git to reflect on this report. See Troubleshooting Build Report for more information. - Use the following Renviron settings to reproduce errors and warnings. - If 'R CMD check' started to fail recently on the Linux builder(s) over a missing dependency, add the missing dependency to 'Suggests:' in your DESCRIPTION file. See Renviron.bioc for more information. |
| Package: RCX |
| Version: 1.6.0 |
| Command: /Library/Frameworks/R.framework/Resources/bin/R CMD check --install=check:RCX.install-out.txt --library=/Library/Frameworks/R.framework/Resources/library --no-vignettes --timings RCX_1.6.0.tar.gz |
| StartedAt: 2024-04-16 07:31:13 -0400 (Tue, 16 Apr 2024) |
| EndedAt: 2024-04-16 07:32:54 -0400 (Tue, 16 Apr 2024) |
| EllapsedTime: 101.0 seconds |
| RetCode: 0 |
| Status: OK |
| CheckDir: RCX.Rcheck |
| Warnings: 0 |
##############################################################################
##############################################################################
###
### Running command:
###
### /Library/Frameworks/R.framework/Resources/bin/R CMD check --install=check:RCX.install-out.txt --library=/Library/Frameworks/R.framework/Resources/library --no-vignettes --timings RCX_1.6.0.tar.gz
###
##############################################################################
##############################################################################
* using log directory ‘/Users/biocbuild/bbs-3.18-bioc/meat/RCX.Rcheck’
* using R version 4.3.3 (2024-02-29)
* using platform: x86_64-apple-darwin20 (64-bit)
* R was compiled by
Apple clang version 14.0.0 (clang-1400.0.29.202)
GNU Fortran (GCC) 12.2.0
* running under: macOS Monterey 12.7.1
* using session charset: UTF-8
* using option ‘--no-vignettes’
* checking for file ‘RCX/DESCRIPTION’ ... OK
* checking extension type ... Package
* this is package ‘RCX’ version ‘1.6.0’
* package encoding: UTF-8
* checking package namespace information ... OK
* checking package dependencies ... OK
* checking if this is a source package ... OK
* checking if there is a namespace ... OK
* checking for hidden files and directories ... OK
* checking for portable file names ... OK
* checking for sufficient/correct file permissions ... OK
* checking whether package ‘RCX’ can be installed ... OK
* checking installed package size ... OK
* checking package directory ... OK
* checking ‘build’ directory ... OK
* checking DESCRIPTION meta-information ... OK
* checking top-level files ... OK
* checking for left-over files ... OK
* checking index information ... OK
* checking package subdirectories ... NOTE
Problems with news in ‘NEWS.md’:
No news entries found.
* checking R files for non-ASCII characters ... OK
* checking R files for syntax errors ... OK
* checking whether the package can be loaded ... OK
* checking whether the package can be loaded with stated dependencies ... OK
* checking whether the package can be unloaded cleanly ... OK
* checking whether the namespace can be loaded with stated dependencies ... OK
* checking whether the namespace can be unloaded cleanly ... OK
* checking startup messages can be suppressed ... OK
* checking dependencies in R code ... OK
* checking S3 generic/method consistency ... OK
* checking replacement functions ... OK
* checking foreign function calls ... OK
* checking R code for possible problems ... OK
* checking Rd files ... OK
* checking Rd metadata ... OK
* checking Rd cross-references ... OK
* checking for missing documentation entries ... OK
* checking for code/documentation mismatches ... OK
* checking Rd \usage sections ... OK
* checking Rd contents ... OK
* checking for unstated dependencies in examples ... OK
* checking R/sysdata.rda ... OK
* checking files in ‘vignettes’ ... OK
* checking examples ... OK
Examples with CPU (user + system) or elapsed time > 5s
user system elapsed
graphNEL 6.734 0.053 6.991
Igraph 6.223 0.101 6.347
* checking for unstated dependencies in ‘tests’ ... OK
* checking tests ...
Running ‘testthat.R’
OK
* checking for unstated dependencies in vignettes ... OK
* checking package vignettes in ‘inst/doc’ ... OK
* checking running R code from vignettes ... SKIPPED
* checking re-building of vignette outputs ... SKIPPED
* checking PDF version of manual ... OK
* DONE
Status: 1 NOTE
See
‘/Users/biocbuild/bbs-3.18-bioc/meat/RCX.Rcheck/00check.log’
for details.
RCX.Rcheck/00install.out
############################################################################## ############################################################################## ### ### Running command: ### ### /Library/Frameworks/R.framework/Resources/bin/R CMD INSTALL RCX ### ############################################################################## ############################################################################## * installing to library ‘/Library/Frameworks/R.framework/Versions/4.3-x86_64/Resources/library’ * installing *source* package ‘RCX’ ... ** using staged installation ** R ** inst ** byte-compile and prepare package for lazy loading ** help *** installing help indices ** building package indices ** installing vignettes ** testing if installed package can be loaded from temporary location ** testing if installed package can be loaded from final location ** testing if installed package keeps a record of temporary installation path * DONE (RCX)
RCX.Rcheck/tests/testthat.Rout
R version 4.3.3 (2024-02-29) -- "Angel Food Cake"
Copyright (C) 2024 The R Foundation for Statistical Computing
Platform: x86_64-apple-darwin20 (64-bit)
R is free software and comes with ABSOLUTELY NO WARRANTY.
You are welcome to redistribute it under certain conditions.
Type 'license()' or 'licence()' for distribution details.
R is a collaborative project with many contributors.
Type 'contributors()' for more information and
'citation()' on how to cite R or R packages in publications.
Type 'demo()' for some demos, 'help()' for on-line help, or
'help.start()' for an HTML browser interface to help.
Type 'q()' to quit R.
> library(testthat)
> library(RCX)
>
> test_check("RCX")
[ FAIL 0 | WARN 0 | SKIP 0 | PASS 60 ]
>
> proc.time()
user system elapsed
5.940 0.269 6.255
RCX.Rcheck/RCX-Ex.timings
| name | user | system | elapsed | |
| CartesianLayout | 0.008 | 0.002 | 0.010 | |
| Convert-Names-and-Classes | 0.001 | 0.002 | 0.003 | |
| CyGroups | 0.010 | 0.001 | 0.011 | |
| CyHiddenAttributes | 0.260 | 0.012 | 0.275 | |
| CyNetworkRelations | 0.003 | 0.000 | 0.004 | |
| CySubNetworks | 0.005 | 0.001 | 0.007 | |
| CyTableColumn | 0.011 | 0.001 | 0.012 | |
| CyVisualProperties | 0.035 | 0.004 | 0.040 | |
| CyVisualProperty | 0.024 | 0.003 | 0.028 | |
| CyVisualPropertyDependencies | 0.011 | 0.001 | 0.013 | |
| CyVisualPropertyMappings | 0.009 | 0.002 | 0.010 | |
| CyVisualPropertyProperties | 0.007 | 0.002 | 0.008 | |
| EdgeAttributes | 0.033 | 0.003 | 0.037 | |
| Edges | 0.004 | 0.000 | 0.004 | |
| Igraph | 6.223 | 0.101 | 6.347 | |
| Meta-data | 0.059 | 0.001 | 0.061 | |
| NetworkAttributes | 0.022 | 0.002 | 0.025 | |
| NodeAttributes | 0.033 | 0.003 | 0.036 | |
| Nodes | 0.004 | 0.001 | 0.005 | |
| RCX-object | 0.529 | 0.006 | 0.536 | |
| aspectClasses | 0.001 | 0.002 | 0.004 | |
| checks | 0.000 | 0.001 | 0.001 | |
| convert-data-types-and-values | 0.003 | 0.002 | 0.004 | |
| convert2json | 0.000 | 0.001 | 0.001 | |
| countElements | 0.019 | 0.000 | 0.020 | |
| custom-print | 0.012 | 0.001 | 0.012 | |
| dot-addAspectNameToJson | 0.001 | 0.000 | 0.001 | |
| dot-addAttributeData | 0 | 0 | 0 | |
| dot-aspectClass | 0.000 | 0.001 | 0.001 | |
| dot-convertRawList | 0.000 | 0.000 | 0.001 | |
| dot-createAttributeAspect | 0.001 | 0.000 | 0.000 | |
| dot-createCyVpPorD | 0.001 | 0.000 | 0.001 | |
| dot-filterBy | 0.001 | 0.001 | 0.001 | |
| dot-format | 0.000 | 0.000 | 0.001 | |
| dot-infer | 0 | 0 | 0 | |
| dot-json2RDataType | 0.001 | 0.001 | 0.001 | |
| dot-jsonL | 0.001 | 0.001 | 0.001 | |
| dot-jsonV | 0.001 | 0.001 | 0.001 | |
| dot-log | 0.001 | 0.000 | 0.001 | |
| dot-mergeAttributesAspect | 0 | 0 | 0 | |
| dot-mergeIdAspect | 0 | 0 | 0 | |
| dot-modClass | 0.000 | 0.001 | 0.001 | |
| dot-pasteC | 0.000 | 0.001 | 0.000 | |
| dot-renameDF | 0.003 | 0.000 | 0.004 | |
| dot-stop | 0.000 | 0.001 | 0.001 | |
| dot-summaryAspect | 0.003 | 0.001 | 0.003 | |
| dot-transformListLength-set | 0.004 | 0.001 | 0.006 | |
| dot-transformVLD | 0.014 | 0.001 | 0.015 | |
| getCyVisualProperty | 0.018 | 0.002 | 0.021 | |
| graphNEL | 6.734 | 0.053 | 6.991 | |
| hasIds | 0.002 | 0.000 | 0.003 | |
| idProperty | 0.002 | 0.000 | 0.002 | |
| jsonToRCX | 0.004 | 0.001 | 0.005 | |
| markAttributeColumn | 0.002 | 0.001 | 0.003 | |
| markRefColumn | 0.002 | 0.001 | 0.003 | |
| maxId | 0.002 | 0.001 | 0.002 | |
| rcxToJson | 0.003 | 0.000 | 0.004 | |
| readCX | 1.394 | 0.014 | 1.417 | |
| referredBy | 0.019 | 0.000 | 0.020 | |
| refersTo | 0.002 | 0.001 | 0.002 | |
| setExtension | 0 | 0 | 0 | |
| summary | 0.026 | 0.002 | 0.028 | |
| toCX | 0.024 | 0.000 | 0.025 | |
| updateCartesianLayout | 0.092 | 0.003 | 0.096 | |
| updateCyGroups | 0.068 | 0.004 | 0.071 | |
| updateCyHiddenAttributes | 0.102 | 0.003 | 0.106 | |
| updateCyNetworkRelations | 0.083 | 0.003 | 0.087 | |
| updateCySubNetworks | 0.061 | 0.003 | 0.064 | |
| updateCyTableColumn | 0.108 | 0.003 | 0.112 | |
| updateCyVisualProperties | 0.535 | 0.022 | 0.561 | |
| updateCyVisualProperty | 0.142 | 0.007 | 0.149 | |
| updateEdgeAttributes | 0.110 | 0.003 | 0.115 | |
| updateEdges | 0.046 | 0.001 | 0.048 | |
| updateMetaDataProperties | 0.047 | 0.004 | 0.052 | |
| updateNetworkAttributes | 0.103 | 0.003 | 0.107 | |
| updateNodeAttributes | 0.135 | 0.003 | 0.140 | |
| updateNodes | 0.033 | 0.002 | 0.035 | |
| validate | 0.664 | 0.015 | 0.688 | |
| visualize | 0.019 | 0.000 | 0.020 | |
| writeCX | 0 | 0 | 0 | |
| writeHTML | 0.133 | 0.120 | 0.259 | |