| Back to Multiple platform build/check report for BioC 3.18: simplified long |
|
This page was generated on 2024-04-17 11:37:09 -0400 (Wed, 17 Apr 2024).
| Hostname | OS | Arch (*) | R version | Installed pkgs |
|---|---|---|---|---|
| nebbiolo2 | Linux (Ubuntu 22.04.3 LTS) | x86_64 | 4.3.3 (2024-02-29) -- "Angel Food Cake" | 4676 |
| palomino4 | Windows Server 2022 Datacenter | x64 | 4.3.3 (2024-02-29 ucrt) -- "Angel Food Cake" | 4414 |
| merida1 | macOS 12.7.1 Monterey | x86_64 | 4.3.3 (2024-02-29) -- "Angel Food Cake" | 4437 |
| Click on any hostname to see more info about the system (e.g. compilers) (*) as reported by 'uname -p', except on Windows and Mac OS X | ||||
| Package 1646/2266 | Hostname | OS / Arch | INSTALL | BUILD | CHECK | BUILD BIN | ||||||||
| R453Plus1Toolbox 1.52.0 (landing page) Hans-Ulrich Klein
| nebbiolo2 | Linux (Ubuntu 22.04.3 LTS) / x86_64 | OK | OK | OK | |||||||||
| palomino4 | Windows Server 2022 Datacenter / x64 | OK | OK | OK | OK | |||||||||
| merida1 | macOS 12.7.1 Monterey / x86_64 | OK | OK | OK | OK | |||||||||
| kjohnson1 | macOS 13.6.1 Ventura / arm64 | see weekly results here | ||||||||||||
|
To the developers/maintainers of the R453Plus1Toolbox package: - Allow up to 24 hours (and sometimes 48 hours) for your latest push to git@git.bioconductor.org:packages/R453Plus1Toolbox.git to reflect on this report. See Troubleshooting Build Report for more information. - Use the following Renviron settings to reproduce errors and warnings. - If 'R CMD check' started to fail recently on the Linux builder(s) over a missing dependency, add the missing dependency to 'Suggests:' in your DESCRIPTION file. See Renviron.bioc for more information. |
| Package: R453Plus1Toolbox |
| Version: 1.52.0 |
| Command: F:\biocbuild\bbs-3.18-bioc\R\bin\R.exe CMD check --no-multiarch --install=check:R453Plus1Toolbox.install-out.txt --library=F:\biocbuild\bbs-3.18-bioc\R\library --no-vignettes --timings R453Plus1Toolbox_1.52.0.tar.gz |
| StartedAt: 2024-04-16 04:05:35 -0400 (Tue, 16 Apr 2024) |
| EndedAt: 2024-04-16 04:12:49 -0400 (Tue, 16 Apr 2024) |
| EllapsedTime: 434.1 seconds |
| RetCode: 0 |
| Status: OK |
| CheckDir: R453Plus1Toolbox.Rcheck |
| Warnings: 0 |
##############################################################################
##############################################################################
###
### Running command:
###
### F:\biocbuild\bbs-3.18-bioc\R\bin\R.exe CMD check --no-multiarch --install=check:R453Plus1Toolbox.install-out.txt --library=F:\biocbuild\bbs-3.18-bioc\R\library --no-vignettes --timings R453Plus1Toolbox_1.52.0.tar.gz
###
##############################################################################
##############################################################################
* using log directory 'F:/biocbuild/bbs-3.18-bioc/meat/R453Plus1Toolbox.Rcheck'
* using R version 4.3.3 (2024-02-29 ucrt)
* using platform: x86_64-w64-mingw32 (64-bit)
* R was compiled by
gcc.exe (GCC) 12.3.0
GNU Fortran (GCC) 12.3.0
* running under: Windows Server 2022 x64 (build 20348)
* using session charset: UTF-8
* using option '--no-vignettes'
* checking for file 'R453Plus1Toolbox/DESCRIPTION' ... OK
* checking extension type ... Package
* this is package 'R453Plus1Toolbox' version '1.52.0'
* checking package namespace information ... OK
* checking package dependencies ... OK
* checking if this is a source package ... OK
* checking if there is a namespace ... OK
* checking for hidden files and directories ... OK
* checking for portable file names ... OK
* checking whether package 'R453Plus1Toolbox' can be installed ... OK
* used C compiler: 'gcc.exe (GCC) 12.3.0'
* checking installed package size ... OK
* checking package directory ... OK
* checking 'build' directory ... OK
* checking DESCRIPTION meta-information ... OK
* checking top-level files ... OK
* checking for left-over files ... OK
* checking index information ... OK
* checking package subdirectories ... OK
* checking R files for non-ASCII characters ... OK
* checking R files for syntax errors ... OK
* checking whether the package can be loaded ... OK
* checking whether the package can be loaded with stated dependencies ... OK
* checking whether the package can be unloaded cleanly ... OK
* checking whether the namespace can be loaded with stated dependencies ... OK
* checking whether the namespace can be unloaded cleanly ... OK
* checking dependencies in R code ... NOTE
'library' or 'require' call to 'BSgenome.Hsapiens.UCSC.hg19' in package code.
Please use :: or requireNamespace() instead.
See section 'Suggested packages' in the 'Writing R Extensions' manual.
* checking S3 generic/method consistency ... OK
* checking replacement functions ... OK
* checking foreign function calls ... OK
* checking R code for possible problems ... NOTE
.annotateVariants_MapperSet: no visible binding for global variable
'Hsapiens'
.ava2vcf: no visible binding for global variable 'Hsapiens'
.detectBreakpoints: no visible binding for global variable 'Hsapiens'
.getEnsemblInfo: no visible binding for global variable 'cds_length'
.getEnsemblInfo: no visible binding for global variable
'ensembl_transcript_id'
.getMutations: no visible binding for global variable 'PatternStart'
.getMutations: no visible binding for global variable 'PatternEnd'
.htmlReport: no visible binding for global variable 'VarFreqForward'
.htmlReport: no visible binding for global variable 'VarFreqReverse'
.plotVariants: no visible binding for global variable 'mutation'
qualityReportSFF: no visible binding for '<<-' assignment to 'tmp'
annotateVariants,MapperSet-BSgenome: no visible binding for global
variable 'Hsapiens'
annotateVariants,MapperSet-missing: no visible binding for global
variable 'Hsapiens'
ava2vcf,AVASet: no visible binding for global variable 'Hsapiens'
detectBreakpoints,list: no visible binding for global variable
'Hsapiens'
subset,AVASet: no visible binding for global variable 'referenceSeqID'
Undefined global functions or variables:
Hsapiens PatternEnd PatternStart VarFreqForward VarFreqReverse
cds_length ensembl_transcript_id mutation referenceSeqID
* checking Rd files ... OK
* checking Rd metadata ... OK
* checking Rd cross-references ... OK
* checking for missing documentation entries ... OK
* checking for code/documentation mismatches ... OK
* checking Rd \usage sections ... OK
* checking Rd contents ... OK
* checking for unstated dependencies in examples ... OK
* checking contents of 'data' directory ... OK
* checking data for non-ASCII characters ... OK
* checking data for ASCII and uncompressed saves ... OK
* checking line endings in C/C++/Fortran sources/headers ... OK
* checking compiled code ... NOTE
Note: information on .o files for x64 is not available
File 'F:/biocbuild/bbs-3.18-bioc/R/library/R453Plus1Toolbox/libs/x64/R453Plus1Toolbox.dll':
Found 'abort', possibly from 'abort' (C), 'runtime' (Fortran)
Compiled code should not call entry points which might terminate R nor
write to stdout/stderr instead of to the console, nor use Fortran I/O
nor system RNGs nor [v]sprintf. The detected symbols are linked into
the code but might come from libraries and not actually be called.
See 'Writing portable packages' in the 'Writing R Extensions' manual.
* checking sizes of PDF files under 'inst/doc' ... OK
* checking files in 'vignettes' ... OK
* checking examples ... OK
Examples with CPU (user + system) or elapsed time > 5s
user system elapsed
mergeBreakpoints 10.35 0.17 10.53
* checking for unstated dependencies in vignettes ... OK
* checking package vignettes in 'inst/doc' ... OK
* checking running R code from vignettes ... SKIPPED
* checking re-building of vignette outputs ... SKIPPED
* checking PDF version of manual ... OK
* DONE
Status: 3 NOTEs
See
'F:/biocbuild/bbs-3.18-bioc/meat/R453Plus1Toolbox.Rcheck/00check.log'
for details.
R453Plus1Toolbox.Rcheck/00install.out
##############################################################################
##############################################################################
###
### Running command:
###
### F:\biocbuild\bbs-3.18-bioc\R\bin\R.exe CMD INSTALL R453Plus1Toolbox
###
##############################################################################
##############################################################################
* installing to library 'F:/biocbuild/bbs-3.18-bioc/R/library'
* installing *source* package 'R453Plus1Toolbox' ...
** using staged installation
** libs
using C compiler: 'gcc.exe (GCC) 12.3.0'
gcc -I"F:/biocbuild/bbs-3.18-bioc/R/include" -DNDEBUG -I"C:/rtools43/x86_64-w64-mingw32.static.posix/include" -O2 -Wall -mfpmath=sse -msse2 -mstackrealign -c readSFF.c -o readSFF.o
readSFF.c: In function 'readSFF':
readSFF.c:27:7: warning: variable 'block_count' set but not used [-Wunused-but-set-variable]
27 | int block_count;
| ^~~~~~~~~~~
gcc -I"F:/biocbuild/bbs-3.18-bioc/R/include" -DNDEBUG -I"C:/rtools43/x86_64-w64-mingw32.static.posix/include" -O2 -Wall -mfpmath=sse -msse2 -mstackrealign -c writeSFF.c -o writeSFF.o
gcc -shared -s -static-libgcc -o R453Plus1Toolbox.dll tmp.def readSFF.o writeSFF.o -LC:/rtools43/x86_64-w64-mingw32.static.posix/lib/x64 -LC:/rtools43/x86_64-w64-mingw32.static.posix/lib -LF:/biocbuild/bbs-3.18-bioc/R/bin/x64 -lR
installing to F:/biocbuild/bbs-3.18-bioc/R/library/00LOCK-R453Plus1Toolbox/00new/R453Plus1Toolbox/libs/x64
** R
** data
** inst
** byte-compile and prepare package for lazy loading
** help
*** installing help indices
** building package indices
** installing vignettes
** testing if installed package can be loaded from temporary location
** testing if installed package can be loaded from final location
** testing if installed package keeps a record of temporary installation path
* DONE (R453Plus1Toolbox)
R453Plus1Toolbox.Rcheck/R453Plus1Toolbox-Ex.timings
| name | user | system | elapsed | |
| AVASet-class | 0.22 | 0.04 | 0.35 | |
| AVASet | 0.22 | 0.02 | 0.25 | |
| AnnotatedVariants-class | 0 | 0 | 0 | |
| MapperSet-class | 0.03 | 0.03 | 0.06 | |
| MapperSet | 0.00 | 0.02 | 0.02 | |
| SFFContainer-class | 0 | 0 | 0 | |
| SFFRead-class | 0 | 0 | 0 | |
| alignShortReads | 2.44 | 0.05 | 2.52 | |
| annotateVariants | 0 | 0 | 0 | |
| assayDataAmp | 0.02 | 0.00 | 0.01 | |
| ava2vcf | 0.29 | 0.00 | 0.30 | |
| avaSetExample | 0.02 | 0.02 | 0.03 | |
| avaSetFiltered | 0.02 | 0.00 | 0.02 | |
| avaSetFiltered_annot | 0.00 | 0.01 | 0.01 | |
| breakpoints | 0.00 | 0.02 | 0.02 | |
| calculateTiTv | 0.01 | 0.00 | 0.01 | |
| captureArray | 0.00 | 0.01 | 0.02 | |
| coverageOnTarget | 0.19 | 0.00 | 0.20 | |
| demultiplexReads | 0.08 | 0.00 | 0.08 | |
| detectBreakpoints | 0.78 | 0.10 | 0.88 | |
| fDataAmp | 0.00 | 0.01 | 0.01 | |
| featureDataAmp | 0.05 | 0.00 | 0.05 | |
| filterChimericReads | 4.26 | 0.06 | 4.34 | |
| genomeSequencerMIDs | 0.03 | 0.00 | 0.03 | |
| getAlignedReads | 0.06 | 0.02 | 0.08 | |
| getVariantPercentages | 0.04 | 0.02 | 0.05 | |
| htmlReport | 2.51 | 0.43 | 3.09 | |
| mapperSetExample | 0.03 | 0.00 | 0.03 | |
| mergeBreakpoints | 10.35 | 0.17 | 10.53 | |
| mutationInfo | 0.00 | 0.02 | 0.02 | |
| plotAmpliconCoverage | 0 | 0 | 0 | |
| plotChimericReads | 3.56 | 0.03 | 3.59 | |
| plotVariants | 0 | 0 | 0 | |
| plotVariationFrequency | 0 | 0 | 0 | |
| qualityReportSFF | 0 | 0 | 0 | |
| readSFF | 0.08 | 0.02 | 0.09 | |
| readsOnTarget | 0.05 | 0.01 | 0.07 | |
| referenceSequences | 0.02 | 0.02 | 0.03 | |
| regions | 0.01 | 0.00 | 0.01 | |
| removeLinker | 0.03 | 0.00 | 0.03 | |
| sequenceCaptureLinkers | 0 | 0 | 0 | |
| setVariantFilter | 0.05 | 0.01 | 0.07 | |
| variants | 0.01 | 0.00 | 0.01 | |
| writeSFF | 0.02 | 0.00 | 0.02 | |