| Back to Multiple platform build/check report for BioC 3.18: simplified long |
|
This page was generated on 2024-03-04 11:37:42 -0500 (Mon, 04 Mar 2024).
| Hostname | OS | Arch (*) | R version | Installed pkgs |
|---|---|---|---|---|
| nebbiolo2 | Linux (Ubuntu 22.04.3 LTS) | x86_64 | 4.3.2 Patched (2023-11-13 r85521) -- "Eye Holes" | 4692 |
| palomino4 | Windows Server 2022 Datacenter | x64 | 4.3.2 (2023-10-31 ucrt) -- "Eye Holes" | 4445 |
| lconway | macOS 12.7.1 Monterey | x86_64 | 4.3.2 Patched (2023-11-01 r85457) -- "Eye Holes" | 4466 |
| Click on any hostname to see more info about the system (e.g. compilers) (*) as reported by 'uname -p', except on Windows and Mac OS X | ||||
| Package 1604/2266 | Hostname | OS / Arch | INSTALL | BUILD | CHECK | BUILD BIN | ||||||||
| ProteoMM 1.20.0 (landing page) Yuliya V Karpievitch
| nebbiolo2 | Linux (Ubuntu 22.04.3 LTS) / x86_64 | OK | OK | OK | |||||||||
| palomino4 | Windows Server 2022 Datacenter / x64 | OK | OK | OK | OK | |||||||||
| lconway | macOS 12.7.1 Monterey / x86_64 | OK | OK | OK | OK | |||||||||
| kjohnson1 | macOS 13.6.1 Ventura / arm64 | see weekly results here | ||||||||||||
|
To the developers/maintainers of the ProteoMM package: - Allow up to 24 hours (and sometimes 48 hours) for your latest push to git@git.bioconductor.org:packages/ProteoMM.git to reflect on this report. See Troubleshooting Build Report for more information. - Use the following Renviron settings to reproduce errors and warnings. - If 'R CMD check' started to fail recently on the Linux builder(s) over a missing dependency, add the missing dependency to 'Suggests:' in your DESCRIPTION file. See Renviron.bioc for more information. |
| Package: ProteoMM |
| Version: 1.20.0 |
| Command: /Library/Frameworks/R.framework/Resources/bin/R CMD check --install=check:ProteoMM.install-out.txt --library=/Library/Frameworks/R.framework/Resources/library --no-vignettes --timings ProteoMM_1.20.0.tar.gz |
| StartedAt: 2024-03-03 22:41:52 -0500 (Sun, 03 Mar 2024) |
| EndedAt: 2024-03-03 22:44:08 -0500 (Sun, 03 Mar 2024) |
| EllapsedTime: 136.0 seconds |
| RetCode: 0 |
| Status: OK |
| CheckDir: ProteoMM.Rcheck |
| Warnings: 0 |
##############################################################################
##############################################################################
###
### Running command:
###
### /Library/Frameworks/R.framework/Resources/bin/R CMD check --install=check:ProteoMM.install-out.txt --library=/Library/Frameworks/R.framework/Resources/library --no-vignettes --timings ProteoMM_1.20.0.tar.gz
###
##############################################################################
##############################################################################
* using log directory ‘/Users/biocbuild/bbs-3.18-bioc/meat/ProteoMM.Rcheck’
* using R version 4.3.2 Patched (2023-11-01 r85457)
* using platform: x86_64-apple-darwin20 (64-bit)
* R was compiled by
Apple clang version 14.0.3 (clang-1403.0.22.14.1)
GNU Fortran (GCC) 12.2.0
* running under: macOS Monterey 12.7.1
* using session charset: UTF-8
* using option ‘--no-vignettes’
* checking for file ‘ProteoMM/DESCRIPTION’ ... OK
* this is package ‘ProteoMM’ version ‘1.20.0’
* package encoding: UTF-8
* checking package namespace information ... OK
* checking package dependencies ... OK
* checking if this is a source package ... OK
* checking if there is a namespace ... OK
* checking for hidden files and directories ... OK
* checking for portable file names ... OK
* checking for sufficient/correct file permissions ... OK
* checking whether package ‘ProteoMM’ can be installed ... OK
* checking installed package size ... OK
* checking package directory ... OK
* checking ‘build’ directory ... OK
* checking DESCRIPTION meta-information ... NOTE
License components which are templates and need '+ file LICENSE':
MIT
* checking top-level files ... OK
* checking for left-over files ... OK
* checking index information ... OK
* checking package subdirectories ... OK
* checking R files for non-ASCII characters ... OK
* checking R files for syntax errors ... OK
* checking whether the package can be loaded ... OK
* checking whether the package can be loaded with stated dependencies ... OK
* checking whether the package can be unloaded cleanly ... OK
* checking whether the namespace can be loaded with stated dependencies ... OK
* checking whether the namespace can be unloaded cleanly ... OK
* checking dependencies in R code ... OK
* checking S3 generic/method consistency ... OK
* checking replacement functions ... OK
* checking foreign function calls ... OK
* checking R code for possible problems ... OK
* checking Rd files ... OK
* checking Rd metadata ... OK
* checking Rd cross-references ... OK
* checking for missing documentation entries ... OK
* checking for code/documentation mismatches ... OK
* checking Rd \usage sections ... OK
* checking Rd contents ... OK
* checking for unstated dependencies in examples ... OK
* checking contents of ‘data’ directory ... OK
* checking data for non-ASCII characters ... OK
* checking LazyData ... OK
* checking data for ASCII and uncompressed saves ... OK
* checking files in ‘vignettes’ ... OK
* checking examples ... OK
Examples with CPU (user + system) or elapsed time > 5s
user system elapsed
prot_level_multi_part 23.373 0.280 23.834
subset_proteins 7.899 0.116 8.058
prot_level_multiMat_PresAbs 7.627 0.104 7.774
get_presAbs_prots 6.187 0.092 6.334
peptideLevel_PresAbsDE 6.058 0.093 6.213
plot_volcano_wLab 5.180 0.074 5.298
MBimpute 4.848 0.121 5.013
* checking for unstated dependencies in vignettes ... OK
* checking package vignettes in ‘inst/doc’ ... OK
* checking running R code from vignettes ... SKIPPED
* checking re-building of vignette outputs ... SKIPPED
* checking PDF version of manual ... OK
* DONE
Status: 1 NOTE
See
‘/Users/biocbuild/bbs-3.18-bioc/meat/ProteoMM.Rcheck/00check.log’
for details.
ProteoMM.Rcheck/00install.out
############################################################################## ############################################################################## ### ### Running command: ### ### /Library/Frameworks/R.framework/Resources/bin/R CMD INSTALL ProteoMM ### ############################################################################## ############################################################################## * installing to library ‘/Library/Frameworks/R.framework/Versions/4.3-x86_64/Resources/library’ * installing *source* package ‘ProteoMM’ ... ** using staged installation ** R ** data *** moving datasets to lazyload DB ** byte-compile and prepare package for lazy loading ** help *** installing help indices ** building package indices ** installing vignettes ** testing if installed package can be loaded from temporary location ** testing if installed package can be loaded from final location ** testing if installed package keeps a record of temporary installation path * DONE (ProteoMM)
ProteoMM.Rcheck/ProteoMM-Ex.timings
| name | user | system | elapsed | |
| MBimpute | 4.848 | 0.121 | 5.013 | |
| convert_log2 | 0.007 | 0.002 | 0.009 | |
| eig_norm1 | 3.829 | 0.065 | 3.935 | |
| eig_norm2 | 3.554 | 0.050 | 3.634 | |
| eigen_pi | 0.016 | 0.004 | 0.019 | |
| g.test | 0.004 | 0.001 | 0.007 | |
| get_presAbs_prots | 6.187 | 0.092 | 6.334 | |
| makeLMFormula | 0.001 | 0.000 | 0.000 | |
| make_intencities | 0.006 | 0.001 | 0.008 | |
| make_meta | 0.005 | 0.002 | 0.007 | |
| peptideLevel_DE | 4.779 | 0.075 | 4.896 | |
| peptideLevel_PresAbsDE | 6.058 | 0.093 | 6.213 | |
| plot_3_pep_trends_NOfile | 3.396 | 0.051 | 3.476 | |
| plot_volcano | 4.696 | 0.073 | 4.814 | |
| plot_volcano_wLab | 5.180 | 0.074 | 5.298 | |
| prot_level_multiMat_PresAbs | 7.627 | 0.104 | 7.774 | |
| prot_level_multi_part | 23.373 | 0.280 | 23.834 | |
| subset_proteins | 7.899 | 0.116 | 8.058 | |