| Back to Multiple platform build/check report for BioC 3.18: simplified long |
|
This page was generated on 2024-04-17 11:37:07 -0400 (Wed, 17 Apr 2024).
| Hostname | OS | Arch (*) | R version | Installed pkgs |
|---|---|---|---|---|
| nebbiolo2 | Linux (Ubuntu 22.04.3 LTS) | x86_64 | 4.3.3 (2024-02-29) -- "Angel Food Cake" | 4676 |
| palomino4 | Windows Server 2022 Datacenter | x64 | 4.3.3 (2024-02-29 ucrt) -- "Angel Food Cake" | 4414 |
| merida1 | macOS 12.7.1 Monterey | x86_64 | 4.3.3 (2024-02-29) -- "Angel Food Cake" | 4437 |
| Click on any hostname to see more info about the system (e.g. compilers) (*) as reported by 'uname -p', except on Windows and Mac OS X | ||||
| Package 1552/2266 | Hostname | OS / Arch | INSTALL | BUILD | CHECK | BUILD BIN | ||||||||
| PING 2.46.0 (landing page) Renan Sauteraud
| nebbiolo2 | Linux (Ubuntu 22.04.3 LTS) / x86_64 | OK | OK | WARNINGS | |||||||||
| palomino4 | Windows Server 2022 Datacenter / x64 | OK | OK | WARNINGS | OK | |||||||||
| merida1 | macOS 12.7.1 Monterey / x86_64 | OK | OK | WARNINGS | OK | |||||||||
| kjohnson1 | macOS 13.6.1 Ventura / arm64 | see weekly results here | ||||||||||||
|
To the developers/maintainers of the PING package: - Allow up to 24 hours (and sometimes 48 hours) for your latest push to git@git.bioconductor.org:packages/PING.git to reflect on this report. See Troubleshooting Build Report for more information. - Use the following Renviron settings to reproduce errors and warnings. - If 'R CMD check' started to fail recently on the Linux builder(s) over a missing dependency, add the missing dependency to 'Suggests:' in your DESCRIPTION file. See Renviron.bioc for more information. |
| Package: PING |
| Version: 2.46.0 |
| Command: rm -rf PING.buildbin-libdir && mkdir PING.buildbin-libdir && F:\biocbuild\bbs-3.18-bioc\R\bin\R.exe CMD INSTALL --build --library=PING.buildbin-libdir PING_2.46.0.tar.gz |
| StartedAt: 2024-04-16 07:26:38 -0400 (Tue, 16 Apr 2024) |
| EndedAt: 2024-04-16 07:27:58 -0400 (Tue, 16 Apr 2024) |
| EllapsedTime: 80.6 seconds |
| RetCode: 0 |
| Status: OK |
| PackageFile: PING_2.46.0.zip |
| PackageFileSize: 5.507 MiB |
##############################################################################
##############################################################################
###
### Running command:
###
### rm -rf PING.buildbin-libdir && mkdir PING.buildbin-libdir && F:\biocbuild\bbs-3.18-bioc\R\bin\R.exe CMD INSTALL --build --library=PING.buildbin-libdir PING_2.46.0.tar.gz
###
##############################################################################
##############################################################################
* installing *source* package 'PING' ...
** using staged installation
**********************************************
WARNING: this package has a configure script
It probably needs manual configuration
**********************************************
** libs
using C compiler: 'gcc.exe (GCC) 12.3.0'
gcc -I"F:/biocbuild/bbs-3.18-bioc/R/include" -DNDEBUG -Ifusion_sdk -D_USE_MEM_MAPPING_ -I/src/include -I/x64/include -I"C:/rtools43/x86_64-w64-mingw32.static.posix/include" -O2 -Wall -mfpmath=sse -msse2 -mstackrealign -c init.c -o init.o
gcc -I"F:/biocbuild/bbs-3.18-bioc/R/include" -DNDEBUG -Ifusion_sdk -D_USE_MEM_MAPPING_ -I/src/include -I/x64/include -I"C:/rtools43/x86_64-w64-mingw32.static.posix/include" -O2 -Wall -mfpmath=sse -msse2 -mstackrealign -c ping.c -o ping.o
ping.c: In function 'fitModelAllk':
ping.c:145:40: warning: suggest parentheses around comparison in operand of '&' [-Wparentheses]
145 | if( REAL(VECTOR_ELT(paraPrior, 5))[0]>0 & REAL(VECTOR_ELT(paraEM, 0))[0]==0) // automatically decide minK and maxKK for histone data, when minK=0
| ~~~~~~~~~~~~~~~~~~~~~~~~~~~~~~~~~^~
ping.c: In function 'ECM2':
ping.c:1536:16: warning: variable 'chiSum' set but not used [-Wunused-but-set-variable]
1536 | double chiSum = 0, etaF, etaR, dd, cc;
| ^~~~~~
ping.c: In function 'mergePeak':
ping.c:3280:20: warning: variable 'tstatMax' set but not used [-Wunused-but-set-variable]
3280 | double tstat=0.0,tstatMax=0.0;
| ^~~~~~~~
ping.c: In function 'fitModelK':
ping.c:477:25: warning: 'firstFit' may be used uninitialized [-Wmaybe-uninitialized]
477 | SEXP ans, temp, firstFit;
| ^~~~~~~~
gcc -shared -s -static-libgcc -o PING.dll tmp.def init.o ping.o -lws2_32 -L/x64/lib -lgsl -lgslcblas -lm -LC:/rtools43/x86_64-w64-mingw32.static.posix/lib/x64 -LC:/rtools43/x86_64-w64-mingw32.static.posix/lib -LF:/biocbuild/bbs-3.18-bioc/R/bin/x64 -lR
installing to F:/biocbuild/bbs-3.18-bioc/meat/PING.buildbin-libdir/00LOCK-PING/00new/PING/libs/x64
** R
** inst
** byte-compile and prepare package for lazy loading
** help
*** installing help indices
** building package indices
** installing vignettes
** testing if installed package can be loaded from temporary location
** testing if installed package can be loaded from final location
** testing if installed package keeps a record of temporary installation path
* MD5 sums
packaged installation of 'PING' as PING_2.46.0.zip
* DONE (PING)