| Back to Multiple platform build/check report for BioC 3.18: simplified long |
|
This page was generated on 2024-04-17 11:37:05 -0400 (Wed, 17 Apr 2024).
| Hostname | OS | Arch (*) | R version | Installed pkgs |
|---|---|---|---|---|
| nebbiolo2 | Linux (Ubuntu 22.04.3 LTS) | x86_64 | 4.3.3 (2024-02-29) -- "Angel Food Cake" | 4676 |
| palomino4 | Windows Server 2022 Datacenter | x64 | 4.3.3 (2024-02-29 ucrt) -- "Angel Food Cake" | 4414 |
| merida1 | macOS 12.7.1 Monterey | x86_64 | 4.3.3 (2024-02-29) -- "Angel Food Cake" | 4437 |
| Click on any hostname to see more info about the system (e.g. compilers) (*) as reported by 'uname -p', except on Windows and Mac OS X | ||||
| Package 1464/2266 | Hostname | OS / Arch | INSTALL | BUILD | CHECK | BUILD BIN | ||||||||
| OpenStats 1.14.0 (landing page) Hamed Haseli Mashhadi
| nebbiolo2 | Linux (Ubuntu 22.04.3 LTS) / x86_64 | OK | OK | OK | |||||||||
| palomino4 | Windows Server 2022 Datacenter / x64 | OK | OK | OK | OK | |||||||||
| merida1 | macOS 12.7.1 Monterey / x86_64 | OK | OK | OK | OK | |||||||||
| kjohnson1 | macOS 13.6.1 Ventura / arm64 | see weekly results here | ||||||||||||
|
To the developers/maintainers of the OpenStats package: - Allow up to 24 hours (and sometimes 48 hours) for your latest push to git@git.bioconductor.org:packages/OpenStats.git to reflect on this report. See Troubleshooting Build Report for more information. - Use the following Renviron settings to reproduce errors and warnings. - If 'R CMD check' started to fail recently on the Linux builder(s) over a missing dependency, add the missing dependency to 'Suggests:' in your DESCRIPTION file. See Renviron.bioc for more information. |
| Package: OpenStats |
| Version: 1.14.0 |
| Command: F:\biocbuild\bbs-3.18-bioc\R\bin\R.exe CMD check --no-multiarch --install=check:OpenStats.install-out.txt --library=F:\biocbuild\bbs-3.18-bioc\R\library --no-vignettes --timings OpenStats_1.14.0.tar.gz |
| StartedAt: 2024-04-16 03:26:29 -0400 (Tue, 16 Apr 2024) |
| EndedAt: 2024-04-16 03:28:22 -0400 (Tue, 16 Apr 2024) |
| EllapsedTime: 113.4 seconds |
| RetCode: 0 |
| Status: OK |
| CheckDir: OpenStats.Rcheck |
| Warnings: 0 |
##############################################################################
##############################################################################
###
### Running command:
###
### F:\biocbuild\bbs-3.18-bioc\R\bin\R.exe CMD check --no-multiarch --install=check:OpenStats.install-out.txt --library=F:\biocbuild\bbs-3.18-bioc\R\library --no-vignettes --timings OpenStats_1.14.0.tar.gz
###
##############################################################################
##############################################################################
* using log directory 'F:/biocbuild/bbs-3.18-bioc/meat/OpenStats.Rcheck'
* using R version 4.3.3 (2024-02-29 ucrt)
* using platform: x86_64-w64-mingw32 (64-bit)
* R was compiled by
gcc.exe (GCC) 12.3.0
GNU Fortran (GCC) 12.3.0
* running under: Windows Server 2022 x64 (build 20348)
* using session charset: UTF-8
* using option '--no-vignettes'
* checking for file 'OpenStats/DESCRIPTION' ... OK
* checking extension type ... Package
* this is package 'OpenStats' version '1.14.0'
* package encoding: UTF-8
* checking package namespace information ... OK
* checking package dependencies ... OK
* checking if this is a source package ... OK
* checking if there is a namespace ... OK
* checking for hidden files and directories ... OK
* checking for portable file names ... OK
* checking whether package 'OpenStats' can be installed ... OK
* checking installed package size ... OK
* checking package directory ... OK
* checking 'build' directory ... OK
* checking DESCRIPTION meta-information ... OK
* checking top-level files ... OK
* checking for left-over files ... OK
* checking index information ... OK
* checking package subdirectories ... OK
* checking R files for non-ASCII characters ... OK
* checking R files for syntax errors ... OK
* checking whether the package can be loaded ... OK
* checking whether the package can be loaded with stated dependencies ... OK
* checking whether the package can be unloaded cleanly ... OK
* checking whether the namespace can be loaded with stated dependencies ... OK
* checking whether the namespace can be unloaded cleanly ... OK
* checking startup messages can be suppressed ... OK
* checking dependencies in R code ... OK
* checking S3 generic/method consistency ... OK
* checking replacement functions ... OK
* checking foreign function calls ... OK
* checking R code for possible problems ... OK
* checking Rd files ... NOTE
checkRd: (-1) OpenStatsAnalysis.Rd:108: Escaped LaTeX specials: \& \& \& \& \&
* checking Rd metadata ... OK
* checking Rd cross-references ... OK
* checking for missing documentation entries ... OK
* checking for code/documentation mismatches ... OK
* checking Rd \usage sections ... OK
* checking Rd contents ... OK
* checking for unstated dependencies in examples ... OK
* checking files in 'vignettes' ... OK
* checking examples ... OK
* checking for unstated dependencies in vignettes ... OK
* checking package vignettes in 'inst/doc' ... OK
* checking running R code from vignettes ... SKIPPED
* checking re-building of vignette outputs ... SKIPPED
* checking PDF version of manual ... OK
* DONE
Status: 1 NOTE
See
'F:/biocbuild/bbs-3.18-bioc/meat/OpenStats.Rcheck/00check.log'
for details.
OpenStats.Rcheck/00install.out
############################################################################## ############################################################################## ### ### Running command: ### ### F:\biocbuild\bbs-3.18-bioc\R\bin\R.exe CMD INSTALL OpenStats ### ############################################################################## ############################################################################## * installing to library 'F:/biocbuild/bbs-3.18-bioc/R/library' * installing *source* package 'OpenStats' ... ** using staged installation ** R ** inst ** byte-compile and prepare package for lazy loading ** help *** installing help indices ** building package indices ** installing vignettes ** testing if installed package can be loaded from temporary location ** testing if installed package can be loaded from final location ** testing if installed package keeps a record of temporary installation path * DONE (OpenStats)
OpenStats.Rcheck/OpenStats-Ex.timings
| name | user | system | elapsed | |
| OpenStatsAnalysis | 2.39 | 0.03 | 2.46 | |
| OpenStatsBuilder | 0 | 0 | 0 | |
| OpenStatsComplementarySplit | 1.33 | 0.02 | 1.36 | |
| OpenStatsList | 1.05 | 0.62 | 1.23 | |
| OpenStatsReport | 2.26 | 0.49 | 2.13 | |
| plot.OpenStats | 0.53 | 0.01 | 0.69 | |
| plot.OpenStatsComplementarySplit | 1.34 | 0.11 | 1.49 | |
| plot.OpenStatsFE | 0.17 | 0.02 | 0.18 | |
| plot.OpenStatsMM | 0.63 | 0.00 | 0.63 | |
| plot.OpenStatsRR | 0.31 | 0.00 | 0.32 | |
| print.OpenStats | 0.47 | 0.04 | 0.59 | |
| print.OpenStatsComplementarySplit | 1.98 | 0.05 | 2.06 | |
| print.OpenStatsFE | 0.07 | 0.00 | 0.08 | |
| print.OpenStatsMM | 0.48 | 0.00 | 0.50 | |
| print.OpenStatsRR | 0.24 | 0.01 | 0.25 | |
| summary.OpenStats | 0.48 | 0.04 | 0.64 | |
| summary.OpenStatsComplementarySplit | 2.11 | 0.01 | 2.14 | |
| summary.OpenStatsFE | 0.08 | 0.00 | 0.08 | |
| summary.OpenStatsMM | 0.72 | 0.02 | 0.74 | |
| summary.OpenStatsRR | 0.37 | 0.00 | 0.39 | |