| Back to Multiple platform build/check report for BioC 3.18: simplified long |
|
This page was generated on 2024-04-17 11:38:01 -0400 (Wed, 17 Apr 2024).
| Hostname | OS | Arch (*) | R version | Installed pkgs |
|---|---|---|---|---|
| nebbiolo2 | Linux (Ubuntu 22.04.3 LTS) | x86_64 | 4.3.3 (2024-02-29) -- "Angel Food Cake" | 4676 |
| palomino4 | Windows Server 2022 Datacenter | x64 | 4.3.3 (2024-02-29 ucrt) -- "Angel Food Cake" | 4414 |
| merida1 | macOS 12.7.1 Monterey | x86_64 | 4.3.3 (2024-02-29) -- "Angel Food Cake" | 4437 |
| Click on any hostname to see more info about the system (e.g. compilers) (*) as reported by 'uname -p', except on Windows and Mac OS X | ||||
| Package 1457/2266 | Hostname | OS / Arch | INSTALL | BUILD | CHECK | BUILD BIN | ||||||||
| OncoSimulR 4.4.0 (landing page) Ramon Diaz-Uriarte
| nebbiolo2 | Linux (Ubuntu 22.04.3 LTS) / x86_64 | OK | OK | OK | |||||||||
| palomino4 | Windows Server 2022 Datacenter / x64 | OK | OK | OK | OK | |||||||||
| merida1 | macOS 12.7.1 Monterey / x86_64 | OK | OK | OK | OK | |||||||||
| kjohnson1 | macOS 13.6.1 Ventura / arm64 | see weekly results here | ||||||||||||
|
To the developers/maintainers of the OncoSimulR package: - Allow up to 24 hours (and sometimes 48 hours) for your latest push to git@git.bioconductor.org:packages/OncoSimulR.git to reflect on this report. See Troubleshooting Build Report for more information. - Use the following Renviron settings to reproduce errors and warnings. - If 'R CMD check' started to fail recently on the Linux builder(s) over a missing dependency, add the missing dependency to 'Suggests:' in your DESCRIPTION file. See Renviron.bioc for more information. |
| Package: OncoSimulR |
| Version: 4.4.0 |
| Command: /Library/Frameworks/R.framework/Resources/bin/R CMD check --install=check:OncoSimulR.install-out.txt --library=/Library/Frameworks/R.framework/Resources/library --no-vignettes --timings OncoSimulR_4.4.0.tar.gz |
| StartedAt: 2024-04-16 06:26:57 -0400 (Tue, 16 Apr 2024) |
| EndedAt: 2024-04-16 06:41:50 -0400 (Tue, 16 Apr 2024) |
| EllapsedTime: 892.9 seconds |
| RetCode: 0 |
| Status: OK |
| CheckDir: OncoSimulR.Rcheck |
| Warnings: 0 |
##############################################################################
##############################################################################
###
### Running command:
###
### /Library/Frameworks/R.framework/Resources/bin/R CMD check --install=check:OncoSimulR.install-out.txt --library=/Library/Frameworks/R.framework/Resources/library --no-vignettes --timings OncoSimulR_4.4.0.tar.gz
###
##############################################################################
##############################################################################
* using log directory ‘/Users/biocbuild/bbs-3.18-bioc/meat/OncoSimulR.Rcheck’
* using R version 4.3.3 (2024-02-29)
* using platform: x86_64-apple-darwin20 (64-bit)
* R was compiled by
Apple clang version 14.0.0 (clang-1400.0.29.202)
GNU Fortran (GCC) 12.2.0
* running under: macOS Monterey 12.7.1
* using session charset: UTF-8
* using option ‘--no-vignettes’
* checking for file ‘OncoSimulR/DESCRIPTION’ ... OK
* checking extension type ... Package
* this is package ‘OncoSimulR’ version ‘4.4.0’
* checking package namespace information ... OK
* checking package dependencies ... OK
* checking if this is a source package ... OK
* checking if there is a namespace ... OK
* checking for hidden files and directories ... OK
* checking for portable file names ... OK
* checking for sufficient/correct file permissions ... OK
* checking whether package ‘OncoSimulR’ can be installed ... OK
* used C compiler: ‘Apple clang version 14.0.0 (clang-1400.0.29.202)’
* used C++ compiler: ‘Apple clang version 14.0.0 (clang-1400.0.29.202)’
* used SDK: ‘MacOSX11.3.sdk’
* checking installed package size ... NOTE
installed size is 9.3Mb
sub-directories of 1Mb or more:
libs 7.9Mb
* checking package directory ... OK
* checking ‘build’ directory ... OK
* checking DESCRIPTION meta-information ... OK
* checking top-level files ... OK
* checking for left-over files ... OK
* checking index information ... OK
* checking package subdirectories ... OK
* checking R files for non-ASCII characters ... OK
* checking R files for syntax errors ... OK
* checking whether the package can be loaded ... OK
* checking whether the package can be loaded with stated dependencies ... OK
* checking whether the package can be unloaded cleanly ... OK
* checking whether the namespace can be loaded with stated dependencies ... OK
* checking whether the namespace can be unloaded cleanly ... OK
* checking dependencies in R code ... OK
* checking S3 generic/method consistency ... OK
* checking replacement functions ... OK
* checking foreign function calls ... OK
* checking R code for possible problems ... OK
* checking Rd files ... OK
* checking Rd metadata ... OK
* checking Rd cross-references ... OK
* checking for missing documentation entries ... OK
* checking for code/documentation mismatches ... OK
* checking Rd \usage sections ... OK
* checking Rd contents ... OK
* checking for unstated dependencies in examples ... OK
* checking contents of ‘data’ directory ... OK
* checking data for non-ASCII characters ... OK
* checking data for ASCII and uncompressed saves ... OK
* checking line endings in C/C++/Fortran sources/headers ... OK
* checking line endings in Makefiles ... OK
* checking compilation flags in Makevars ... OK
* checking for GNU extensions in Makefiles ... OK
* checking for portable use of $(BLAS_LIBS) and $(LAPACK_LIBS) ... OK
* checking use of PKG_*FLAGS in Makefiles ... OK
* checking include directives in Makefiles ... OK
* checking compiled code ... NOTE
Note: information on .o files is not available
* checking files in ‘vignettes’ ... OK
* checking examples ... OK
Examples with CPU (user + system) or elapsed time > 5s
user system elapsed
plotClonePhylog 4.809 0.313 5.228
* checking for unstated dependencies in ‘tests’ ... OK
* checking tests ...
Running ‘testthat.R’
OK
* checking for unstated dependencies in vignettes ... OK
* checking package vignettes in ‘inst/doc’ ... OK
* checking running R code from vignettes ... SKIPPED
* checking re-building of vignette outputs ... SKIPPED
* checking PDF version of manual ... OK
* DONE
Status: 2 NOTEs
See
‘/Users/biocbuild/bbs-3.18-bioc/meat/OncoSimulR.Rcheck/00check.log’
for details.
OncoSimulR.Rcheck/00install.out
##############################################################################
##############################################################################
###
### Running command:
###
### /Library/Frameworks/R.framework/Resources/bin/R CMD INSTALL OncoSimulR
###
##############################################################################
##############################################################################
* installing to library ‘/Library/Frameworks/R.framework/Versions/4.3-x86_64/Resources/library’
* installing *source* package ‘OncoSimulR’ ...
** using staged installation
** libs
using C compiler: ‘Apple clang version 14.0.0 (clang-1400.0.29.202)’
using C++ compiler: ‘Apple clang version 14.0.0 (clang-1400.0.29.202)’
using SDK: ‘MacOSX11.3.sdk’
clang -arch x86_64 -I"/Library/Frameworks/R.framework/Resources/include" -DNDEBUG -I'/Library/Frameworks/R.framework/Versions/4.3-x86_64/Resources/library/Rcpp/include' -I/opt/R/x86_64/include -fPIC -falign-functions=64 -Wall -g -O2 -c FitnessLandscape/gamma.c -o FitnessLandscape/gamma.o
clang -arch x86_64 -I"/Library/Frameworks/R.framework/Resources/include" -DNDEBUG -I'/Library/Frameworks/R.framework/Versions/4.3-x86_64/Resources/library/Rcpp/include' -I/opt/R/x86_64/include -fPIC -falign-functions=64 -Wall -g -O2 -c FitnessLandscape/landscape.c -o FitnessLandscape/landscape.o
clang -arch x86_64 -I"/Library/Frameworks/R.framework/Resources/include" -DNDEBUG -I'/Library/Frameworks/R.framework/Versions/4.3-x86_64/Resources/library/Rcpp/include' -I/opt/R/x86_64/include -fPIC -falign-functions=64 -Wall -g -O2 -c FitnessLandscape/random.c -o FitnessLandscape/random.o
clang -arch x86_64 -I"/Library/Frameworks/R.framework/Resources/include" -DNDEBUG -I'/Library/Frameworks/R.framework/Versions/4.3-x86_64/Resources/library/Rcpp/include' -I/opt/R/x86_64/include -fPIC -falign-functions=64 -Wall -g -O2 -c FitnessLandscape/sort.c -o FitnessLandscape/sort.o
clang -arch x86_64 -I"/Library/Frameworks/R.framework/Resources/include" -DNDEBUG -I'/Library/Frameworks/R.framework/Versions/4.3-x86_64/Resources/library/Rcpp/include' -I/opt/R/x86_64/include -fPIC -falign-functions=64 -Wall -g -O2 -c FitnessLandscape/chain.c -o FitnessLandscape/chain.o
clang -arch x86_64 -I"/Library/Frameworks/R.framework/Resources/include" -DNDEBUG -I'/Library/Frameworks/R.framework/Versions/4.3-x86_64/Resources/library/Rcpp/include' -I/opt/R/x86_64/include -fPIC -falign-functions=64 -Wall -g -O2 -c FitnessLandscape/input.c -o FitnessLandscape/input.o
clang -arch x86_64 -I"/Library/Frameworks/R.framework/Resources/include" -DNDEBUG -I'/Library/Frameworks/R.framework/Versions/4.3-x86_64/Resources/library/Rcpp/include' -I/opt/R/x86_64/include -fPIC -falign-functions=64 -Wall -g -O2 -c FitnessLandscape/genotypes.c -o FitnessLandscape/genotypes.o
clang -arch x86_64 -I"/Library/Frameworks/R.framework/Resources/include" -DNDEBUG -I'/Library/Frameworks/R.framework/Versions/4.3-x86_64/Resources/library/Rcpp/include' -I/opt/R/x86_64/include -fPIC -falign-functions=64 -Wall -g -O2 -c FitnessLandscape/ordered_pairs.c -o FitnessLandscape/ordered_pairs.o
FitnessLandscape/ordered_pairs.c:138:6: warning: variable 'tot_pairs' set but not used [-Wunused-but-set-variable]
int tot_pairs=0;
^
1 warning generated.
clang -arch x86_64 -I"/Library/Frameworks/R.framework/Resources/include" -DNDEBUG -I'/Library/Frameworks/R.framework/Versions/4.3-x86_64/Resources/library/Rcpp/include' -I/opt/R/x86_64/include -fPIC -falign-functions=64 -Wall -g -O2 -c FitnessLandscape/calculus.c -o FitnessLandscape/calculus.o
clang -arch x86_64 -I"/Library/Frameworks/R.framework/Resources/include" -DNDEBUG -I'/Library/Frameworks/R.framework/Versions/4.3-x86_64/Resources/library/Rcpp/include' -I/opt/R/x86_64/include -fPIC -falign-functions=64 -Wall -g -O2 -c FitnessLandscape/vector.c -o FitnessLandscape/vector.o
clang -arch x86_64 -I"/Library/Frameworks/R.framework/Resources/include" -DNDEBUG -I'/Library/Frameworks/R.framework/Versions/4.3-x86_64/Resources/library/Rcpp/include' -I/opt/R/x86_64/include -fPIC -falign-functions=64 -Wall -g -O2 -c FitnessLandscape/generalized_chain.c -o FitnessLandscape/generalized_chain.o
clang -arch x86_64 -I"/Library/Frameworks/R.framework/Resources/include" -DNDEBUG -I'/Library/Frameworks/R.framework/Versions/4.3-x86_64/Resources/library/Rcpp/include' -I/opt/R/x86_64/include -fPIC -falign-functions=64 -Wall -g -O2 -c FitnessLandscape/LinearAlgebra.c -o FitnessLandscape/LinearAlgebra.o
clang -arch x86_64 -I"/Library/Frameworks/R.framework/Resources/include" -DNDEBUG -I'/Library/Frameworks/R.framework/Versions/4.3-x86_64/Resources/library/Rcpp/include' -I/opt/R/x86_64/include -fPIC -falign-functions=64 -Wall -g -O2 -c FitnessLandscape/summary_statistics.c -o FitnessLandscape/summary_statistics.o
FitnessLandscape/summary_statistics.c:515:9: warning: variable 'meanVarianceNumberOfStepsFL' set but not used [-Wunused-but-set-variable]
double meanVarianceNumberOfStepsFL = 0;
^
1 warning generated.
clang -arch x86_64 -I"/Library/Frameworks/R.framework/Resources/include" -DNDEBUG -I'/Library/Frameworks/R.framework/Versions/4.3-x86_64/Resources/library/Rcpp/include' -I/opt/R/x86_64/include -fPIC -falign-functions=64 -Wall -g -O2 -c FitnessLandscape/epistasis_type.c -o FitnessLandscape/epistasis_type.o
clang -arch x86_64 -I"/Library/Frameworks/R.framework/Resources/include" -DNDEBUG -I'/Library/Frameworks/R.framework/Versions/4.3-x86_64/Resources/library/Rcpp/include' -I/opt/R/x86_64/include -fPIC -falign-functions=64 -Wall -g -O2 -c FitnessLandscape/decomposition.c -o FitnessLandscape/decomposition.o
clang -arch x86_64 -I"/Library/Frameworks/R.framework/Resources/include" -DNDEBUG -I'/Library/Frameworks/R.framework/Versions/4.3-x86_64/Resources/library/Rcpp/include' -I/opt/R/x86_64/include -fPIC -falign-functions=64 -Wall -g -O2 -c FitnessLandscape/models.c -o FitnessLandscape/models.o
clang -arch x86_64 -I"/Library/Frameworks/R.framework/Resources/include" -DNDEBUG -I'/Library/Frameworks/R.framework/Versions/4.3-x86_64/Resources/library/Rcpp/include' -I/opt/R/x86_64/include -fPIC -falign-functions=64 -Wall -g -O2 -c FitnessLandscape/verbose.c -o FitnessLandscape/verbose.o
ar -r liblandscape.a FitnessLandscape/gamma.o FitnessLandscape/landscape.o FitnessLandscape/random.o FitnessLandscape/sort.o FitnessLandscape/chain.o FitnessLandscape/input.o FitnessLandscape/genotypes.o FitnessLandscape/ordered_pairs.o FitnessLandscape/calculus.o FitnessLandscape/vector.o FitnessLandscape/generalized_chain.o FitnessLandscape/LinearAlgebra.o FitnessLandscape/summary_statistics.o FitnessLandscape/epistasis_type.o FitnessLandscape/decomposition.o FitnessLandscape/models.o FitnessLandscape/verbose.o ;
ar: creating archive liblandscape.a
ranlib liblandscape.a;
clang -arch x86_64 -O -Wall -o fl_statistics -I/FitnessLandscape/. -L. FitnessLandscape/main_fl_statistics.c -llandscape -lm;
clang -arch x86_64 -O -Wall -o fl_generate -I/FitnessLandscape/. -L. FitnessLandscape/main_fl_generate.c -llandscape -lm;
clang -arch x86_64 -I"/Library/Frameworks/R.framework/Resources/include" -DNDEBUG -I'/Library/Frameworks/R.framework/Versions/4.3-x86_64/Resources/library/Rcpp/include' -I/opt/R/x86_64/include -fPIC -falign-functions=64 -Wall -g -O2 -c OncoSimulR_init.c -o OncoSimulR_init.o
clang++ -arch x86_64 -std=gnu++17 -I"/Library/Frameworks/R.framework/Resources/include" -DNDEBUG -I'/Library/Frameworks/R.framework/Versions/4.3-x86_64/Resources/library/Rcpp/include' -I/opt/R/x86_64/include -fPIC -falign-functions=64 -Wall -g -O2 -c RcppExports.cpp -o RcppExports.o
clang++ -arch x86_64 -std=gnu++17 -I"/Library/Frameworks/R.framework/Resources/include" -DNDEBUG -I'/Library/Frameworks/R.framework/Versions/4.3-x86_64/Resources/library/Rcpp/include' -I/opt/R/x86_64/include -fPIC -falign-functions=64 -Wall -g -O2 -c unity_osimul.cpp -o unity_osimul.o
In file included from unity_osimul.cpp:10:
./UnityOncoSimul/intervention_private_2.cpp:17:10: warning: variable 'totalPop' set but not used [-Wunused-but-set-variable]
double totalPop = 0.0;
^
1 warning generated.
clang++ -arch x86_64 -std=gnu++17 -dynamiclib -Wl,-headerpad_max_install_names -undefined dynamic_lookup -L/Library/Frameworks/R.framework/Resources/lib -L/opt/R/x86_64/lib -o OncoSimulR.so OncoSimulR_init.o RcppExports.o unity_osimul.o -F/Library/Frameworks/R.framework/.. -framework R -Wl,-framework -Wl,CoreFoundation
installing via 'install.libs.R' to /Library/Frameworks/R.framework/Versions/4.3-x86_64/Resources/library/00LOCK-OncoSimulR/00new/OncoSimulR
[1] ""
Installing fl_statistics fl_generate to /Library/Frameworks/R.framework/Versions/4.3-x86_64/Resources/library/00LOCK-OncoSimulR/00new/OncoSimulR/exec
Installing library OncoSimulR.so to /Library/Frameworks/R.framework/Versions/4.3-x86_64/Resources/library/00LOCK-OncoSimulR/00new/OncoSimulR/libs
** R
** data
** inst
** byte-compile and prepare package for lazy loading
** help
*** installing help indices
** building package indices
** installing vignettes
** testing if installed package can be loaded from temporary location
** checking absolute paths in shared objects and dynamic libraries
** testing if installed package can be loaded from final location
** testing if installed package keeps a record of temporary installation path
* DONE (OncoSimulR)
OncoSimulR.Rcheck/tests/testthat.Rout
R version 4.3.3 (2024-02-29) -- "Angel Food Cake"
Copyright (C) 2024 The R Foundation for Statistical Computing
Platform: x86_64-apple-darwin20 (64-bit)
R is free software and comes with ABSOLUTELY NO WARRANTY.
You are welcome to redistribute it under certain conditions.
Type 'license()' or 'licence()' for distribution details.
R is a collaborative project with many contributors.
Type 'contributors()' for more information and
'citation()' on how to cite R or R packages in publications.
Type 'demo()' for some demos, 'help()' for on-line help, or
'help.start()' for an HTML browser interface to help.
Type 'q()' to quit R.
> library(testthat)
> library(OncoSimulR)
>
> test_check("OncoSimulR")
Starting FDF-letter-fitness-order Tue Apr 16 06:29:34 2024
exprtk parser error:
Error[00] Position: 00 Type: [ Syntax Error] Msg: ERR202 - Undefined symbol: 'n_2_3' Expression: n_2_3
exprtk parser error:
Error[00] Position: 00 Type: [ Syntax Error] Msg: ERR202 - Undefined symbol: 'f_2_3' Expression: f_2_3
Ending FDF-small-fitness-specs Tue Apr 16 06:29:35 2024
Took 0.94
Starting LOD_POM at Tue Apr 16 06:29:35 2024
Ending LOD_POM at Tue Apr 16 06:30:14 2024
Took 38.53
Starting test.Z-all-fitness at Tue Apr 16 06:30:14 2024
Ending test.Z-all-fitness at Tue Apr 16 06:30:14 2024
Took 0.25
Starting test.Z-driver-counts at Tue Apr 16 06:30:14 2024
Ending test.Z-driver-counts at Tue Apr 16 06:30:14 2024
Took 0.39
Starting test.Z-fixation at Tue Apr 16 06:30:14 2024
Ending test.Z-fixation at Tue Apr 16 06:30:16 2024
Took 1.44
Starting test.Z-magellan at Tue Apr 16 06:30:16 2024
Ended test.Z-magellan at Tue Apr 16 06:30:19 2024
Starting test.Z-mutator at Tue Apr 16 06:30:19 2024
Ending test.Z-mutator at Tue Apr 16 06:30:20 2024
Took 0.7
Starting test.Z-mutatorFDF at Tue Apr 16 06:30:20 2024
Ending test.Z-mutatorFDF at Tue Apr 16 06:30:20 2024
Took 0.23
Starting test.Z-oncoSimulIndiv at Tue Apr 16 06:30:20 2024
Ending test.Z-oncoSimulIndiv at Tue Apr 16 06:30:23 2024
Took 3.08
Starting test.Z-oncoSimulIndivConstant at Tue Apr 16 06:30:23 2024
Ending test.Z-oncoSimulIndivConstant at Tue Apr 16 06:30:28 2024
Took 4.95
Starting test.Z-oncoSimulIndivDeath at Tue Apr 16 06:30:28 2024
Ending test.Z-oncoSimulIndivDeath at Tue Apr 16 06:30:30 2024
Took 1.99
Starting test.Z-oncoSimulIndivFDF at Tue Apr 16 06:30:30 2024
Hitted wall time. Exiting.
Hitting wall time is regarded as an error.
Ending test.Z-oncoSimulIndivFDF at Tue Apr 16 06:30:32 2024
Took 1.28
Starting test.Z-rfitness-landscape at Tue Apr 16 06:30:32 2024
Ending test.Z-rfitness-landscape at Tue Apr 16 06:30:32 2024
Took 0.43
Starting Z-sample-only-last tests Tue Apr 16 06:30:32 2024
Ending Z-sample-only-last tests Tue Apr 16 06:30:32 2024
Took 0
Starting Z-total-present-drivers tests Tue Apr 16 06:30:32 2024
Ending Z-total-present-drivers tests Tue Apr 16 06:30:34 2024
Took 2.4
Dummy empty test Tue Apr 16 06:30:34 2024
Starting accessible_genotypes at Tue Apr 16 06:30:34 2024
Ending accessible_genotypes at Tue Apr 16 06:30:50 2024
Took 15.97
Starting all fitness at Tue Apr 16 06:30:50 2024
Ending all-fitness at Tue Apr 16 06:31:03 2024
Took 12.43
Starting test.allFitnessEffectsFDF at Tue Apr 16 06:31:03 2024
Ending test.allFitnessEffectsFDF at Tue Apr 16 06:31:03 2024
Took 0.29
Starting test.allFitnessEffectsDeath at Tue Apr 16 06:31:03 2024
Ending test.allFitnessEffectsDeath at Tue Apr 16 06:31:04 2024
Took 0.87
Starting test.allFitnessEffectsFDF at Tue Apr 16 06:31:04 2024
Ending test.allFitnessEffectsFDF at Tue Apr 16 06:31:05 2024
Took 0.87
Starting driverCounts at Tue Apr 16 06:31:05 2024
Ending driverCounts at Tue Apr 16 06:31:29 2024
Took 23.64
Starting epist-order-modules at Tue Apr 16 06:31:29 2024
Ending epist-order-modules at Tue Apr 16 06:31:29 2024
Took 0.13
Starting test.evaluatingGenotypesDeath at Tue Apr 16 06:31:29 2024
Ending test.evaluatingGenotypesDeath at Tue Apr 16 06:31:29 2024
Took 0.44
Starting test.evaluatingGenotypesFDF at Tue Apr 16 06:31:29 2024
Ending test.evaluatingGenotypesFDF at Tue Apr 16 06:31:30 2024
Took 0.43
Starting exercise-plotting-code at Tue Apr 16 06:31:30 2024
Ending exercise-plotting-code at Tue Apr 16 06:31:44 2024
Took 14.5
Starting exercise-rfitness at Tue Apr 16 06:31:44 2024
Ending exercise-rfitness at Tue Apr 16 06:32:05 2024
Took 21.21
Starting to_Magella at Tue Apr 16 06:32:05 2024
Ending to_Magella at Tue Apr 16 06:32:05 2024
Took 0.08
Starting fitness preds at Tue Apr 16 06:32:05 2024
Observed vs expected, case III
done tries 1
Ending fitness preds long at Tue Apr 16 06:32:35 2024
Took 29.38
Starting fixation at Tue Apr 16 06:32:35 2024
Ending fixation at Tue Apr 16 06:33:42 2024
Took 67.35
Starting test.flfast-additional.R test at Tue Apr 16 06:33:42 2024
Ending test.flfast-additional.R test at Tue Apr 16 06:33:45 2024
Took 3.2
Starting test.flfast-mutator.R test at Tue Apr 16 06:33:45 2024
Finished test.flfast-mutator.R test at Tue Apr 16 06:33:49 2024
Took 3.06
Starting genotFitness at Tue Apr 16 06:33:49 2024
Ending genotFitness at Tue Apr 16 06:33:49 2024
Took 0.4
Starting genot_fitness_to_epistasis at Tue Apr 16 06:33:49 2024
Ending genot_fitness_to_epistasis at Tue Apr 16 06:33:49 2024
Took 0.08
Starting init-mutant tests Tue Apr 16 06:33:49 2024
exprtk parser error:
Error[00] Position: 18 Type: [ Syntax Error] Msg: ERR202 - Undefined symbol: 'f_2' Expression: 1.1 + 0.7*((f_1 + f_2) > 0.3)
Ending init-mutant tests Tue Apr 16 06:34:11 2024
Took 21.55
Starting interventions tests Tue Apr 16 06:34:11 2024
[1] "Checking intervention: intOverA"
[1] "Checking intervention: intOverA"
[1] "Checking intervention: intOverA"
[1] "Checking intervention: intOverA"
[1] "Checking intervention: intOverMultiplicatesA"
In intervention:intOverMultiplicatesA with WhatHappens: n_1 = n_1 * 2. You cannot intervene to generate more population.[1] "Checking intervention: intOverA"
[1] "Checking intervention: intOverA"
[1] "Checking intervention: intOverTotPop"
[1] 0.6 0.6 0.6
[1] "Checking intervention: intOverTotPop"
[1] "Checking intervention: intOverA"
[1] "Checking intervention: intOverB"
[1] "Checking intervention: intOverC"
[1] "Checking intervention: intOverD"
Init Mutant with birth == 1.0
Init Mutant with birth == 1.0
[1] "Checking intervention: intOverA"
[1] "Checking intervention: intOverB"
[1] "Checking intervention: intOverC"
[1] "Checking intervention: intOverD"
Init Mutant with birth == 1.0
Init Mutant with birth == 1.0
[1] "Checking user variable: user_var_1"
[1] "Checking rule: rule_1"
[1] "Checking rule: rule_2"
[1] "Checking rule: rule_3"
[1] "Checking intervention: intOverTotPop"
[1] "Checking intervention: intOverTotPop2"
[1] "Checking intervention: intOverTotPop3"
[1] "Checking user variable: user_var_1"
[1] "Checking rule: rule_1"
[1] "Checking rule: rule_2"
[1] "Checking rule: rule_3"
[1] "Checking intervention: intOverTotPop"
Ending interventions tests Tue Apr 16 06:34:19 2024
Took 8.87
Starting test.magellan at Tue Apr 16 06:34:19 2024
Ending test.magellan at Tue Apr 16 06:34:20 2024
Took 0.34
Starting test.modules-root-no-root at Tue Apr 16 06:34:20 2024
Ending test.modules-root-no-root at Tue Apr 16 06:34:20 2024
Took 0.17
Starting at mutPropGrowth Tue Apr 16 06:34:20 2024
Ended test.mutPropGrowth: Tue Apr 16 06:34:44 2024
Took 24.2
Starting test.mutator-oncoSimulSample.R test at Tue Apr 16 06:34:44 2024
Finished test.mutator-oncoSimulSample.R test at Tue Apr 16 06:35:05 2024
Took 21.08 seconds
Starting test.mutator.R test at Tue Apr 16 06:35:05 2024[1] 1.761094e-06
[1] 5.889816e-14
Finished test.mutator.R test at Tue Apr 16 06:35:47 2024
Took 42.06
Starting test.mutatorFDF.R test at Tue Apr 16 06:35:48 2024
Starting test.no-v1 at Tue Apr 16 06:35:49 2024
Ending test.no-v1 at Tue Apr 16 06:35:49 2024
Took 0.02
Starting oncoSimulIndiv-miscell tests Tue Apr 16 06:35:49 2024
Ending oncoSimulIndiv-miscell tests Tue Apr 16 06:36:28 2024
Took 38.91
Starting oncoSimulSample-failures tests Tue Apr 16 06:36:28 2024
Ending oncoSimulSample-failures tests Tue Apr 16 06:36:33 2024
Took 4.19
Starting oncoSimulSample-limits tests Tue Apr 16 06:36:33 2024
Ending oncoSimulSample-limits tests Tue Apr 16 06:36:33 2024
Took 0.16
Starting per-gene-mutation rates at Tue Apr 16 06:36:33 2024
Ending per-gene-mutation rates at Tue Apr 16 06:38:01 2024
Took 87.78
Starting plotFitnessLandscape at Tue Apr 16 06:38:01 2024
Ending plotFitnessLandscape at Tue Apr 16 06:38:08 2024
Took 7.57
Starting poset-transformations tests Tue Apr 16 06:38:08 2024
Ending poset-transformations tests Tue Apr 16 06:38:33 2024
Took 24.55
Starting sample-prob Tue Apr 16 06:38:33 2024
[1] 6.564531e-30
[1] 2.725417e-12
[1] 2.886999e-09
[1] 3.202143e-11
[1] 1.736647e-14
[1] 5.572616e-15
[1] 3.422969e-12
[1] 3.08906e-15
[1] 1.132217e-08
[1] 1.965014e-09
[1] 2.35277e-07
[1] 6.650057e-09
Ending sample-prob tests Tue Apr 16 06:39:14 2024
Took 40.85
Starting samplePop tests Tue Apr 16 06:39:14 2024
Ending samplePop tests Tue Apr 16 06:40:17 2024
Took 63.18
Starting simuls-runs-examples tests Tue Apr 16 06:40:17 2024
Ending simuls-runs-examples tests Tue Apr 16 06:41:15 2024
Took 58.27
Starting user variable tests Tue Apr 16 06:41:15 2024
[1] "Checking user variable: user_var_1"
[1] "Checking rule: rule_1"
Ending user variable tests Tue Apr 16 06:41:15 2024
Took 0.19
Starting warning-mutPropGrowth tests Tue Apr 16 06:41:15 2024
Ending warning-mutPropGrowth tests Tue Apr 16 06:41:19 2024
Took 3.57
Starting wide2long tests Tue Apr 16 06:41:19 2024
Ending wide2long tests Tue Apr 16 06:41:20 2024
Took 0.98
[ FAIL 0 | WARN 18 | SKIP 7 | PASS 8397 ]
══ Skipped tests (7) ═══════════════════════════════════════════════════════════
• On Mac (2): 'test.Z-magellan.R:664:5', 'test.Z-oncoSimulIndivFDF.R:125:3'
• empty test (5): 'test.FDF-letter-fitness-order.R:376:1',
'test.ZZ-dummy-skip-warn-test.R:8:1', 'test.ZZ-dummy-skip-warn-test.R:12:1',
'test.fixation.R:4:1', 'test.init-mutant.R:1097:1'
[ FAIL 0 | WARN 18 | SKIP 7 | PASS 8397 ]
>
> proc.time()
user system elapsed
684.826 140.322 716.846
OncoSimulR.Rcheck/OncoSimulR-Ex.timings
| name | user | system | elapsed | |
| OncoSimulWide2Long | 1.011 | 0.217 | 1.237 | |
| POM | 2.068 | 0.197 | 1.316 | |
| allFitnessEffects | 3.602 | 0.127 | 3.815 | |
| benchmarks | 0.019 | 0.011 | 0.030 | |
| createInterventions | 0.508 | 0.017 | 0.527 | |
| createUserVars | 0.773 | 0.034 | 0.811 | |
| evalAllGenotypes | 0.448 | 0.034 | 0.486 | |
| example-missing-drivers | 0.478 | 0.030 | 0.516 | |
| examplePosets | 0.616 | 0.012 | 0.633 | |
| examplesFitnessEffects | 0.090 | 0.006 | 0.098 | |
| freq-dep-simul-examples | 0.018 | 0.005 | 0.022 | |
| mcfLs | 0.000 | 0.001 | 0.001 | |
| oncoSimulIndiv | 2.947 | 0.607 | 3.357 | |
| plot.fitnessEffects | 0.465 | 0.050 | 0.520 | |
| plot.oncosimul | 1.448 | 0.204 | 1.669 | |
| plotClonePhylog | 4.809 | 0.313 | 5.228 | |
| plotFitnessLandscape | 2.365 | 0.020 | 2.402 | |
| plotPoset | 0.200 | 0.010 | 0.211 | |
| poset | 0.238 | 0.009 | 0.290 | |
| rfitness | 1.218 | 0.016 | 1.310 | |
| samplePop | 0.124 | 0.099 | 0.183 | |
| simOGraph | 0.131 | 0.034 | 0.167 | |
| to_Magellan | 0.384 | 0.106 | 0.571 | |
| vignette_pre_computed | 0.013 | 0.005 | 0.018 | |