| Back to Multiple platform build/check report for BioC 3.18: simplified long |
|
This page was generated on 2024-03-06 11:33:17 -0500 (Wed, 06 Mar 2024).
| Hostname | OS | Arch (*) | R version | Installed pkgs |
|---|---|---|---|---|
| nebbiolo2 | Linux (Ubuntu 22.04.3 LTS) | x86_64 | 4.3.2 Patched (2023-11-13 r85521) -- "Eye Holes" | 4692 |
| palomino4 | Windows Server 2022 Datacenter | x64 | 4.3.2 (2023-10-31 ucrt) -- "Eye Holes" | 4445 |
| Click on any hostname to see more info about the system (e.g. compilers) (*) as reported by 'uname -p', except on Windows and Mac OS X | ||||
| Package 1452/2266 | Hostname | OS / Arch | INSTALL | BUILD | CHECK | BUILD BIN | ||||||||
| OmnipathR 3.10.1 (landing page) Denes Turei
| nebbiolo2 | Linux (Ubuntu 22.04.3 LTS) / x86_64 | OK | OK | OK | |||||||||
| palomino4 | Windows Server 2022 Datacenter / x64 | OK | OK | OK | OK | |||||||||
| kjohnson1 | macOS 13.6.1 Ventura / arm64 | see weekly results here | ||||||||||||
|
To the developers/maintainers of the OmnipathR package: - Allow up to 24 hours (and sometimes 48 hours) for your latest push to git@git.bioconductor.org:packages/OmnipathR.git to reflect on this report. See Troubleshooting Build Report for more information. - Use the following Renviron settings to reproduce errors and warnings. - If 'R CMD check' started to fail recently on the Linux builder(s) over a missing dependency, add the missing dependency to 'Suggests:' in your DESCRIPTION file. See Renviron.bioc for more information. |
| Package: OmnipathR |
| Version: 3.10.1 |
| Command: /home/biocbuild/bbs-3.18-bioc/R/bin/R CMD check --install=check:OmnipathR.install-out.txt --library=/home/biocbuild/bbs-3.18-bioc/R/site-library --timings OmnipathR_3.10.1.tar.gz |
| StartedAt: 2024-03-06 00:43:55 -0500 (Wed, 06 Mar 2024) |
| EndedAt: 2024-03-06 01:13:32 -0500 (Wed, 06 Mar 2024) |
| EllapsedTime: 1776.4 seconds |
| RetCode: 0 |
| Status: OK |
| CheckDir: OmnipathR.Rcheck |
| Warnings: 0 |
##############################################################################
##############################################################################
###
### Running command:
###
### /home/biocbuild/bbs-3.18-bioc/R/bin/R CMD check --install=check:OmnipathR.install-out.txt --library=/home/biocbuild/bbs-3.18-bioc/R/site-library --timings OmnipathR_3.10.1.tar.gz
###
##############################################################################
##############################################################################
* using log directory ‘/home/biocbuild/bbs-3.18-bioc/meat/OmnipathR.Rcheck’
* using R version 4.3.2 Patched (2023-11-13 r85521)
* using platform: x86_64-pc-linux-gnu (64-bit)
* R was compiled by
gcc (Ubuntu 11.4.0-1ubuntu1~22.04) 11.4.0
GNU Fortran (Ubuntu 11.4.0-1ubuntu1~22.04) 11.4.0
* running under: Ubuntu 22.04.4 LTS
* using session charset: UTF-8
* checking for file ‘OmnipathR/DESCRIPTION’ ... OK
* checking extension type ... Package
* this is package ‘OmnipathR’ version ‘3.10.1’
* package encoding: UTF-8
* checking package namespace information ... OK
* checking package dependencies ... OK
* checking if this is a source package ... OK
* checking if there is a namespace ... OK
* checking for hidden files and directories ... OK
* checking for portable file names ... OK
* checking for sufficient/correct file permissions ... OK
* checking whether package ‘OmnipathR’ can be installed ... OK
* checking installed package size ... OK
* checking package directory ... OK
* checking DESCRIPTION meta-information ... OK
* checking top-level files ... OK
* checking for left-over files ... OK
* checking index information ... OK
* checking package subdirectories ... OK
* checking R files for non-ASCII characters ... OK
* checking R files for syntax errors ... OK
* checking whether the package can be loaded ... OK
* checking whether the package can be loaded with stated dependencies ... OK
* checking whether the package can be unloaded cleanly ... OK
* checking whether the namespace can be loaded with stated dependencies ... OK
* checking whether the namespace can be unloaded cleanly ... OK
* checking loading without being on the library search path ... OK
* checking startup messages can be suppressed ... NOTE
[2024-03-06 00:44:15] [TRACE] [OmnipathR] Reading JSON from `/home/biocbuild/.cache/OmnipathR/cache.json` (encoding: UTF-8).
[2024-03-06 00:44:15] [TRACE] [OmnipathR] JSON validation successful: TRUE
[2024-03-06 00:44:15] [INFO] [OmnipathR] Initialized cache: `/home/biocbuild/.cache/OmnipathR`.
[2024-03-06 00:44:15] [TRACE] [OmnipathR] Running on a build server, wiping cache.
[2024-03-06 00:44:15] [TRACE] [OmnipathR] Cache is at `/home/biocbuild/.cache/OmnipathR`.
[2024-03-06 00:44:15] [TRACE] [OmnipathR] Contains 1 files.
[2024-03-06 00:44:15] [TRACE] [OmnipathR] Cache is locked: FALSE.
[2024-03-06 00:44:15] [TRACE] [OmnipathR] Reading JSON from `/home/biocbuild/.cache/OmnipathR/cache.json` (encoding: UTF-8).
[2024-03-06 00:44:15] [TRACE] [OmnipathR] JSON validation successful: TRUE
[2024-03-06 00:44:15] [SUCCESS] [OmnipathR] Removing all cache contents from `/home/biocbuild/.cache/OmnipathR`.
[2024-03-06 00:44:15] [TRACE] [OmnipathR] Pandoc version: `2.7.3`.
[2024-03-06 00:44:15] [TRACE] [OmnipathR] Reading JSON from `/home/biocbuild/bbs-3.18-bioc/R/site-library/OmnipathR/db/db_def.json` (encoding: UTF-8).
[2024-03-06 00:44:15] [TRACE] [OmnipathR] JSON validation successful: TRUE
[2024-03-06 00:44:15] [TRACE] [OmnipathR] Reading JSON from `/home/biocbuild/bbs-3.18-bioc/R/site-library/OmnipathR/internal/magic_bytes.json` (encoding: UTF-8).
[2024-03-06 00:44:15] [TRACE] [OmnipathR] JSON validation successful: TRUE
[2024-03-06 00:44:15] [TRACE] [OmnipathR] Reading JSON from `/home/biocbuild/bbs-3.18-bioc/R/site-library/OmnipathR/internal/urls.json` (encoding: UTF-8).
[2024-03-06 00:44:15] [TRACE] [OmnipathR] JSON validation successful: TRUE
[2024-03-06 00:44:15] [TRACE] [OmnipathR] Reading JSON from `/home/biocbuild/bbs-3.18-bioc/R/site-library/OmnipathR/internal/id_types.json` (encoding: UTF-8).
[2024-03-06 00:44:15] [TRACE] [OmnipathR] JSON validation successful: TRUE
[2024-03-06 00:44:15] [TRACE] [OmnipathR] Cache locked: FALSE
It looks like this package (or a package it requires) has a startup
message which cannot be suppressed: see ?packageStartupMessage.
* checking dependencies in R code ... OK
* checking S3 generic/method consistency ... OK
* checking replacement functions ... OK
* checking foreign function calls ... OK
* checking R code for possible problems ... NOTE
[2024-03-06 00:44:25] [TRACE] [OmnipathR] Reading JSON from `/home/biocbuild/.cache/OmnipathR/cache.json` (encoding: UTF-8).
[2024-03-06 00:44:25] [TRACE] [OmnipathR] JSON validation successful: TRUE
[2024-03-06 00:44:25] [INFO] [OmnipathR] Initialized cache: `/home/biocbuild/.cache/OmnipathR`.
[2024-03-06 00:44:25] [TRACE] [OmnipathR] Running on a build server, wiping cache.
[2024-03-06 00:44:25] [TRACE] [OmnipathR] Cache is at `/home/biocbuild/.cache/OmnipathR`.
[2024-03-06 00:44:25] [TRACE] [OmnipathR] Contains 1 files.
[2024-03-06 00:44:25] [TRACE] [OmnipathR] Cache is locked: FALSE.
[2024-03-06 00:44:25] [TRACE] [OmnipathR] Reading JSON from `/home/biocbuild/.cache/OmnipathR/cache.json` (encoding: UTF-8).
[2024-03-06 00:44:25] [TRACE] [OmnipathR] JSON validation successful: TRUE
[2024-03-06 00:44:25] [SUCCESS] [OmnipathR] Removing all cache contents from `/home/biocbuild/.cache/OmnipathR`.
[2024-03-06 00:44:25] [TRACE] [OmnipathR] Pandoc version: `2.7.3`.
[2024-03-06 00:44:25] [TRACE] [OmnipathR] Reading JSON from `/home/biocbuild/bbs-3.18-bioc/R/site-library/OmnipathR/db/db_def.json` (encoding: UTF-8).
[2024-03-06 00:44:25] [TRACE] [OmnipathR] JSON validation successful: TRUE
[2024-03-06 00:44:25] [TRACE] [OmnipathR] Reading JSON from `/home/biocbuild/bbs-3.18-bioc/R/site-library/OmnipathR/internal/magic_bytes.json` (encoding: UTF-8).
[2024-03-06 00:44:25] [TRACE] [OmnipathR] JSON validation successful: TRUE
[2024-03-06 00:44:25] [TRACE] [OmnipathR] Reading JSON from `/home/biocbuild/bbs-3.18-bioc/R/site-library/OmnipathR/internal/urls.json` (encoding: UTF-8).
[2024-03-06 00:44:25] [TRACE] [OmnipathR] JSON validation successful: TRUE
[2024-03-06 00:44:25] [TRACE] [OmnipathR] Reading JSON from `/home/biocbuild/bbs-3.18-bioc/R/site-library/OmnipathR/internal/id_types.json` (encoding: UTF-8).
[2024-03-06 00:44:25] [TRACE] [OmnipathR] JSON validation successful: TRUE
[2024-03-06 00:44:25] [TRACE] [OmnipathR] Cache locked: FALSE
* checking Rd files ... OK
* checking Rd metadata ... OK
* checking Rd cross-references ... OK
* checking for missing documentation entries ... OK
* checking for code/documentation mismatches ... OK
* checking Rd \usage sections ... OK
* checking Rd contents ... OK
* checking for unstated dependencies in examples ... OK
* checking R/sysdata.rda ... OK
* checking files in ‘vignettes’ ... OK
* checking examples ... OK
Examples with CPU (user + system) or elapsed time > 5s
user system elapsed
collectri 113.298 1.656 119.103
dorothea 68.430 1.356 75.753
annotation_categories 64.911 0.076 66.580
curated_ligrec_stats 43.734 3.923 135.598
filter_extra_attrs 28.527 0.884 33.598
nichenet_signaling_network_omnipath 27.109 0.425 47.532
nichenet_gr_network_omnipath 19.825 0.423 25.728
go_annot_download 17.982 0.821 33.470
pivot_annotations 16.718 0.584 41.189
with_extra_attrs 15.756 0.472 33.352
extra_attrs_to_cols 16.057 0.170 16.619
giant_component 11.825 0.336 18.606
extra_attr_values 11.026 0.085 15.035
static_table 9.440 0.795 78.362
pubmed_open 8.963 0.727 12.377
curated_ligand_receptor_interactions 8.319 0.829 25.386
filter_intercell 8.799 0.335 14.393
print_interactions 8.393 0.354 24.654
has_extra_attrs 7.853 0.199 8.058
get_signed_ptms 7.639 0.248 9.613
filter_by_resource 5.752 0.162 7.840
extra_attrs 5.409 0.038 5.446
import_transcriptional_interactions 4.885 0.376 9.593
print_path_vs 4.118 0.132 12.783
hpo_download 3.108 0.349 6.617
enzsub_graph 3.264 0.050 6.901
import_all_interactions 2.892 0.211 8.945
import_tf_target_interactions 2.794 0.214 6.591
database_summary 2.295 0.132 5.076
import_kinaseextra_interactions 2.282 0.113 7.196
annotated_network 1.808 0.261 8.047
import_post_translational_interactions 1.484 0.116 6.176
import_pathwayextra_interactions 1.428 0.148 6.644
ensembl_id_mapping_table 1.230 0.045 34.431
kegg_picture 0.237 0.015 5.003
* checking for unstated dependencies in ‘tests’ ... OK
* checking tests ...
Running ‘testthat.R’
OK
* checking for unstated dependencies in vignettes ... OK
* checking package vignettes in ‘inst/doc’ ... OK
* checking running R code from vignettes ...
‘bioc_workshop.Rmd’ using ‘UTF-8’... OK
‘db_manager.Rmd’ using ‘UTF-8’... OK
‘drug_targets.Rmd’ using ‘UTF-8’... OK
‘extra_attrs.Rmd’ using ‘UTF-8’... OK
‘nichenet.Rmd’ using ‘UTF-8’... OK
‘omnipath_intro.Rmd’ using ‘UTF-8’... OK
‘paths.Rmd’ using ‘UTF-8’... OK
NONE
* checking re-building of vignette outputs ... OK
* checking PDF version of manual ... OK
* DONE
Status: 2 NOTEs
See
‘/home/biocbuild/bbs-3.18-bioc/meat/OmnipathR.Rcheck/00check.log’
for details.
OmnipathR.Rcheck/00install.out
############################################################################## ############################################################################## ### ### Running command: ### ### /home/biocbuild/bbs-3.18-bioc/R/bin/R CMD INSTALL OmnipathR ### ############################################################################## ############################################################################## * installing to library ‘/home/biocbuild/bbs-3.18-bioc/R/site-library’ * installing *source* package ‘OmnipathR’ ... ** using staged installation ** R ** inst ** byte-compile and prepare package for lazy loading ** help *** installing help indices *** copying figures ** building package indices ** installing vignettes ** testing if installed package can be loaded from temporary location [2024-03-05 15:33:05] [TRACE] [OmnipathR] Reading JSON from `/home/biocbuild/.cache/OmnipathR/cache.json` (encoding: UTF-8). [2024-03-05 15:33:05] [TRACE] [OmnipathR] JSON validation successful: TRUE [2024-03-05 15:33:05] [INFO] [OmnipathR] Initialized cache: `/home/biocbuild/.cache/OmnipathR`. [2024-03-05 15:33:05] [TRACE] [OmnipathR] Running on a build server, wiping cache. [2024-03-05 15:33:05] [TRACE] [OmnipathR] Cache is at `/home/biocbuild/.cache/OmnipathR`. [2024-03-05 15:33:05] [TRACE] [OmnipathR] Contains 6 files. [2024-03-05 15:33:05] [TRACE] [OmnipathR] Cache is locked: FALSE. [2024-03-05 15:33:05] [TRACE] [OmnipathR] Reading JSON from `/home/biocbuild/.cache/OmnipathR/cache.json` (encoding: UTF-8). [2024-03-05 15:33:05] [TRACE] [OmnipathR] JSON validation successful: TRUE [2024-03-05 15:33:05] [SUCCESS] [OmnipathR] Removing all cache contents from `/home/biocbuild/.cache/OmnipathR`. [2024-03-05 15:33:05] [TRACE] [OmnipathR] Pandoc version: `2.7.3`. [2024-03-05 15:33:05] [TRACE] [OmnipathR] Reading JSON from `/home/biocbuild/bbs-3.18-bioc/R/site-library/00LOCK-OmnipathR/00new/OmnipathR/db/db_def.json` (encoding: UTF-8). [2024-03-05 15:33:05] [TRACE] [OmnipathR] JSON validation successful: TRUE [2024-03-05 15:33:05] [TRACE] [OmnipathR] Reading JSON from `/home/biocbuild/bbs-3.18-bioc/R/site-library/00LOCK-OmnipathR/00new/OmnipathR/internal/magic_bytes.json` (encoding: UTF-8). [2024-03-05 15:33:05] [TRACE] [OmnipathR] JSON validation successful: TRUE [2024-03-05 15:33:05] [TRACE] [OmnipathR] Reading JSON from `/home/biocbuild/bbs-3.18-bioc/R/site-library/00LOCK-OmnipathR/00new/OmnipathR/internal/urls.json` (encoding: UTF-8). [2024-03-05 15:33:05] [TRACE] [OmnipathR] JSON validation successful: TRUE [2024-03-05 15:33:05] [TRACE] [OmnipathR] Reading JSON from `/home/biocbuild/bbs-3.18-bioc/R/site-library/00LOCK-OmnipathR/00new/OmnipathR/internal/id_types.json` (encoding: UTF-8). [2024-03-05 15:33:05] [TRACE] [OmnipathR] JSON validation successful: TRUE [2024-03-05 15:33:05] [TRACE] [OmnipathR] Cache locked: FALSE ** testing if installed package can be loaded from final location [2024-03-05 15:33:07] [TRACE] [OmnipathR] Reading JSON from `/home/biocbuild/.cache/OmnipathR/cache.json` (encoding: UTF-8). [2024-03-05 15:33:07] [TRACE] [OmnipathR] JSON validation successful: TRUE [2024-03-05 15:33:07] [INFO] [OmnipathR] Initialized cache: `/home/biocbuild/.cache/OmnipathR`. [2024-03-05 15:33:07] [TRACE] [OmnipathR] Running on a build server, wiping cache. [2024-03-05 15:33:07] [TRACE] [OmnipathR] Cache is at `/home/biocbuild/.cache/OmnipathR`. [2024-03-05 15:33:07] [TRACE] [OmnipathR] Contains 1 files. [2024-03-05 15:33:07] [TRACE] [OmnipathR] Cache is locked: FALSE. [2024-03-05 15:33:07] [TRACE] [OmnipathR] Reading JSON from `/home/biocbuild/.cache/OmnipathR/cache.json` (encoding: UTF-8). [2024-03-05 15:33:07] [TRACE] [OmnipathR] JSON validation successful: TRUE [2024-03-05 15:33:07] [SUCCESS] [OmnipathR] Removing all cache contents from `/home/biocbuild/.cache/OmnipathR`. [2024-03-05 15:33:07] [TRACE] [OmnipathR] Pandoc version: `2.7.3`. [2024-03-05 15:33:07] [TRACE] [OmnipathR] Reading JSON from `/home/biocbuild/bbs-3.18-bioc/R/site-library/OmnipathR/db/db_def.json` (encoding: UTF-8). [2024-03-05 15:33:07] [TRACE] [OmnipathR] JSON validation successful: TRUE [2024-03-05 15:33:07] [TRACE] [OmnipathR] Reading JSON from `/home/biocbuild/bbs-3.18-bioc/R/site-library/OmnipathR/internal/magic_bytes.json` (encoding: UTF-8). [2024-03-05 15:33:07] [TRACE] [OmnipathR] JSON validation successful: TRUE [2024-03-05 15:33:07] [TRACE] [OmnipathR] Reading JSON from `/home/biocbuild/bbs-3.18-bioc/R/site-library/OmnipathR/internal/urls.json` (encoding: UTF-8). [2024-03-05 15:33:07] [TRACE] [OmnipathR] JSON validation successful: TRUE [2024-03-05 15:33:07] [TRACE] [OmnipathR] Reading JSON from `/home/biocbuild/bbs-3.18-bioc/R/site-library/OmnipathR/internal/id_types.json` (encoding: UTF-8). [2024-03-05 15:33:07] [TRACE] [OmnipathR] JSON validation successful: TRUE [2024-03-05 15:33:07] [TRACE] [OmnipathR] Cache locked: FALSE ** testing if installed package keeps a record of temporary installation path * DONE (OmnipathR)
OmnipathR.Rcheck/tests/testthat.Rout
R version 4.3.2 Patched (2023-11-13 r85521) -- "Eye Holes"
Copyright (C) 2023 The R Foundation for Statistical Computing
Platform: x86_64-pc-linux-gnu (64-bit)
R is free software and comes with ABSOLUTELY NO WARRANTY.
You are welcome to redistribute it under certain conditions.
Type 'license()' or 'licence()' for distribution details.
R is a collaborative project with many contributors.
Type 'contributors()' for more information and
'citation()' on how to cite R or R packages in publications.
Type 'demo()' for some demos, 'help()' for on-line help, or
'help.start()' for an HTML browser interface to help.
Type 'q()' to quit R.
> #!/usr/bin/env Rscript
>
> #
> # This file is part of the `OmnipathR` R package
> #
> # Copyright
> # 2018-2023
> # Saez Lab, Uniklinik RWTH Aachen, Heidelberg University
> #
> # File author(s): Alberto Valdeolivas
> # Dénes Türei (turei.denes@gmail.com)
> # Attila Gábor
> #
> # Distributed under the MIT (Expat) License.
> # See accompanying file `LICENSE` or find a copy at
> # https://directory.fsf.org/wiki/License:Expat
> #
> # Website: https://r.omnipathdb.org/
> # Git repo: https://github.com/saezlab/OmnipathR
> #
>
>
> library(testthat)
> library(OmnipathR)
[2024-03-06 01:02:48] [TRACE] [OmnipathR] Reading JSON from `/home/biocbuild/.cache/OmnipathR/cache.json` (encoding: UTF-8).
[2024-03-06 01:02:48] [TRACE] [OmnipathR] JSON validation successful: TRUE
[2024-03-06 01:02:48] [INFO] [OmnipathR] Initialized cache: `/home/biocbuild/.cache/OmnipathR`.
[2024-03-06 01:02:48] [TRACE] [OmnipathR] Running on a build server, wiping cache.
[2024-03-06 01:02:48] [TRACE] [OmnipathR] Cache is at `/home/biocbuild/.cache/OmnipathR`.
[2024-03-06 01:02:48] [TRACE] [OmnipathR] Contains 17 files.
[2024-03-06 01:02:48] [TRACE] [OmnipathR] Cache is locked: FALSE.
[2024-03-06 01:02:48] [TRACE] [OmnipathR] Reading JSON from `/home/biocbuild/.cache/OmnipathR/cache.json` (encoding: UTF-8).
[2024-03-06 01:02:48] [TRACE] [OmnipathR] JSON validation successful: TRUE
[2024-03-06 01:02:48] [SUCCESS] [OmnipathR] Removing all cache contents from `/home/biocbuild/.cache/OmnipathR`.
[2024-03-06 01:02:48] [TRACE] [OmnipathR] Pandoc version: `2.7.3`.
[2024-03-06 01:02:48] [TRACE] [OmnipathR] Reading JSON from `/home/biocbuild/bbs-3.18-bioc/R/site-library/OmnipathR/db/db_def.json` (encoding: UTF-8).
[2024-03-06 01:02:48] [TRACE] [OmnipathR] JSON validation successful: TRUE
[2024-03-06 01:02:48] [TRACE] [OmnipathR] Reading JSON from `/home/biocbuild/bbs-3.18-bioc/R/site-library/OmnipathR/internal/magic_bytes.json` (encoding: UTF-8).
[2024-03-06 01:02:48] [TRACE] [OmnipathR] JSON validation successful: TRUE
[2024-03-06 01:02:48] [TRACE] [OmnipathR] Reading JSON from `/home/biocbuild/bbs-3.18-bioc/R/site-library/OmnipathR/internal/urls.json` (encoding: UTF-8).
[2024-03-06 01:02:48] [TRACE] [OmnipathR] JSON validation successful: TRUE
[2024-03-06 01:02:48] [TRACE] [OmnipathR] Reading JSON from `/home/biocbuild/bbs-3.18-bioc/R/site-library/OmnipathR/internal/id_types.json` (encoding: UTF-8).
[2024-03-06 01:02:48] [TRACE] [OmnipathR] JSON validation successful: TRUE
[2024-03-06 01:02:48] [TRACE] [OmnipathR] Cache locked: FALSE
>
> test_check('OmnipathR')
[ FAIL 0 | WARN 1 | SKIP 0 | PASS 34 ]
[ FAIL 0 | WARN 1 | SKIP 0 | PASS 34 ]
>
> proc.time()
user system elapsed
19.353 1.517 57.443
OmnipathR.Rcheck/OmnipathR-Ex.timings
| name | user | system | elapsed | |
| OmnipathR | 0.000 | 0.000 | 0.001 | |
| all_uniprot_acs | 0.02 | 0.00 | 0.02 | |
| all_uniprots | 0.011 | 0.000 | 0.010 | |
| ancestors | 0.010 | 0.000 | 0.009 | |
| annotated_network | 1.808 | 0.261 | 8.047 | |
| annotation_categories | 64.911 | 0.076 | 66.580 | |
| biomart_query | 0.619 | 0.041 | 3.921 | |
| bioplex1 | 0.011 | 0.000 | 0.011 | |
| bioplex2 | 0.01 | 0.00 | 0.01 | |
| bioplex3 | 0.01 | 0.00 | 0.01 | |
| bioplex_all | 0.037 | 0.000 | 0.037 | |
| bioplex_hct116_1 | 0.011 | 0.000 | 0.012 | |
| bma_motif_es | 0.401 | 0.023 | 1.469 | |
| bma_motif_vs | 0.187 | 0.004 | 0.950 | |
| collectri | 113.298 | 1.656 | 119.103 | |
| common_name | 0.018 | 0.000 | 0.019 | |
| consensuspathdb_download | 0.000 | 0.000 | 0.001 | |
| consensuspathdb_raw_table | 0.01 | 0.00 | 0.01 | |
| curated_ligand_receptor_interactions | 8.319 | 0.829 | 25.386 | |
| curated_ligrec_stats | 43.734 | 3.923 | 135.598 | |
| database_summary | 2.295 | 0.132 | 5.076 | |
| descendants | 0.027 | 0.000 | 0.027 | |
| dorothea | 68.430 | 1.356 | 75.753 | |
| ensembl_dataset | 0.015 | 0.000 | 0.014 | |
| ensembl_id_mapping_table | 1.230 | 0.045 | 34.431 | |
| ensembl_id_type | 0.005 | 0.000 | 0.004 | |
| ensembl_name | 0.095 | 0.000 | 0.095 | |
| ensembl_organisms | 0.263 | 0.000 | 0.342 | |
| ensembl_organisms_raw | 0.256 | 0.000 | 0.275 | |
| ensembl_orthology | 0 | 0 | 0 | |
| enzsub_graph | 3.264 | 0.050 | 6.901 | |
| evex_download | 0.026 | 0.004 | 0.030 | |
| evidences | 0.001 | 0.000 | 0.000 | |
| extra_attr_values | 11.026 | 0.085 | 15.035 | |
| extra_attrs | 5.409 | 0.038 | 5.446 | |
| extra_attrs_to_cols | 16.057 | 0.170 | 16.619 | |
| filter_by_resource | 5.752 | 0.162 | 7.840 | |
| filter_extra_attrs | 28.527 | 0.884 | 33.598 | |
| filter_intercell | 8.799 | 0.335 | 14.393 | |
| filter_intercell_network | 0.032 | 0.000 | 0.032 | |
| find_all_paths | 4.420 | 0.006 | 4.548 | |
| from_evidences | 0 | 0 | 0 | |
| get_annotation_resources | 0.138 | 0.000 | 0.819 | |
| get_complex_genes | 2.311 | 0.210 | 4.379 | |
| get_complex_resources | 0.190 | 0.012 | 0.957 | |
| get_db | 0.000 | 0.000 | 0.001 | |
| get_enzsub_resources | 0.217 | 0.004 | 0.978 | |
| get_interaction_resources | 0.220 | 0.008 | 1.223 | |
| get_intercell_categories | 0.641 | 0.045 | 1.191 | |
| get_intercell_generic_categories | 0.094 | 0.016 | 0.173 | |
| get_intercell_resources | 0.193 | 0.004 | 0.992 | |
| get_ontology_db | 0.026 | 0.000 | 0.057 | |
| get_resources | 0.199 | 0.016 | 1.024 | |
| get_signed_ptms | 7.639 | 0.248 | 9.613 | |
| giant_component | 11.825 | 0.336 | 18.606 | |
| go_annot_download | 17.982 | 0.821 | 33.470 | |
| go_annot_slim | 0.000 | 0.000 | 0.001 | |
| go_ontology_download | 0.023 | 0.000 | 0.024 | |
| guide2pharma_download | 0.021 | 0.000 | 0.021 | |
| harmonizome_download | 0.021 | 0.000 | 0.020 | |
| has_extra_attrs | 7.853 | 0.199 | 8.058 | |
| homologene_download | 0.01 | 0.00 | 0.01 | |
| homologene_raw | 0.014 | 0.004 | 0.018 | |
| homologene_uniprot_orthology | 0.007 | 0.004 | 0.011 | |
| hpo_download | 3.108 | 0.349 | 6.617 | |
| htridb_download | 0.029 | 0.000 | 0.062 | |
| import_all_interactions | 2.892 | 0.211 | 8.945 | |
| import_intercell_network | 0.019 | 0.004 | 0.039 | |
| import_kinaseextra_interactions | 2.282 | 0.113 | 7.196 | |
| import_ligrecextra_interactions | 1.374 | 0.099 | 3.737 | |
| import_lncrna_mrna_interactions | 1.070 | 0.063 | 3.147 | |
| import_mirnatarget_interactions | 1.897 | 0.104 | 4.896 | |
| import_omnipath_annotations | 0.940 | 0.093 | 2.563 | |
| import_omnipath_complexes | 1.061 | 0.151 | 3.374 | |
| import_omnipath_enzsub | 1.609 | 0.129 | 2.500 | |
| import_omnipath_interactions | 0.499 | 0.024 | 1.499 | |
| import_omnipath_intercell | 0.935 | 0.127 | 3.365 | |
| import_pathwayextra_interactions | 1.428 | 0.148 | 6.644 | |
| import_post_translational_interactions | 1.484 | 0.116 | 6.176 | |
| import_small_molecule_protein_interactions | 0.828 | 0.048 | 2.777 | |
| import_tf_mirna_interactions | 1.271 | 0.108 | 4.683 | |
| import_tf_target_interactions | 2.794 | 0.214 | 6.591 | |
| import_transcriptional_interactions | 4.885 | 0.376 | 9.593 | |
| inbiomap_download | 0 | 0 | 0 | |
| inbiomap_raw | 0 | 0 | 0 | |
| interaction_datasets | 1.046 | 0.054 | 1.459 | |
| interaction_graph | 0.770 | 0.040 | 1.494 | |
| interaction_types | 0.119 | 0.000 | 0.119 | |
| intercell_categories | 0.141 | 0.004 | 0.145 | |
| intercell_consensus_filter | 1.583 | 0.149 | 3.589 | |
| is_ontology_id | 0.001 | 0.000 | 0.000 | |
| is_swissprot | 0.086 | 0.000 | 0.086 | |
| is_trembl | 0.077 | 0.000 | 0.077 | |
| is_uniprot | 0.035 | 0.000 | 0.035 | |
| kegg_info | 0.031 | 0.000 | 0.031 | |
| kegg_open | 0.022 | 0.008 | 0.030 | |
| kegg_pathway_annotations | 0 | 0 | 0 | |
| kegg_pathway_download | 0.024 | 0.008 | 0.032 | |
| kegg_pathway_list | 0.029 | 0.000 | 0.029 | |
| kegg_pathways_download | 0.001 | 0.000 | 0.001 | |
| kegg_picture | 0.237 | 0.015 | 5.003 | |
| kegg_process | 0.049 | 0.004 | 0.101 | |
| latin_name | 0.098 | 0.000 | 0.147 | |
| load_db | 0.145 | 0.008 | 0.153 | |
| ncbi_taxid | 0.082 | 0.000 | 0.083 | |
| nichenet_build_model | 0 | 0 | 0 | |
| nichenet_expression_data | 0.024 | 0.000 | 0.024 | |
| nichenet_gr_network | 0.061 | 0.000 | 0.060 | |
| nichenet_gr_network_evex | 0.022 | 0.000 | 0.022 | |
| nichenet_gr_network_harmonizome | 0.024 | 0.000 | 0.025 | |
| nichenet_gr_network_htridb | 0.019 | 0.004 | 0.022 | |
| nichenet_gr_network_omnipath | 19.825 | 0.423 | 25.728 | |
| nichenet_gr_network_pathwaycommons | 0.027 | 0.000 | 0.043 | |
| nichenet_gr_network_regnetwork | 0.026 | 0.000 | 0.058 | |
| nichenet_gr_network_remap | 0.030 | 0.000 | 0.062 | |
| nichenet_gr_network_trrust | 0.017 | 0.004 | 0.021 | |
| nichenet_ligand_activities | 0 | 0 | 0 | |
| nichenet_ligand_target_links | 0 | 0 | 0 | |
| nichenet_ligand_target_matrix | 0 | 0 | 0 | |
| nichenet_lr_network | 0.065 | 0.004 | 0.084 | |
| nichenet_lr_network_guide2pharma | 0.023 | 0.005 | 0.099 | |
| nichenet_lr_network_omnipath | 0.081 | 0.000 | 0.217 | |
| nichenet_lr_network_ramilowski | 0.149 | 0.000 | 0.413 | |
| nichenet_main | 0.000 | 0.000 | 0.029 | |
| nichenet_networks | 0.118 | 0.007 | 0.431 | |
| nichenet_optimization | 0 | 0 | 0 | |
| nichenet_remove_orphan_ligands | 0.079 | 0.000 | 0.271 | |
| nichenet_results_dir | 0 | 0 | 0 | |
| nichenet_signaling_network | 0.071 | 0.008 | 0.283 | |
| nichenet_signaling_network_cpdb | 0.028 | 0.000 | 0.121 | |
| nichenet_signaling_network_evex | 0.026 | 0.000 | 0.071 | |
| nichenet_signaling_network_harmonizome | 0.026 | 0.004 | 0.107 | |
| nichenet_signaling_network_inbiomap | 0.001 | 0.000 | 0.000 | |
| nichenet_signaling_network_omnipath | 27.109 | 0.425 | 47.532 | |
| nichenet_signaling_network_pathwaycommons | 0.013 | 0.008 | 0.021 | |
| nichenet_signaling_network_vinayagam | 0.023 | 0.000 | 0.023 | |
| nichenet_test | 0.001 | 0.000 | 0.000 | |
| nichenet_workarounds | 0 | 0 | 0 | |
| obo_parser | 0.198 | 0.000 | 0.494 | |
| oma_code | 0.03 | 0.00 | 0.03 | |
| oma_organisms | 0.063 | 0.000 | 0.063 | |
| oma_pairwise | 0.014 | 0.000 | 0.014 | |
| omnipath | 4.237 | 0.057 | 4.684 | |
| omnipath_cache_autoclean | 0 | 0 | 0 | |
| omnipath_cache_clean | 0.011 | 0.000 | 0.024 | |
| omnipath_cache_clean_db | 0.149 | 0.004 | 0.217 | |
| omnipath_cache_download_ready | 0.829 | 0.065 | 1.137 | |
| omnipath_cache_filter_versions | 0.177 | 0.016 | 0.196 | |
| omnipath_cache_get | 0.153 | 0.017 | 0.170 | |
| omnipath_cache_key | 0.002 | 0.000 | 0.002 | |
| omnipath_cache_latest_or_new | 0.122 | 0.004 | 0.126 | |
| omnipath_cache_load | 1.146 | 0.032 | 3.740 | |
| omnipath_cache_move_in | 0.347 | 0.048 | 0.534 | |
| omnipath_cache_remove | 0.230 | 0.004 | 0.318 | |
| omnipath_cache_save | 0.417 | 0.045 | 0.712 | |
| omnipath_cache_search | 0.001 | 0.000 | 0.001 | |
| omnipath_cache_set_ext | 0.167 | 0.020 | 0.338 | |
| omnipath_cache_update_status | 0.187 | 0.020 | 0.239 | |
| omnipath_cache_wipe | 0.001 | 0.000 | 0.000 | |
| omnipath_get_config_path | 0.000 | 0.001 | 0.001 | |
| omnipath_load_config | 0 | 0 | 0 | |
| omnipath_log | 0.000 | 0.001 | 0.000 | |
| omnipath_logfile | 0.001 | 0.001 | 0.001 | |
| omnipath_msg | 0.013 | 0.000 | 0.029 | |
| omnipath_reset_config | 0 | 0 | 0 | |
| omnipath_save_config | 0.001 | 0.000 | 0.001 | |
| omnipath_set_cachedir | 0.056 | 0.004 | 0.124 | |
| omnipath_set_console_loglevel | 0.002 | 0.000 | 0.002 | |
| omnipath_set_logfile_loglevel | 0.002 | 0.000 | 0.002 | |
| omnipath_set_loglevel | 0.001 | 0.000 | 0.001 | |
| omnipath_show_db | 0.111 | 0.000 | 0.159 | |
| omnipath_unlock_cache_db | 0.000 | 0.000 | 0.016 | |
| only_from | 0 | 0 | 0 | |
| ontology_ensure_id | 0.001 | 0.000 | 0.001 | |
| ontology_ensure_name | 0.001 | 0.000 | 0.001 | |
| ontology_name_id | 0.001 | 0.000 | 0.001 | |
| pathwaycommons_download | 0 | 0 | 0 | |
| pivot_annotations | 16.718 | 0.584 | 41.189 | |
| preppi_download | 0.001 | 0.000 | 0.002 | |
| preppi_filter | 0.001 | 0.000 | 0.002 | |
| print_bma_motif_es | 0.308 | 0.024 | 1.340 | |
| print_bma_motif_vs | 0.216 | 0.000 | 0.975 | |
| print_interactions | 8.393 | 0.354 | 24.654 | |
| print_path_es | 1.182 | 0.087 | 4.903 | |
| print_path_vs | 4.118 | 0.132 | 12.783 | |
| pubmed_open | 8.963 | 0.727 | 12.377 | |
| query_info | 0.194 | 0.004 | 0.578 | |
| ramilowski_download | 0.001 | 0.000 | 0.001 | |
| regnetwork_directions | 0.001 | 0.000 | 0.001 | |
| regnetwork_download | 0.001 | 0.000 | 0.001 | |
| relations_list_to_table | 0.131 | 0.000 | 0.169 | |
| relations_table_to_graph | 0.001 | 0.000 | 0.000 | |
| relations_table_to_list | 0.072 | 0.020 | 0.095 | |
| remap_dorothea_download | 0.001 | 0.000 | 0.001 | |
| remap_filtered | 0 | 0 | 0 | |
| remap_tf_target_download | 0 | 0 | 0 | |
| resource_info | 0.249 | 0.037 | 1.013 | |
| resources_colname | 0.863 | 0.135 | 3.242 | |
| show_network | 0 | 0 | 0 | |
| simplify_intercell_network | 0.003 | 0.000 | 0.003 | |
| static_table | 9.440 | 0.795 | 78.362 | |
| static_tables | 0.103 | 0.008 | 0.119 | |
| swap_relations | 0.122 | 0.008 | 0.133 | |
| swissprots_only | 0.044 | 0.000 | 0.045 | |
| tfcensus_download | 0.251 | 0.008 | 0.415 | |
| translate_ids | 0.001 | 0.000 | 0.001 | |
| trembls_only | 0.032 | 0.000 | 0.032 | |
| trrust_download | 0.001 | 0.000 | 0.001 | |
| uniprot_full_id_mapping_table | 0.000 | 0.000 | 0.001 | |
| uniprot_genesymbol_cleanup | 0 | 0 | 0 | |
| uniprot_id_mapping_table | 0.001 | 0.000 | 0.001 | |
| uniprot_id_type | 0.003 | 0.000 | 0.002 | |
| uniprot_idmapping_id_types | 0.387 | 0.032 | 3.503 | |
| unique_intercell_network | 0.000 | 0.002 | 0.002 | |
| unnest_evidences | 0 | 0 | 0 | |
| uploadlists_id_type | 0.002 | 0.003 | 0.005 | |
| vinayagam_download | 0.000 | 0.001 | 0.002 | |
| walk_ontology_tree | 0.000 | 0.002 | 0.002 | |
| with_extra_attrs | 15.756 | 0.472 | 33.352 | |
| with_references | 0.830 | 0.096 | 3.228 | |
| zenodo_download | 0.001 | 0.000 | 0.001 | |