| Back to Multiple platform build/check report for BioC 3.18: simplified long | 
 | 
This page was generated on 2024-04-17 11:38:01 -0400 (Wed, 17 Apr 2024).
| Hostname | OS | Arch (*) | R version | Installed pkgs | 
|---|---|---|---|---|
| nebbiolo2 | Linux (Ubuntu 22.04.3 LTS) | x86_64 | 4.3.3 (2024-02-29) -- "Angel Food Cake" | 4676 | 
| palomino4 | Windows Server 2022 Datacenter | x64 | 4.3.3 (2024-02-29 ucrt) -- "Angel Food Cake" | 4414 | 
| merida1 | macOS 12.7.1 Monterey | x86_64 | 4.3.3 (2024-02-29) -- "Angel Food Cake" | 4437 | 
| Click on any hostname to see more info about the system (e.g. compilers) (*) as reported by 'uname -p', except on Windows and Mac OS X | ||||
| Package 1447/2266 | Hostname | OS / Arch | INSTALL | BUILD | CHECK | BUILD BIN | ||||||||
| Ahmed A. Metwally 
 | nebbiolo2 | Linux (Ubuntu 22.04.3 LTS) / x86_64 | ERROR | ERROR | skipped | |||||||||
| palomino4 | Windows Server 2022 Datacenter / x64 | ERROR | ERROR | skipped | skipped | |||||||||
| merida1 | macOS 12.7.1 Monterey / x86_64 | ERROR | ERROR | skipped | skipped | |||||||||
| kjohnson1 | macOS 13.6.1 Ventura / arm64 | see weekly results here | ||||||||||||
| To the developers/maintainers of the OmicsLonDA package: - Allow up to 24 hours (and sometimes 48 hours) for your latest push to git@git.bioconductor.org:packages/OmicsLonDA.git to reflect on this report. See Troubleshooting Build Report for more information. - Use the following Renviron settings to reproduce errors and warnings. - If 'R CMD check' started to fail recently on the Linux builder(s) over a missing dependency, add the missing dependency to 'Suggests:' in your DESCRIPTION file. See Renviron.bioc for more information. | 
| Package: OmicsLonDA | 
| Version: 1.18.0 | 
| Command: /Library/Frameworks/R.framework/Resources/bin/R CMD build --keep-empty-dirs --no-resave-data OmicsLonDA | 
| StartedAt: 2024-04-15 20:34:21 -0400 (Mon, 15 Apr 2024) | 
| EndedAt: 2024-04-15 20:34:55 -0400 (Mon, 15 Apr 2024) | 
| EllapsedTime: 34.7 seconds | 
| RetCode: 1 | 
| Status: ERROR | 
| PackageFile: None | 
| PackageFileSize: NA | 
##############################################################################
##############################################################################
###
### Running command:
###
###   /Library/Frameworks/R.framework/Resources/bin/R CMD build --keep-empty-dirs --no-resave-data OmicsLonDA
###
##############################################################################
##############################################################################
* checking for file ‘OmicsLonDA/DESCRIPTION’ ... OK
* preparing ‘OmicsLonDA’:
* checking DESCRIPTION meta-information ... OK
* installing the package to build vignettes
      -----------------------------------
* installing *source* package ‘OmicsLonDA’ ...
** using staged installation
** R
** data
*** moving datasets to lazyload DB
Warning: namespace ‘OmicsLonDA’ is not available and has been replaced
by .GlobalEnv when processing object ‘omicslonda_data_example’
Warning: namespace ‘OmicsLonDA’ is not available and has been replaced
by .GlobalEnv when processing object ‘omicslonda_data_example’
** byte-compile and prepare package for lazy loading
Error: object ‘colMeans’ is not exported by 'namespace:BiocGenerics'
Execution halted
ERROR: lazy loading failed for package ‘OmicsLonDA’
* removing ‘/private/tmp/RtmpeMbAaK/Rinstbf3b60afda58/OmicsLonDA’
      -----------------------------------
ERROR: package installation failed